Back to Build/check report for BioC 3.22:   simplified   long
ABC[D]EFGHIJKLMNOPQRSTUVWXYZ

This page was generated on 2025-11-13 11:55 -0500 (Thu, 13 Nov 2025).

HostnameOSArch (*)R versionInstalled pkgs
taishanLinux (openEuler 24.03 LTS)aarch644.5.0 (2025-04-11) -- "How About a Twenty-Six" 4668
Click on any hostname to see more info about the system (e.g. compilers)      (*) as reported by 'uname -p', except on Windows and Mac OS X

Package 606/2361HostnameOS / ArchINSTALLBUILDCHECKBUILD BIN
DMRcaller 1.42.0  (landing page)
Nicolae Radu Zabet
Snapshot Date: 2025-11-12 13:45 -0500 (Wed, 12 Nov 2025)
git_url: https://git.bioconductor.org/packages/DMRcaller
git_branch: RELEASE_3_22
git_last_commit: ba466d4
git_last_commit_date: 2025-10-29 10:25:12 -0500 (Wed, 29 Oct 2025)
taishanLinux (openEuler 24.03 LTS) / aarch64  OK    OK    OK  


CHECK results for DMRcaller on taishan

To the developers/maintainers of the DMRcaller package:
- Allow up to 24 hours (and sometimes 48 hours) for your latest push to git@git.bioconductor.org:packages/DMRcaller.git to reflect on this report. See Troubleshooting Build Report for more information.
- Use the following Renviron settings to reproduce errors and warnings.
- If 'R CMD check' started to fail recently on the Linux builder(s) over a missing dependency, add the missing dependency to 'Suggests:' in your DESCRIPTION file. See Renviron.bioc for more information.
- See Martin Grigorov's blog post for how to debug Linux ARM64 related issues on a x86_64 host.

raw results


Summary

Package: DMRcaller
Version: 1.42.0
Command: /home/biocbuild/R/R/bin/R CMD check --install=check:DMRcaller.install-out.txt --library=/home/biocbuild/R/R/site-library --no-vignettes --timings DMRcaller_1.42.0.tar.gz
StartedAt: 2025-11-11 09:12:44 -0000 (Tue, 11 Nov 2025)
EndedAt: 2025-11-11 09:25:25 -0000 (Tue, 11 Nov 2025)
EllapsedTime: 761.7 seconds
RetCode: 0
Status:   OK  
CheckDir: DMRcaller.Rcheck
Warnings: 0

Command output

##############################################################################
##############################################################################
###
### Running command:
###
###   /home/biocbuild/R/R/bin/R CMD check --install=check:DMRcaller.install-out.txt --library=/home/biocbuild/R/R/site-library --no-vignettes --timings DMRcaller_1.42.0.tar.gz
###
##############################################################################
##############################################################################


* using log directory ‘/home/biocbuild/bbs-3.22-bioc/meat/DMRcaller.Rcheck’
* using R version 4.5.0 (2025-04-11)
* using platform: aarch64-unknown-linux-gnu
* R was compiled by
    aarch64-unknown-linux-gnu-gcc (GCC) 14.2.0
    GNU Fortran (GCC) 14.2.0
* running under: openEuler 24.03 (LTS)
* using session charset: UTF-8
* using option ‘--no-vignettes’
* checking for file ‘DMRcaller/DESCRIPTION’ ... OK
* checking extension type ... Package
* this is package ‘DMRcaller’ version ‘1.42.0’
* package encoding: UTF-8
* checking package namespace information ... OK
* checking package dependencies ... OK
* checking if this is a source package ... OK
* checking if there is a namespace ... OK
* checking for hidden files and directories ... OK
* checking for portable file names ... OK
* checking for sufficient/correct file permissions ... OK
* checking whether package ‘DMRcaller’ can be installed ... OK
* checking installed package size ... OK
* checking package directory ... OK
* checking ‘build’ directory ... OK
* checking DESCRIPTION meta-information ... NOTE
Packages listed in more than one of Depends, Imports, Suggests, Enhances:
  ‘GenomicRanges’ ‘S4Vectors’ ‘IRanges’ ‘betareg’
A package should be listed in only one of these fields.
* checking top-level files ... OK
* checking for left-over files ... OK
* checking index information ... OK
* checking package subdirectories ... OK
* checking code files for non-ASCII characters ... OK
* checking R files for syntax errors ... OK
* checking whether the package can be loaded ... OK
* checking whether the package can be loaded with stated dependencies ... OK
* checking whether the package can be unloaded cleanly ... OK
* checking whether the namespace can be loaded with stated dependencies ... OK
* checking whether the namespace can be unloaded cleanly ... OK
* checking loading without being on the library search path ... OK
* checking dependencies in R code ... NOTE
Namespaces in Imports field not imported from:
  ‘BiocManager’ ‘GenomeInfoDb’ ‘Seqinfo’
  All declared Imports should be used.
* checking S3 generic/method consistency ... OK
* checking replacement functions ... OK
* checking foreign function calls ... OK
* checking R code for possible problems ... NOTE
.validateModif: no visible global function definition for ‘seqlengths’
extractGC: no visible global function definition for ‘seqlevels’
readONTbam: no visible binding for global variable
  ‘BSgenome.Hsapiens.UCSC.hg38’
readONTbam: no visible global function definition for ‘seqlengths’
selectCytosine: no visible binding for global variable
  ‘BSgenome.Hsapiens.UCSC.hg38’
selectCytosine : <anonymous>: no visible global function definition for
  ‘seqlengths’
selectCytosine : <anonymous>: no visible global function definition for
  ‘seqlevels<-’
selectCytosine : <anonymous>: no visible global function definition for
  ‘seqlengths<-’
selectCytosine: no visible global function definition for ‘seqlevels<-’
selectCytosine: no visible global function definition for ‘seqlevels’
Undefined global functions or variables:
  BSgenome.Hsapiens.UCSC.hg38 seqlengths seqlengths<- seqlevels
  seqlevels<-
* checking Rd files ... OK
* checking Rd metadata ... OK
* checking Rd cross-references ... NOTE
Found the following Rd file(s) with Rd \link{} targets missing package
anchors:
  analyseReadsInsideRegionsForCondition.Rd: GRanges
  computeDMRs.Rd: GRanges
  computeMethylationDataCoverage.Rd: GRanges
  computeMethylationProfile.Rd: GRanges
  computeOverlapProfile.Rd: GRanges
  computeVMDs.Rd: GRanges
  extractGC.Rd: GRanges
  filterDMRs.Rd: GRanges
  filterVMDs.Rd: GRanges
  getWholeChromosomes.Rd: GRanges
  mergeDMRsIteratively.Rd: GRanges
  plotLocalMethylationProfile.Rd: GRanges, GRangesList
  plotMethylationDataCoverage.Rd: GRanges
  plotMethylationProfile.Rd: GRanges
  plotMethylationProfileFromData.Rd: GRanges
  plotOverlapProfile.Rd: GRanges
  poolMethylationDatasets.Rd: GRangesList, GRanges
  poolTwoMethylationDatasets.Rd: GRanges
  readBismark.Rd: GRanges
  readBismarkPool.Rd: GRanges
  saveBismark.Rd: GRanges
Please provide package anchors for all Rd \link{} targets not in the
package itself and the base packages.
* checking for missing documentation entries ... OK
* checking for code/documentation mismatches ... OK
* checking Rd \usage sections ... OK
* checking Rd contents ... OK
* checking for unstated dependencies in examples ... OK
* checking contents of ‘data’ directory ... OK
* checking data for non-ASCII characters ... OK
* checking data for ASCII and uncompressed saves ... OK
* checking files in ‘vignettes’ ... OK
* checking examples ... OK
Examples with CPU (user + system) or elapsed time > 5s
                        user system elapsed
computePMDs          115.579  0.622 116.499
filterVMDs            44.069  0.176  44.321
computeDMRs           14.182  0.299  14.558
mergeDMRsIteratively  14.434  0.040  14.511
mergePMDsIteratively   5.635  0.047   5.695
* checking for unstated dependencies in ‘tests’ ... OK
* checking tests ...
  Running ‘runTests.R’
 OK
* checking for unstated dependencies in vignettes ... OK
* checking package vignettes ... OK
* checking running R code from vignettes ... SKIPPED
* checking re-building of vignette outputs ... SKIPPED
* checking PDF version of manual ... OK
* DONE

Status: 4 NOTEs
See
  ‘/home/biocbuild/bbs-3.22-bioc/meat/DMRcaller.Rcheck/00check.log’
for details.


Installation output

DMRcaller.Rcheck/00install.out

##############################################################################
##############################################################################
###
### Running command:
###
###   /home/biocbuild/R/R/bin/R CMD INSTALL DMRcaller
###
##############################################################################
##############################################################################


* installing to library ‘/home/biocbuild/R/R-4.5.0/site-library’
* installing *source* package ‘DMRcaller’ ...
** this is package ‘DMRcaller’ version ‘1.42.0’
** using staged installation
** R
** data
** inst
** byte-compile and prepare package for lazy loading
** help
*** installing help indices
** building package indices
** installing vignettes
** testing if installed package can be loaded from temporary location
** testing if installed package can be loaded from final location
** testing if installed package keeps a record of temporary installation path
* DONE (DMRcaller)

Tests output

DMRcaller.Rcheck/tests/runTests.Rout


R version 4.5.0 (2025-04-11) -- "How About a Twenty-Six"
Copyright (C) 2025 The R Foundation for Statistical Computing
Platform: aarch64-unknown-linux-gnu

R is free software and comes with ABSOLUTELY NO WARRANTY.
You are welcome to redistribute it under certain conditions.
Type 'license()' or 'licence()' for distribution details.

R is a collaborative project with many contributors.
Type 'contributors()' for more information and
'citation()' on how to cite R or R packages in publications.

Type 'demo()' for some demos, 'help()' for on-line help, or
'help.start()' for an HTML browser interface to help.
Type 'q()' to quit R.

> BiocGenerics:::testPackage("DMRcaller")

Attaching package: 'generics'

The following objects are masked from 'package:base':

    as.difftime, as.factor, as.ordered, intersect, is.element, setdiff,
    setequal, union


Attaching package: 'BiocGenerics'

The following objects are masked from 'package:stats':

    IQR, mad, sd, var, xtabs

The following objects are masked from 'package:base':

    Filter, Find, Map, Position, Reduce, anyDuplicated, aperm, append,
    as.data.frame, basename, cbind, colnames, dirname, do.call,
    duplicated, eval, evalq, get, grep, grepl, is.unsorted, lapply,
    mapply, match, mget, order, paste, pmax, pmax.int, pmin, pmin.int,
    rank, rbind, rownames, sapply, saveRDS, table, tapply, unique,
    unsplit, which.max, which.min


Attaching package: 'S4Vectors'

The following object is masked from 'package:utils':

    findMatches

The following objects are masked from 'package:base':

    I, expand.grid, unname

Parameters checking ...
Using user-specified core count: 1
Current parallel setting, BPPARAM: 
class: SerialParam
  bpisup: FALSE; bpnworkers: 1; bptasks: 2147483647; bpjobname: BPJOB
  bplog: FALSE; bpthreshold: INFO; bpstopOnError: TRUE
  bpRNGseed: ; bptimeout: NA; bpprogressbar: TRUE
  bpexportglobals: FALSE; bpexportvariables: FALSE; bpforceGC: FALSE
  bpfallback: FALSE
  bplogdir: NA
  bpresultdir: NA
Extract methylation in the corresponding context 
Loading required namespace: GenomeInfoDb
Computing DMRs 
Merge adjacent DMRs
Merge DMRs iteratively
Filter DMRs 
Parameters checking ...
Current parallel setting, BPPARAM: 
class: SerialParam
  bpisup: FALSE; bpnworkers: 1; bptasks: 2147483647; bpjobname: BPJOB
  bplog: FALSE; bpthreshold: INFO; bpstopOnError: TRUE
  bpRNGseed: ; bptimeout: NA; bpprogressbar: TRUE
  bpexportglobals: FALSE; bpexportvariables: FALSE; bpforceGC: FALSE
  bpfallback: FALSE
  bplogdir: NA
  bpresultdir: NA
Extract methylation in the corresponding context 
Computing DMRs at  Chr1:1..4976 
Calculating interpolations...
Identifying DMRs...
Analysed reads inside DMRs
Merge DMRs iteratively
Filter DMRs 
Parameters checking ...
Current parallel setting, BPPARAM: 
class: SerialParam
  bpisup: FALSE; bpnworkers: 1; bptasks: 2147483647; bpjobname: BPJOB
  bplog: FALSE; bpthreshold: INFO; bpstopOnError: TRUE
  bpRNGseed: ; bptimeout: NA; bpprogressbar: TRUE
  bpexportglobals: FALSE; bpexportvariables: FALSE; bpforceGC: FALSE
  bpfallback: FALSE
  bplogdir: NA
  bpresultdir: NA
Extract methylation in the corresponding context 
Computing DMRs at  Chr1:1..4976 
Selecting data...
Identifying DMRs...
Validating objects 
Finding overlaps 
Joining objects 
Parameters checking ...
Using user-specified core count: 1
Current parallel setting, BPPARAM: 
class: SerialParam
  bpisup: FALSE; bpnworkers: 1; bptasks: 2147483647; bpjobname: BPJOB
  bplog: FALSE; bpthreshold: INFO; bpstopOnError: TRUE
  bpRNGseed: ; bptimeout: NA; bpprogressbar: TRUE
  bpexportglobals: FALSE; bpexportvariables: FALSE; bpforceGC: FALSE
  bpfallback: FALSE
  bplogdir: NA
  bpresultdir: NA
Extract methylation in the corresponding context 
Computing DMRs at  Chr1:1..4976 
Count inside each bin...
Filter the bins...
Identifying DMRs...
Merge adjacent DMRs
Merge DMRs iteratively
Filter DMRs 
Parameters checking ...
Current parallel setting, BPPARAM: 
class: SerialParam
  bpisup: FALSE; bpnworkers: 1; bptasks: 2147483647; bpjobname: BPJOB
  bplog: FALSE; bpthreshold: INFO; bpstopOnError: TRUE
  bpRNGseed: ; bptimeout: NA; bpprogressbar: TRUE
  bpexportglobals: FALSE; bpexportvariables: FALSE; bpforceGC: FALSE
  bpfallback: FALSE
  bplogdir: NA
  bpresultdir: NA
Merge DMRs iteratively ...
Loading required package: GenomeInfoDb
Loading required package: BSgenome
Loading required package: Biostrings
Loading required package: XVector

Attaching package: 'Biostrings'

The following object is masked from 'package:base':

    strsplit

Loading required package: BiocIO
Loading required package: rtracklayer
Parameters checking ...
Parameters checking ...
Select the Cytosine Positions in the specified BSgenome ...
Current parallel setting, BPPARAM: 
class: SerialParam
  bpisup: FALSE; bpnworkers: 1; bptasks: 2147483647; bpjobname: BPJOB
  bplog: FALSE; bpthreshold: INFO; bpstopOnError: TRUE
  bpRNGseed: ; bptimeout: NA; bpprogressbar: TRUE
  bpexportglobals: FALSE; bpexportvariables: FALSE; bpforceGC: FALSE
  bpfallback: FALSE
  bplogdir: NA
  bpresultdir: NA
[readONTbam] Generating index file for BAM ...
[readONTbam] Loading BAM ...
Step 1 (scanBam): 0.16 sec
[readONTbam] Filtering invalid or empty reads ...
Step 2 (filter): 0.31 sec
[readONTbam] Generating cytosine position list and indel_info ...
[readONTbam] Start Decoding MM/ML ...

  |                                                                            
  |                                                                      |   0%[readONTbam] Decoding MM/ML: 20% (1/5 reads)

  |                                                                            
  |==============                                                        |  20%[readONTbam] Decoding MM/ML: 40% (2/5 reads)

  |                                                                            
  |============================                                          |  40%[readONTbam] Decoding MM/ML: 60% (3/5 reads)

  |                                                                            
  |==========================================                            |  60%[readONTbam] Decoding MM/ML: 80% (4/5 reads)

  |                                                                            
  |========================================================              |  80%[readONTbam] Decoding MM/ML: 100% (5/5 reads)

  |                                                                            
  |======================================================================| 100%

Step 3 (decode Bam file): 10.85 sec
[readONTbam] Calculating overlaps with reference cytosines ...
Step 4 (coverage): 3.98 sec
[readONTbam] Annotating high-confidence modified reads ...
Step 5 (ONT_Cm & readsM meta-column): 1.39 sec
[readONTbam] Annotating unmodified (covered) reads & Calculating coverage per position...
Step 6 (ONT_C & readsN meta-column): 1.30 sec
[readONTbam] Done. Returning annotated GRanges.
Total: 18.00 sec


RUNIT TEST PROTOCOL -- Tue Nov 11 09:25:20 2025 
*********************************************** 
Number of test functions: 7 
Number of errors: 0 
Number of failures: 0 

 
1 Test Suite : 
DMRcaller RUnit Tests - 7 test functions, 0 errors, 0 failures
Number of test functions: 7 
Number of errors: 0 
Number of failures: 0 
There were 36 warnings (use warnings() to see them)
> 
> proc.time()
   user  system elapsed 
250.434   3.517 254.619 

Example timings

DMRcaller.Rcheck/DMRcaller-Ex.timings

nameusersystemelapsed
DMRcaller0.0020.0000.002
analyseReadsInsideRegionsForCondition1.3580.0361.397
analyseReadsInsideRegionsForConditionPMD0.8850.0200.908
computeCoMethylatedPositions000
computeCoMethylatedRegions0.5160.0440.562
computeDMRs14.182 0.29914.558
computeDMRsReplicates000
computeMethylationDataCoverage0.5010.0200.522
computeMethylationDataSpatialCorrelation1.2560.0721.331
computeMethylationProfile1.4920.0281.525
computeOverlapProfile2.1290.0122.148
computePMDs115.579 0.622116.499
computeVMDs000
extractGC000
filterDMRs2.2620.0122.279
filterPMDs2.6200.0082.635
filterVMDs44.069 0.17644.321
filterVMRsONT000
getWholeChromosomes0.1750.0080.184
joinReplicates0.6540.0200.676
mergeDMRsIteratively14.434 0.04014.511
mergePMDsIteratively5.6350.0475.695
plotLocalMethylationProfile1.8140.0801.897
plotMethylationDataCoverage0.9200.0400.962
plotMethylationDataSpatialCorrelation1.0410.0041.048
plotMethylationProfile1.4180.0001.421
plotMethylationProfileFromData3.6570.0003.665
plotOverlapProfile2.3050.0122.321
poolMethylationDatasets0.6110.0040.616
poolTwoMethylationDatasets0.6350.0000.637
readBismark1.6720.0121.686
readBismarkPool3.8940.0563.972
readONTbam000
saveBismark1.0120.0201.044
selectCytosine000