| Back to Multiple platform build/check report for BioC 3.21: simplified long |
|
This page was generated on 2025-04-22 13:17 -0400 (Tue, 22 Apr 2025).
| Hostname | OS | Arch (*) | R version | Installed pkgs |
|---|---|---|---|---|
| nebbiolo1 | Linux (Ubuntu 24.04.1 LTS) | x86_64 | 4.5.0 RC (2025-04-04 r88126) -- "How About a Twenty-Six" | 4831 |
| palomino7 | Windows Server 2022 Datacenter | x64 | 4.5.0 RC (2025-04-04 r88126 ucrt) -- "How About a Twenty-Six" | 4573 |
| lconway | macOS 12.7.1 Monterey | x86_64 | 4.5.0 RC (2025-04-04 r88126) -- "How About a Twenty-Six" | 4599 |
| kjohnson3 | macOS 13.7.1 Ventura | arm64 | 4.5.0 RC (2025-04-04 r88126) -- "How About a Twenty-Six" | 4553 |
| kunpeng2 | Linux (openEuler 24.03 LTS) | aarch64 | R Under development (unstable) (2025-02-19 r87757) -- "Unsuffered Consequences" | 4570 |
| Click on any hostname to see more info about the system (e.g. compilers) (*) as reported by 'uname -p', except on Windows and Mac OS X | ||||
| Package 600/2341 | Hostname | OS / Arch | INSTALL | BUILD | CHECK | BUILD BIN | ||||||||
| DMRcaller 1.40.0 (landing page) Nicolae Radu Zabet
| nebbiolo1 | Linux (Ubuntu 24.04.1 LTS) / x86_64 | OK | OK | OK | |||||||||
| palomino7 | Windows Server 2022 Datacenter / x64 | OK | OK | OK | OK | |||||||||
| lconway | macOS 12.7.1 Monterey / x86_64 | OK | OK | OK | OK | |||||||||
| kjohnson3 | macOS 13.7.1 Ventura / arm64 | OK | OK | OK | OK | |||||||||
| kunpeng2 | Linux (openEuler 24.03 LTS) / aarch64 | OK | OK | OK | ||||||||||
|
To the developers/maintainers of the DMRcaller package: - Allow up to 24 hours (and sometimes 48 hours) for your latest push to git@git.bioconductor.org:packages/DMRcaller.git to reflect on this report. See Troubleshooting Build Report for more information. - Use the following Renviron settings to reproduce errors and warnings. - If 'R CMD check' started to fail recently on the Linux builder(s) over a missing dependency, add the missing dependency to 'Suggests:' in your DESCRIPTION file. See Renviron.bioc for more information. |
| Package: DMRcaller |
| Version: 1.40.0 |
| Command: /Library/Frameworks/R.framework/Resources/bin/R CMD check --install=check:DMRcaller.install-out.txt --library=/Library/Frameworks/R.framework/Resources/library --no-vignettes --timings DMRcaller_1.40.0.tar.gz |
| StartedAt: 2025-04-21 19:09:14 -0400 (Mon, 21 Apr 2025) |
| EndedAt: 2025-04-21 19:10:54 -0400 (Mon, 21 Apr 2025) |
| EllapsedTime: 100.2 seconds |
| RetCode: 0 |
| Status: OK |
| CheckDir: DMRcaller.Rcheck |
| Warnings: 0 |
##############################################################################
##############################################################################
###
### Running command:
###
### /Library/Frameworks/R.framework/Resources/bin/R CMD check --install=check:DMRcaller.install-out.txt --library=/Library/Frameworks/R.framework/Resources/library --no-vignettes --timings DMRcaller_1.40.0.tar.gz
###
##############################################################################
##############################################################################
* using log directory ‘/Users/biocbuild/bbs-3.21-bioc/meat/DMRcaller.Rcheck’
* using R version 4.5.0 RC (2025-04-04 r88126)
* using platform: aarch64-apple-darwin20
* R was compiled by
Apple clang version 14.0.0 (clang-1400.0.29.202)
GNU Fortran (GCC) 14.2.0
* running under: macOS Ventura 13.7.1
* using session charset: UTF-8
* using option ‘--no-vignettes’
* checking for file ‘DMRcaller/DESCRIPTION’ ... OK
* checking extension type ... Package
* this is package ‘DMRcaller’ version ‘1.40.0’
* checking package namespace information ... OK
* checking package dependencies ... OK
* checking if this is a source package ... OK
* checking if there is a namespace ... OK
* checking for hidden files and directories ... OK
* checking for portable file names ... OK
* checking for sufficient/correct file permissions ... OK
* checking whether package ‘DMRcaller’ can be installed ... OK
* checking installed package size ... OK
* checking package directory ... OK
* checking ‘build’ directory ... OK
* checking DESCRIPTION meta-information ... OK
* checking top-level files ... OK
* checking for left-over files ... OK
* checking index information ... OK
* checking package subdirectories ... OK
* checking code files for non-ASCII characters ... OK
* checking R files for syntax errors ... OK
* checking whether the package can be loaded ... OK
* checking whether the package can be loaded with stated dependencies ... OK
* checking whether the package can be unloaded cleanly ... OK
* checking whether the namespace can be loaded with stated dependencies ... OK
* checking whether the namespace can be unloaded cleanly ... OK
* checking dependencies in R code ... OK
* checking S3 generic/method consistency ... OK
* checking replacement functions ... OK
* checking foreign function calls ... OK
* checking R code for possible problems ... NOTE
extractGC: no visible global function definition for ‘getSeq’
extractGC: no visible global function definition for ‘seqlevels’
Undefined global functions or variables:
getSeq seqlevels
* checking Rd files ... OK
* checking Rd metadata ... OK
* checking Rd cross-references ... NOTE
Found the following Rd file(s) with Rd \link{} targets missing package
anchors:
DMRcaller.Rd: GRanges
DMRsNoiseFilterCG.Rd: GRanges
analyseReadsInsideRegionsForCondition.Rd: GRanges
computeDMRs.Rd: GRanges
computeDMRsReplicates.Rd: GRanges
computeMethylationDataCoverage.Rd: GRanges
computeMethylationDataSpatialCorrelation.Rd: GRanges
computeMethylationProfile.Rd: GRanges
computeOverlapProfile.Rd: GRanges
extractGC.Rd: GRanges
filterDMRs.Rd: GRanges
getWholeChromosomes.Rd: GRanges
joinReplicates.Rd: GRanges
mergeDMRsIteratively.Rd: GRanges
plotLocalMethylationProfile.Rd: GRanges, GRangesList
plotMethylationDataCoverage.Rd: GRanges
plotMethylationDataSpatialCorrelation.Rd: GRanges
plotMethylationProfile.Rd: GRanges
plotMethylationProfileFromData.Rd: GRanges
plotOverlapProfile.Rd: GRanges
poolMethylationDatasets.Rd: GRangesList, GRanges
poolTwoMethylationDatasets.Rd: GRanges
readBismark.Rd: GRanges
readBismarkPool.Rd: GRanges
saveBismark.Rd: GRanges
syntheticDataReplicates.Rd: GRanges
Please provide package anchors for all Rd \link{} targets not in the
package itself and the base packages.
* checking for missing documentation entries ... OK
* checking for code/documentation mismatches ... OK
* checking Rd \usage sections ... OK
* checking Rd contents ... OK
* checking for unstated dependencies in examples ... OK
* checking contents of ‘data’ directory ... OK
* checking data for non-ASCII characters ... OK
* checking data for ASCII and uncompressed saves ... OK
* checking sizes of PDF files under ‘inst/doc’ ... OK
* checking files in ‘vignettes’ ... OK
* checking examples ... OK
* checking for unstated dependencies in ‘tests’ ... OK
* checking tests ...
Running ‘runTests.R’
OK
* checking for unstated dependencies in vignettes ... OK
* checking package vignettes ... OK
* checking running R code from vignettes ... SKIPPED
* checking re-building of vignette outputs ... SKIPPED
* checking PDF version of manual ... OK
* DONE
Status: 2 NOTEs
See
‘/Users/biocbuild/bbs-3.21-bioc/meat/DMRcaller.Rcheck/00check.log’
for details.
DMRcaller.Rcheck/00install.out
############################################################################## ############################################################################## ### ### Running command: ### ### /Library/Frameworks/R.framework/Resources/bin/R CMD INSTALL DMRcaller ### ############################################################################## ############################################################################## * installing to library ‘/Library/Frameworks/R.framework/Versions/4.5-arm64/Resources/library’ * installing *source* package ‘DMRcaller’ ... ** this is package ‘DMRcaller’ version ‘1.40.0’ ** using staged installation ** R ** data ** inst ** byte-compile and prepare package for lazy loading ** help *** installing help indices ** building package indices ** installing vignettes ** testing if installed package can be loaded from temporary location ** testing if installed package can be loaded from final location ** testing if installed package keeps a record of temporary installation path * DONE (DMRcaller)
DMRcaller.Rcheck/tests/runTests.Rout
R version 4.5.0 RC (2025-04-04 r88126) -- "How About a Twenty-Six"
Copyright (C) 2025 The R Foundation for Statistical Computing
Platform: aarch64-apple-darwin20
R is free software and comes with ABSOLUTELY NO WARRANTY.
You are welcome to redistribute it under certain conditions.
Type 'license()' or 'licence()' for distribution details.
R is a collaborative project with many contributors.
Type 'contributors()' for more information and
'citation()' on how to cite R or R packages in publications.
Type 'demo()' for some demos, 'help()' for on-line help, or
'help.start()' for an HTML browser interface to help.
Type 'q()' to quit R.
> BiocGenerics:::testPackage("DMRcaller")
Attaching package: 'generics'
The following objects are masked from 'package:base':
as.difftime, as.factor, as.ordered, intersect, is.element, setdiff,
setequal, union
Attaching package: 'BiocGenerics'
The following objects are masked from 'package:stats':
IQR, mad, sd, var, xtabs
The following objects are masked from 'package:base':
Filter, Find, Map, Position, Reduce, anyDuplicated, aperm, append,
as.data.frame, basename, cbind, colnames, dirname, do.call,
duplicated, eval, evalq, get, grep, grepl, is.unsorted, lapply,
mapply, match, mget, order, paste, pmax, pmax.int, pmin, pmin.int,
rank, rbind, rownames, sapply, saveRDS, table, tapply, unique,
unsplit, which.max, which.min
Attaching package: 'S4Vectors'
The following object is masked from 'package:utils':
findMatches
The following objects are masked from 'package:base':
I, expand.grid, unname
Parameters checking ...
Extract methylation in the corresponding context
Computing DMRs
Merge adjacent DMRs
Merge DMRs iteratively
Filter DMRs
Parameters checking ...
Extract methylation in the corresponding context
Computing DMRs at Chr1:1..4976
Calculating interpolations...
Identifying DMRs...
Analysed reads inside DMRs
Merge DMRs iteratively
Filter DMRs
Parameters checking ...
Extract methylation in the corresponding context
Computing DMRs at Chr1:1..4976
Selecting data...
Identifying DMRs...
Validating objects
Finding overlaps
Joining objects
Parameters checking ...
Extract methylation in the corresponding context
Computing DMRs at Chr1:1..4976
Count inside each bin...
Filter the bins...
Identifying DMRs...
Merge adjacent DMRs
Merge DMRs iteratively
Filter DMRs
Parameters checking ...
Merge DMRs iteratively ...
RUNIT TEST PROTOCOL -- Mon Apr 21 19:10:49 2025
***********************************************
Number of test functions: 6
Number of errors: 0
Number of failures: 0
1 Test Suite :
DMRcaller RUnit Tests - 6 test functions, 0 errors, 0 failures
Number of test functions: 6
Number of errors: 0
Number of failures: 0
Warning message:
In fisher.test(matrix(unlist(x), nrow = 2, byrow = TRUE), alternative = alternative) :
'x' has been rounded to integer: Mean relative difference: 0.002857143
>
> proc.time()
user system elapsed
43.859 0.185 45.058
DMRcaller.Rcheck/DMRcaller-Ex.timings
| name | user | system | elapsed | |
| DMRcaller | 0 | 0 | 0 | |
| analyseReadsInsideRegionsForCondition | 0.311 | 0.010 | 0.322 | |
| computeDMRs | 2.690 | 0.027 | 3.033 | |
| computeDMRsReplicates | 0 | 0 | 0 | |
| computeMethylationDataCoverage | 0.302 | 0.019 | 0.409 | |
| computeMethylationDataSpatialCorrelation | 0.181 | 0.018 | 0.272 | |
| computeMethylationProfile | 0.450 | 0.023 | 0.473 | |
| computeOverlapProfile | 0.466 | 0.008 | 0.474 | |
| extractGC | 0.000 | 0.001 | 0.000 | |
| filterDMRs | 0.643 | 0.034 | 0.684 | |
| getWholeChromosomes | 0.206 | 0.010 | 0.222 | |
| joinReplicates | 0 | 0 | 0 | |
| mergeDMRsIteratively | 2.944 | 0.041 | 3.616 | |
| plotLocalMethylationProfile | 0.548 | 0.041 | 0.734 | |
| plotMethylationDataCoverage | 0.420 | 0.025 | 0.598 | |
| plotMethylationDataSpatialCorrelation | 0 | 0 | 0 | |
| plotMethylationProfile | 0.293 | 0.022 | 0.321 | |
| plotMethylationProfileFromData | 0.711 | 0.059 | 0.802 | |
| plotOverlapProfile | 0.490 | 0.007 | 0.501 | |
| poolMethylationDatasets | 0.393 | 0.033 | 0.444 | |
| poolTwoMethylationDatasets | 0.400 | 0.030 | 0.457 | |
| readBismark | 0.693 | 0.048 | 0.771 | |
| readBismarkPool | 1.872 | 0.137 | 2.031 | |
| saveBismark | 0.434 | 0.017 | 0.463 | |