Back to Multiple platform build/check report for BioC 3.21: simplified long |
|
This page was generated on 2025-10-16 11:39 -0400 (Thu, 16 Oct 2025).
Hostname | OS | Arch (*) | R version | Installed pkgs |
---|---|---|---|---|
nebbiolo1 | Linux (Ubuntu 24.04.3 LTS) | x86_64 | 4.5.1 (2025-06-13) -- "Great Square Root" | 4833 |
merida1 | macOS 12.7.6 Monterey | x86_64 | 4.5.1 RC (2025-06-05 r88288) -- "Great Square Root" | 4614 |
kjohnson1 | macOS 13.7.5 Ventura | arm64 | 4.5.1 Patched (2025-06-14 r88325) -- "Great Square Root" | 4555 |
kunpeng2 | Linux (openEuler 24.03 LTS) | aarch64 | R Under development (unstable) (2025-02-19 r87757) -- "Unsuffered Consequences" | 4586 |
Click on any hostname to see more info about the system (e.g. compilers) (*) as reported by 'uname -p', except on Windows and Mac OS X |
Package 576/2341 | Hostname | OS / Arch | INSTALL | BUILD | CHECK | BUILD BIN | ||||||||
Shubham Gupta
| nebbiolo1 | Linux (Ubuntu 24.04.3 LTS) / x86_64 | OK | OK | ERROR | |||||||||
merida1 | macOS 12.7.6 Monterey / x86_64 | OK | OK | ERROR | OK | |||||||||
kjohnson1 | macOS 13.7.5 Ventura / arm64 | OK | OK | ERROR | OK | |||||||||
kunpeng2 | Linux (openEuler 24.03 LTS) / aarch64 | OK | OK | ERROR | ||||||||||
To the developers/maintainers of the DIAlignR package: - Allow up to 24 hours (and sometimes 48 hours) for your latest push to git@git.bioconductor.org:packages/DIAlignR.git to reflect on this report. See Troubleshooting Build Report for more information. - Use the following Renviron settings to reproduce errors and warnings. - If 'R CMD check' started to fail recently on the Linux builder(s) over a missing dependency, add the missing dependency to 'Suggests:' in your DESCRIPTION file. See Renviron.bioc for more information. |
Package: DIAlignR |
Version: 2.16.0 |
Command: /Library/Frameworks/R.framework/Resources/bin/R CMD check --install=check:DIAlignR.install-out.txt --library=/Library/Frameworks/R.framework/Resources/library --no-vignettes --timings DIAlignR_2.16.0.tar.gz |
StartedAt: 2025-10-14 02:51:39 -0400 (Tue, 14 Oct 2025) |
EndedAt: 2025-10-14 02:58:11 -0400 (Tue, 14 Oct 2025) |
EllapsedTime: 391.9 seconds |
RetCode: 1 |
Status: ERROR |
CheckDir: DIAlignR.Rcheck |
Warnings: NA |
############################################################################## ############################################################################## ### ### Running command: ### ### /Library/Frameworks/R.framework/Resources/bin/R CMD check --install=check:DIAlignR.install-out.txt --library=/Library/Frameworks/R.framework/Resources/library --no-vignettes --timings DIAlignR_2.16.0.tar.gz ### ############################################################################## ############################################################################## * using log directory ‘/Users/biocbuild/bbs-3.21-bioc/meat/DIAlignR.Rcheck’ * using R version 4.5.1 RC (2025-06-05 r88288) * using platform: x86_64-apple-darwin20 * R was compiled by Apple clang version 14.0.0 (clang-1400.0.29.202) GNU Fortran (GCC) 14.2.0 * running under: macOS Monterey 12.7.6 * using session charset: UTF-8 * using option ‘--no-vignettes’ * checking for file ‘DIAlignR/DESCRIPTION’ ... OK * checking extension type ... Package * this is package ‘DIAlignR’ version ‘2.16.0’ * package encoding: UTF-8 * checking package namespace information ... OK * checking package dependencies ... OK * checking if this is a source package ... OK * checking if there is a namespace ... OK * checking for hidden files and directories ... OK * checking for portable file names ... OK * checking for sufficient/correct file permissions ... OK * checking whether package ‘DIAlignR’ can be installed ... OK * used C++ compiler: ‘Apple clang version 14.0.0 (clang-1400.0.29.202)’ * used SDK: ‘MacOSX11.3.sdk’ * checking C++ specification ... NOTE Specified C++14: please drop specification unless essential * checking installed package size ... INFO installed size is 11.5Mb sub-directories of 1Mb or more: extdata 4.0Mb metabo 4.1Mb ptms 1.5Mb * checking package directory ... OK * checking DESCRIPTION meta-information ... OK * checking top-level files ... OK * checking for left-over files ... OK * checking index information ... OK * checking package subdirectories ... OK * checking code files for non-ASCII characters ... OK * checking R files for syntax errors ... OK * checking whether the package can be loaded ... OK * checking whether the package can be loaded with stated dependencies ... OK * checking whether the package can be unloaded cleanly ... OK * checking whether the namespace can be loaded with stated dependencies ... OK * checking whether the namespace can be unloaded cleanly ... OK * checking whether startup messages can be suppressed ... OK * checking dependencies in R code ... OK * checking S3 generic/method consistency ... OK * checking replacement functions ... OK * checking foreign function calls ... OK * checking R code for possible problems ... NOTE alignTargetedRuns: no visible binding for global variable ‘peptide_id’ alignTargetedRuns : <anonymous>: no visible global function definition for ‘.’ alignTargetedRuns: no visible binding for global variable ‘intensity’ alignToRoot4: no visible binding for global variable ‘trees’ alignToRoot4: no visible binding for global variable ‘precursors’ alignToRoot4: no visible binding for global variable ‘intensity’ childXICs: possible error in cummax(v = cummax(ifelse(is.na(x), -Inf, x))): unused argument (v = cummax(ifelse(is.na(x), -Inf, x))) distMat.rSqrd : <anonymous> : <anonymous>: no visible binding for global variable ‘RT.ref’ distMat.rSqrd : <anonymous> : <anonymous>: no visible binding for global variable ‘RT.eXp’ fetchPrecursorsInfo: no visible binding for global variable ‘transition_id’ fetchPrecursorsInfo: no visible global function definition for ‘.’ fetchPrecursorsInfo: no visible binding for global variable ‘transition_group_id’ fetchTransitionsFromRun: no visible binding for global variable ‘intensity’ fetchTransitionsFromRun: no visible global function definition for ‘.’ fetchTransitionsFromRun: no visible binding for global variable ‘transition_group_id’ fetchTransitionsFromRun: no visible binding for global variable ‘peak_group_rank’ fetchTransitionsFromRun: no visible global function definition for ‘head’ getNativeIDs: no visible binding for global variable ‘peptide_id’ getPeptideScores: no visible binding for global variable ‘col2’ getPeptideScores: no visible binding for global variable ‘run’ getQuery: no visible binding for global variable ‘identifying.transitionPEPfilter’ getRTdf: no visible binding for global variable ‘peak_group_rank’ getRTdf: no visible binding for global variable ‘m_score’ getRTdf: no visible global function definition for ‘.’ getRTdf: no visible binding for global variable ‘transition_group_id’ getRTdf: no visible binding for global variable ‘RT’ getRefRun : <anonymous>: no visible binding for global variable ‘pvalue’ ipfReassignFDR: no visible binding for global variable ‘ref_run’ ipfReassignFDR: no visible binding for global variable ‘run’ ipfReassignFDR: no visible global function definition for ‘.’ ipfReassignFDR: no visible binding for global variable ‘i.to’ ipfReassignFDR: no visible binding for global variable ‘m_score_new’ ipfReassignFDR: no visible binding for global variable ‘ms2_m_score’ ipfReassignFDR: no visible binding for global variable ‘m_score’ mstAlignRuns: no visible binding for global variable ‘ropenms’ mstAlignRuns: no visible binding for global variable ‘peptide_id’ mstAlignRuns : <anonymous>: no visible global function definition for ‘.’ mstAlignRuns: no visible binding for global variable ‘intensity’ mstScript1: no visible binding for global variable ‘ropenms’ mstScript2: no visible binding for global variable ‘fileInfo’ mstScript2: no visible binding for global variable ‘peptide_id’ mstScript2: no visible binding for global variable ‘features’ mstScript2 : <anonymous>: no visible global function definition for ‘.’ mstScript2 : <anonymous>: no visible binding for global variable ‘features’ mstScript2: no visible binding for global variable ‘intensity’ populateReferenceExperimentFeatureAlignmentMap: no visible binding for global variable ‘run’ populateReferenceExperimentFeatureAlignmentMap: no visible binding for global variable ‘transition_group_id’ populateReferenceExperimentFeatureAlignmentMap: no visible binding for global variable ‘feature_id’ progAlignRuns: no visible binding for global variable ‘peptide_id’ progAlignRuns : <anonymous>: no visible global function definition for ‘.’ progAlignRuns: no visible binding for global variable ‘intensity’ progComb3: no visible binding for global variable ‘precursors’ progComb3: no visible binding for global variable ‘ropenms’ progSplit2: no visible binding for global variable ‘trees’ progSplit2: no visible binding for global variable ‘scoreFile’ progSplit2: no visible binding for global variable ‘precursors’ progSplit2 : <anonymous>: no visible global function definition for ‘.’ progSplit2: no visible binding for global variable ‘ropenms’ progSplit4: no visible binding for global variable ‘precursors’ progSplit4 : <anonymous>: no visible global function definition for ‘.’ progSplit4: no visible binding for global variable ‘intensity’ progTree1: no visible binding for global variable ‘ropenms’ progTree1: no visible binding for global variable ‘peptide_id’ reIntensity: no visible binding for global variable ‘run’ reIntensity: no visible binding for global variable ‘alignment_rank’ recalculateIntensity: no visible binding for global variable ‘peptide_id’ recalculateIntensity: no visible binding for global variable ‘chromatogramIndex’ script2: no visible binding for global variable ‘fileInfo’ script2: no visible binding for global variable ‘peptide_id’ script2 : <anonymous>: no visible global function definition for ‘.’ script2: no visible binding for global variable ‘features’ script2: no visible binding for global variable ‘globalFits’ script2: no visible binding for global variable ‘RSE’ script2: no visible binding for global variable ‘intensity’ setRootRank : <anonymous>: no visible global function definition for ‘.’ writeOutFeatureAlignmentMap: no visible binding for global variable ‘reference_feature_id’ writeOutFeatureAlignmentMap: no visible binding for global variable ‘experiment_feature_id’ writeOutFeatureAlignmentMap: no visible binding for global variable ‘ALIGNMENT_GROUP_ID’ writeOutFeatureAlignmentMap: no visible binding for global variable ‘REFERENCE’ writeOutFeatureAlignmentMap: no visible global function definition for ‘.’ writeOutFeatureAlignmentMap: no visible binding for global variable ‘i.to’ writeTables: no visible binding for global variable ‘peptide_id’ writeTables: no visible binding for global variable ‘run’ writeTables: no visible binding for global variable ‘precursor’ Undefined global functions or variables: . ALIGNMENT_GROUP_ID REFERENCE RSE RT RT.eXp RT.ref alignment_rank chromatogramIndex col2 experiment_feature_id feature_id features fileInfo globalFits head i.to identifying.transitionPEPfilter intensity m_score m_score_new ms2_m_score peak_group_rank peptide_id precursor precursors pvalue ref_run reference_feature_id ropenms run scoreFile transition_group_id transition_id trees Consider adding importFrom("datasets", "trees") importFrom("utils", "head") to your NAMESPACE file. * checking Rd files ... OK * checking Rd metadata ... OK * checking Rd cross-references ... OK * checking for missing documentation entries ... OK * checking for code/documentation mismatches ... OK * checking Rd \usage sections ... NOTE Documented arguments not in \usage in Rd file 'alignToRef.Rd': ‘feature_alignment_mapping’ Documented arguments not in \usage in Rd file 'blobXICs.Rd': ‘nativeId’ Documented arguments not in \usage in Rd file 'extractXIC_group2.Rd': ‘mz’ Documented arguments not in \usage in Rd file 'getOswAnalytes.Rd': ‘dataPath’ ‘filenames’ Documented arguments not in \usage in Rd file 'getOswFiles.Rd': ‘dataPath’ ‘filenames’ Documented arguments not in \usage in Rd file 'perBatch.Rd': ‘rownum’ Documented arguments not in \usage in Rd file 'readSqMassHeader.Rd': ‘mzmlName’ Documented arguments not in \usage in Rd file 'setAlignmentRank.Rd': ‘XICs.eXp’ Documented arguments not in \usage in Rd file 'traverseDown.Rd': ‘analytes’ Documented arguments not in \usage in Rd file 'writeTables.Rd': ‘filename’ Functions with \usage entries need to have the appropriate \alias entries, and all their arguments documented. The \usage entries must correspond to syntactically valid R code. See chapter ‘Writing R documentation files’ in the ‘Writing R Extensions’ manual. * checking Rd contents ... OK * checking for unstated dependencies in examples ... OK * checking contents of ‘data’ directory ... OK * checking data for non-ASCII characters ... OK * checking data for ASCII and uncompressed saves ... OK * checking line endings in C/C++/Fortran sources/headers ... OK * checking compiled code ... NOTE Note: information on .o files is not available File ‘/Library/Frameworks/R.framework/Versions/4.5-x86_64/Resources/library/DIAlignR/libs/DIAlignR.so’: Found ‘__ZNSt3__14coutE’, possibly from ‘std::cout’ (C++) Compiled code should not call entry points which might terminate R nor write to stdout/stderr instead of to the console, nor use Fortran I/O nor system RNGs nor [v]sprintf. The detected symbols are linked into the code but might come from libraries and not actually be called. See ‘Writing portable packages’ in the ‘Writing R Extensions’ manual. * checking files in ‘vignettes’ ... OK * checking examples ... OK Examples with CPU (user + system) or elapsed time > 5s user system elapsed alignTargetedRuns 19.402 19.311 13.346 script2 4.935 1.699 5.643 mstScript2 4.264 0.752 4.832 * checking for unstated dependencies in ‘tests’ ... OK * checking tests ... Running ‘testthat.R’ ERROR Running the tests in ‘tests/testthat.R’ failed. Last 13 lines of output: Backtrace: ▆ 1. └─testthat::expect_equal(outData[[1]], expData, tolerance = 1e-04) at test_utils.R:76:13 2. ├─testthat::compare(act$val, exp$val, ..., tolerance = tolerance) 3. └─testthat:::compare.default(act$val, exp$val, ..., tolerance = tolerance) 4. ├─base::all.equal(x, y, ...) 5. └─data.table:::all.equal.data.table(x, y, ...) 6. ├─base::all.equal(x, y, tolerance = tolerance, ..., check.attributes = check.attributes) 7. └─bit64::all.equal.integer64(...) 8. ├─base::is.na(current) 9. └─bit64::is.na.integer64(current) [ FAIL 7 | WARN 0 | SKIP 8 | PASS 625 ] Error: Test failures Execution halted * checking for unstated dependencies in vignettes ... OK * checking package vignettes ... OK * checking running R code from vignettes ... SKIPPED * checking re-building of vignette outputs ... SKIPPED * checking PDF version of manual ... OK * DONE Status: 1 ERROR, 4 NOTEs See ‘/Users/biocbuild/bbs-3.21-bioc/meat/DIAlignR.Rcheck/00check.log’ for details.
DIAlignR.Rcheck/00install.out
############################################################################## ############################################################################## ### ### Running command: ### ### /Library/Frameworks/R.framework/Resources/bin/R CMD INSTALL DIAlignR ### ############################################################################## ############################################################################## * installing to library ‘/Library/Frameworks/R.framework/Versions/4.5-x86_64/Resources/library’ * installing *source* package ‘DIAlignR’ ... ** this is package ‘DIAlignR’ version ‘2.16.0’ ** using staged installation ** libs using C++ compiler: ‘Apple clang version 14.0.0 (clang-1400.0.29.202)’ using C++14 using SDK: ‘MacOSX11.3.sdk’ clang++ -arch x86_64 -std=gnu++14 -I"/Library/Frameworks/R.framework/Resources/include" -DNDEBUG -I'/Library/Frameworks/R.framework/Versions/4.5-x86_64/Resources/library/Rcpp/include' -I'/Library/Frameworks/R.framework/Versions/4.5-x86_64/Resources/library/RcppEigen/include' -I/opt/R/x86_64/include -fPIC -falign-functions=64 -Wall -g -O2 -c ChromatogramPeak.cpp -o ChromatogramPeak.o clang++ -arch x86_64 -std=gnu++14 -I"/Library/Frameworks/R.framework/Resources/include" -DNDEBUG -I'/Library/Frameworks/R.framework/Versions/4.5-x86_64/Resources/library/Rcpp/include' -I'/Library/Frameworks/R.framework/Versions/4.5-x86_64/Resources/library/RcppEigen/include' -I/opt/R/x86_64/include -fPIC -falign-functions=64 -Wall -g -O2 -c DPosition.cpp -o DPosition.o clang++ -arch x86_64 -std=gnu++14 -I"/Library/Frameworks/R.framework/Resources/include" -DNDEBUG -I'/Library/Frameworks/R.framework/Versions/4.5-x86_64/Resources/library/Rcpp/include' -I'/Library/Frameworks/R.framework/Versions/4.5-x86_64/Resources/library/RcppEigen/include' -I/opt/R/x86_64/include -fPIC -falign-functions=64 -Wall -g -O2 -c MSChromatogram.cpp -o MSChromatogram.o clang++ -arch x86_64 -std=gnu++14 -I"/Library/Frameworks/R.framework/Resources/include" -DNDEBUG -I'/Library/Frameworks/R.framework/Versions/4.5-x86_64/Resources/library/Rcpp/include' -I'/Library/Frameworks/R.framework/Versions/4.5-x86_64/Resources/library/RcppEigen/include' -I/opt/R/x86_64/include -fPIC -falign-functions=64 -Wall -g -O2 -c PeakIntegrator.cpp -o PeakIntegrator.o clang++ -arch x86_64 -std=gnu++14 -I"/Library/Frameworks/R.framework/Resources/include" -DNDEBUG -I'/Library/Frameworks/R.framework/Versions/4.5-x86_64/Resources/library/Rcpp/include' -I'/Library/Frameworks/R.framework/Versions/4.5-x86_64/Resources/library/RcppEigen/include' -I/opt/R/x86_64/include -fPIC -falign-functions=64 -Wall -g -O2 -c RcppExports.cpp -o RcppExports.o clang++ -arch x86_64 -std=gnu++14 -I"/Library/Frameworks/R.framework/Resources/include" -DNDEBUG -I'/Library/Frameworks/R.framework/Versions/4.5-x86_64/Resources/library/Rcpp/include' -I'/Library/Frameworks/R.framework/Versions/4.5-x86_64/Resources/library/RcppEigen/include' -I/opt/R/x86_64/include -fPIC -falign-functions=64 -Wall -g -O2 -c Rmain.cpp -o Rmain.o In file included from Rmain.cpp:19: ./miscell.h:14:19: warning: unused function 'detect_end_na' [-Wunused-function] static bool const detect_end_na(double a, double b); ^ ./miscell.h:16:19: warning: unused function 'detect_start_na' [-Wunused-function] static bool const detect_start_na(double a, double b); ^ ./miscell.h:18:19: warning: unused function 'lessZero' [-Wunused-function] static bool const lessZero(double a); ^ 3 warnings generated. clang++ -arch x86_64 -std=gnu++14 -I"/Library/Frameworks/R.framework/Resources/include" -DNDEBUG -I'/Library/Frameworks/R.framework/Versions/4.5-x86_64/Resources/library/Rcpp/include' -I'/Library/Frameworks/R.framework/Versions/4.5-x86_64/Resources/library/RcppEigen/include' -I/opt/R/x86_64/include -fPIC -falign-functions=64 -Wall -g -O2 -c SavitzkyGolayFilter.cpp -o SavitzkyGolayFilter.o clang++ -arch x86_64 -std=gnu++14 -I"/Library/Frameworks/R.framework/Resources/include" -DNDEBUG -I'/Library/Frameworks/R.framework/Versions/4.5-x86_64/Resources/library/Rcpp/include' -I'/Library/Frameworks/R.framework/Versions/4.5-x86_64/Resources/library/RcppEigen/include' -I/opt/R/x86_64/include -fPIC -falign-functions=64 -Wall -g -O2 -c affinealignment.cpp -o affinealignment.o clang++ -arch x86_64 -std=gnu++14 -I"/Library/Frameworks/R.framework/Resources/include" -DNDEBUG -I'/Library/Frameworks/R.framework/Versions/4.5-x86_64/Resources/library/Rcpp/include' -I'/Library/Frameworks/R.framework/Versions/4.5-x86_64/Resources/library/RcppEigen/include' -I/opt/R/x86_64/include -fPIC -falign-functions=64 -Wall -g -O2 -c affinealignobj.cpp -o affinealignobj.o clang++ -arch x86_64 -std=gnu++14 -I"/Library/Frameworks/R.framework/Resources/include" -DNDEBUG -I'/Library/Frameworks/R.framework/Versions/4.5-x86_64/Resources/library/Rcpp/include' -I'/Library/Frameworks/R.framework/Versions/4.5-x86_64/Resources/library/RcppEigen/include' -I/opt/R/x86_64/include -fPIC -falign-functions=64 -Wall -g -O2 -c alignment.cpp -o alignment.o clang++ -arch x86_64 -std=gnu++14 -I"/Library/Frameworks/R.framework/Resources/include" -DNDEBUG -I'/Library/Frameworks/R.framework/Versions/4.5-x86_64/Resources/library/Rcpp/include' -I'/Library/Frameworks/R.framework/Versions/4.5-x86_64/Resources/library/RcppEigen/include' -I/opt/R/x86_64/include -fPIC -falign-functions=64 -Wall -g -O2 -c chromSimMatrix.cpp -o chromSimMatrix.o clang++ -arch x86_64 -std=gnu++14 -I"/Library/Frameworks/R.framework/Resources/include" -DNDEBUG -I'/Library/Frameworks/R.framework/Versions/4.5-x86_64/Resources/library/Rcpp/include' -I'/Library/Frameworks/R.framework/Versions/4.5-x86_64/Resources/library/RcppEigen/include' -I/opt/R/x86_64/include -fPIC -falign-functions=64 -Wall -g -O2 -c constrainMat.cpp -o constrainMat.o constrainMat.cpp:78:10: warning: unused variable 'mapped' [-Wunused-variable] double mapped = 0.0; ^ 1 warning generated. clang++ -arch x86_64 -std=gnu++14 -I"/Library/Frameworks/R.framework/Resources/include" -DNDEBUG -I'/Library/Frameworks/R.framework/Versions/4.5-x86_64/Resources/library/Rcpp/include' -I'/Library/Frameworks/R.framework/Versions/4.5-x86_64/Resources/library/RcppEigen/include' -I/opt/R/x86_64/include -fPIC -falign-functions=64 -Wall -g -O2 -c gapPenalty.cpp -o gapPenalty.o clang++ -arch x86_64 -std=gnu++14 -I"/Library/Frameworks/R.framework/Resources/include" -DNDEBUG -I'/Library/Frameworks/R.framework/Versions/4.5-x86_64/Resources/library/Rcpp/include' -I'/Library/Frameworks/R.framework/Versions/4.5-x86_64/Resources/library/RcppEigen/include' -I/opt/R/x86_64/include -fPIC -falign-functions=64 -Wall -g -O2 -c integrateArea.cpp -o integrateArea.o clang++ -arch x86_64 -std=gnu++14 -I"/Library/Frameworks/R.framework/Resources/include" -DNDEBUG -I'/Library/Frameworks/R.framework/Versions/4.5-x86_64/Resources/library/Rcpp/include' -I'/Library/Frameworks/R.framework/Versions/4.5-x86_64/Resources/library/RcppEigen/include' -I/opt/R/x86_64/include -fPIC -falign-functions=64 -Wall -g -O2 -c interface.cpp -o interface.o clang++ -arch x86_64 -std=gnu++14 -I"/Library/Frameworks/R.framework/Resources/include" -DNDEBUG -I'/Library/Frameworks/R.framework/Versions/4.5-x86_64/Resources/library/Rcpp/include' -I'/Library/Frameworks/R.framework/Versions/4.5-x86_64/Resources/library/RcppEigen/include' -I/opt/R/x86_64/include -fPIC -falign-functions=64 -Wall -g -O2 -c miscell.cpp -o miscell.o miscell.cpp:53:19: warning: unused function 'lessZero' [-Wunused-function] static bool const lessZero(double a){ ^ 1 warning generated. clang++ -arch x86_64 -std=gnu++14 -I"/Library/Frameworks/R.framework/Resources/include" -DNDEBUG -I'/Library/Frameworks/R.framework/Versions/4.5-x86_64/Resources/library/Rcpp/include' -I'/Library/Frameworks/R.framework/Versions/4.5-x86_64/Resources/library/RcppEigen/include' -I/opt/R/x86_64/include -fPIC -falign-functions=64 -Wall -g -O2 -c run_alignment.cpp -o run_alignment.o clang++ -arch x86_64 -std=gnu++14 -I"/Library/Frameworks/R.framework/Resources/include" -DNDEBUG -I'/Library/Frameworks/R.framework/Versions/4.5-x86_64/Resources/library/Rcpp/include' -I'/Library/Frameworks/R.framework/Versions/4.5-x86_64/Resources/library/RcppEigen/include' -I/opt/R/x86_64/include -fPIC -falign-functions=64 -Wall -g -O2 -c simpleFcn.cpp -o simpleFcn.o clang++ -arch x86_64 -std=gnu++14 -I"/Library/Frameworks/R.framework/Resources/include" -DNDEBUG -I'/Library/Frameworks/R.framework/Versions/4.5-x86_64/Resources/library/Rcpp/include' -I'/Library/Frameworks/R.framework/Versions/4.5-x86_64/Resources/library/RcppEigen/include' -I/opt/R/x86_64/include -fPIC -falign-functions=64 -Wall -g -O2 -c spline.cpp -o spline.o clang++ -arch x86_64 -std=gnu++14 -I"/Library/Frameworks/R.framework/Resources/include" -DNDEBUG -I'/Library/Frameworks/R.framework/Versions/4.5-x86_64/Resources/library/Rcpp/include' -I'/Library/Frameworks/R.framework/Versions/4.5-x86_64/Resources/library/RcppEigen/include' -I/opt/R/x86_64/include -fPIC -falign-functions=64 -Wall -g -O2 -c utils.cpp -o utils.o utils.cpp:48:9: warning: unused variable 'idx' [-Wunused-variable] int idx = n*(1-p); ^ 1 warning generated. clang++ -arch x86_64 -std=gnu++14 -dynamiclib -Wl,-headerpad_max_install_names -undefined dynamic_lookup -L/Library/Frameworks/R.framework/Resources/lib -L/opt/R/x86_64/lib -o DIAlignR.so ChromatogramPeak.o DPosition.o MSChromatogram.o PeakIntegrator.o RcppExports.o Rmain.o SavitzkyGolayFilter.o affinealignment.o affinealignobj.o alignment.o chromSimMatrix.o constrainMat.o gapPenalty.o integrateArea.o interface.o miscell.o run_alignment.o simpleFcn.o spline.o utils.o -F/Library/Frameworks/R.framework/.. -framework R installing to /Library/Frameworks/R.framework/Versions/4.5-x86_64/Resources/library/00LOCK-DIAlignR/00new/DIAlignR/libs ** R ** data ** inst ** byte-compile and prepare package for lazy loading ** help *** installing help indices ** building package indices ** installing vignettes ** testing if installed package can be loaded from temporary location Warning in fun(libname, pkgname) : Package 'DIAlignR' is deprecated and will be removed from Bioconductor version 3.22 ** checking absolute paths in shared objects and dynamic libraries ** testing if installed package can be loaded from final location Warning in fun(libname, pkgname) : Package 'DIAlignR' is deprecated and will be removed from Bioconductor version 3.22 ** testing if installed package keeps a record of temporary installation path * DONE (DIAlignR)
DIAlignR.Rcheck/tests/testthat.Rout.fail
R version 4.5.1 RC (2025-06-05 r88288) -- "Great Square Root" Copyright (C) 2025 The R Foundation for Statistical Computing Platform: x86_64-apple-darwin20 R is free software and comes with ABSOLUTELY NO WARRANTY. You are welcome to redistribute it under certain conditions. Type 'license()' or 'licence()' for distribution details. R is a collaborative project with many contributors. Type 'contributors()' for more information and 'citation()' on how to cite R or R packages in publications. Type 'demo()' for some demos, 'help()' for on-line help, or 'help.start()' for an HTML browser interface to help. Type 'q()' to quit R. > library(testthat) > library(DIAlignR) Warning message: In fun(libname, pkgname) : Package 'DIAlignR' is deprecated and will be removed from Bioconductor version 3.22 > > test_check("DIAlignR") [1] "hroest_K120808_Strep10%PlasmaBiolRepl1_R03_SW_filt" [2] "hroest_K120809_Strep0%PlasmaBiolRepl2_R04_SW_filt" [3] "hroest_K120809_Strep10%PlasmaBiolRepl2_R04_SW_filt" Time difference of 0.105366 secs Time difference of 0.427155 secs Time difference of 0.344377 secs Time difference of 0.06691289 secs Time difference of 0.01617599 secs Time difference of 0.1867039 secs Time difference of 2.959734 secs Time difference of 0.05022001 secs Time difference of 0.792794 secs [1] "hroest_K120808_Strep10%PlasmaBiolRepl1_R03_SW_filt" [2] "hroest_K120809_Strep0%PlasmaBiolRepl2_R04_SW_filt" Time difference of 0.03069997 secs Time difference of 0.3856921 secs Time difference of 0.2577291 secs Time difference of 0.03193784 secs Time difference of 0.01113796 secs Time difference of 0.108887 secs Time difference of 1.814662 secs Time difference of 0.01735997 secs Time difference of 1.667797 secs [1] "hroest_K120808_Strep10%PlasmaBiolRepl1_R03_SW_filt" [2] "hroest_K120809_Strep0%PlasmaBiolRepl2_R04_SW_filt" [3] "hroest_K120809_Strep10%PlasmaBiolRepl2_R04_SW_filt" Time difference of 0.03519917 secs Time difference of 0.4351268 secs Time difference of 0.2530191 secs Time difference of 0.205333 secs Time difference of 0.01661205 secs Time difference of 0.145293 secs Time difference of 2.398528 secs Time difference of 0.04535389 secs Time difference of 0.5903101 secs [1] "hroest_K120808_Strep10%PlasmaBiolRepl1_R03_SW_filt" [2] "hroest_K120809_Strep0%PlasmaBiolRepl2_R04_SW_filt" [3] "hroest_K120809_Strep10%PlasmaBiolRepl2_R04_SW_filt" Time difference of 0.05572987 secs Time difference of 0.05091596 secs Time difference of 0.0007200241 secs Time difference of 0.202939 secs Time difference of 0.02018404 secs Time difference of 0.1084039 secs Time difference of 0.028723 secs Time difference of 0.01640987 secs Time difference of 0.166069 secs [1] "hroest_K120809_Strep0%PlasmaBiolRepl2_R04_SW_filt" [2] "hroest_K120809_Strep10%PlasmaBiolRepl2_R04_SW_filt" [1] "PestMix1_8Step1Plasma1SWATH20-50" "PestMix1_8Step8Plasma1SWATH20-50" Time difference of 0.01431894 secs Time difference of 0.06104803 secs Time difference of 0.02600312 secs Time difference of 0.026232 secs Time difference of 0.01181889 secs Time difference of 0.09833002 secs Time difference of 0.152524 secs Time difference of 0.01430893 secs Time difference of 0.331362 secs [1] "chludwig_K150309_004b_SW_1_16" "chludwig_K150309_008_SW_1_4" [3] "chludwig_K150309_013_SW_0" Time difference of 0.01877093 secs Time difference of 0.02105999 secs Time difference of 0.002031088 secs Time difference of 0.03211498 secs Time difference of 0.01568508 secs Time difference of 0.105377 secs Time difference of 0.01073718 secs Time difference of 0.04479313 secs Time difference of 0.476568 secs <simpleWarning in simpleLoess(y, x, w, span, degree = degree, parametric = parametric, drop.square = drop.square, normalize = normalize, statistics = control$statistics, surface = control$surface, cell = control$cell, iterations = iterations, iterTrace = control$iterTrace, trace.hat = control$trace.hat): span too small. fewer data values than degrees of freedom.> <simpleWarning in simpleLoess(y, x, w, span, degree = degree, parametric = parametric, drop.square = drop.square, normalize = normalize, statistics = control$statistics, surface = control$surface, cell = control$cell, iterations = iterations, iterTrace = control$iterTrace, trace.hat = control$trace.hat): span too small. fewer data values than degrees of freedom.> <simpleWarning in sqrt(sum.squares/one.delta): NaNs produced> <simpleError in simpleLoess(y, x, w, span, degree = degree, parametric = parametric, drop.square = drop.square, normalize = normalize, statistics = control$statistics, surface = control$surface, cell = control$cell, iterations = iterations, iterTrace = control$iterTrace, trace.hat = control$trace.hat): span is too small> runName run0 hroest_K120808_Strep10%PlasmaBiolRepl1_R03_SW_filt run1 hroest_K120809_Strep0%PlasmaBiolRepl2_R04_SW_filt run2 hroest_K120809_Strep10%PlasmaBiolRepl2_R04_SW_filt Time difference of 0.1941121 secs Time difference of 0.02976584 secs Time difference of 0.004201889 secs Time difference of 0.01609707 secs Time difference of 0.09475207 secs Time difference of 0.03162789 secs Time difference of 0.03256702 secs Time difference of 0.1717882 secs runName run0 hroest_K120808_Strep10%PlasmaBiolRepl1_R03_SW_filt run1 hroest_K120809_Strep0%PlasmaBiolRepl2_R04_SW_filt run2 hroest_K120809_Strep10%PlasmaBiolRepl2_R04_SW_filt Time difference of 0.05391288 secs [1] "run0 run1\nrun2 run2" Time difference of 0.4442379 secs Time difference of 0.281106 secs Time difference of 0.01514912 secs Time difference of 0.13462 secs Time difference of 2.553794 secs Time difference of 0.03849006 secs Time difference of 0.9839981 secs runName run0 hroest_K120808_Strep10%PlasmaBiolRepl1_R03_SW_filt run1 hroest_K120809_Strep0%PlasmaBiolRepl2_R04_SW_filt run2 hroest_K120809_Strep10%PlasmaBiolRepl2_R04_SW_filt Time difference of 0.2491419 secs Time difference of 1.955255 secs Time difference of 10.89335 secs Time difference of 0.992656 secs runName run0 hroest_K120808_Strep10%PlasmaBiolRepl1_R03_SW_filt run1 hroest_K120809_Strep0%PlasmaBiolRepl2_R04_SW_filt run2 hroest_K120809_Strep10%PlasmaBiolRepl2_R04_SW_filt Time difference of 0.202687 secs [1] "Written /Library/Frameworks/R.framework/Versions/4.5-x86_64/Resources/library/DIAlignR/extdata/temp_prog1.RData" [1] "Written /Library/Frameworks/R.framework/Versions/4.5-x86_64/Resources/library/DIAlignR/extdata/temp_0_2.rds" [1] "progTree1 is done." Time difference of 2.471059 secs Time difference of 0.6817381 secs [1] "Written /Library/Frameworks/R.framework/Versions/4.5-x86_64/Resources/library/DIAlignR/extdata/temp_1_2.rds" Time difference of 1.157624 secs [1] "Written /Library/Frameworks/R.framework/Versions/4.5-x86_64/Resources/library/DIAlignR/extdata/temp_2_2.rds" Time difference of 0.6845479 secs Time difference of 0.4215641 secs [1] "Written /Library/Frameworks/R.framework/Versions/4.5-x86_64/Resources/library/DIAlignR/extdata/temp_all_2.rds" Time difference of 0.594878 secs runName run0 hroest_K120808_Strep10%PlasmaBiolRepl1_R03_SW_filt run1 hroest_K120809_Strep0%PlasmaBiolRepl2_R04_SW_filt run2 hroest_K120809_Strep10%PlasmaBiolRepl2_R04_SW_filt Time difference of 0.2005079 secs [1] "Written /Library/Frameworks/R.framework/Versions/4.5-x86_64/Resources/library/DIAlignR/extdata/temp_prog1.RData" [1] "Written /Library/Frameworks/R.framework/Versions/4.5-x86_64/Resources/library/DIAlignR/extdata/temp_0_2.rds" [1] "progTree1 is done." Time difference of 2.172397 secs Time difference of 0.648051 secs [1] "Written /Library/Frameworks/R.framework/Versions/4.5-x86_64/Resources/library/DIAlignR/extdata/temp_1_2.rds" Time difference of 0.9731359 secs [1] "Written /Library/Frameworks/R.framework/Versions/4.5-x86_64/Resources/library/DIAlignR/extdata/temp_2_2.rds" Time difference of 0.627815 secs Time difference of 0.02808404 secs [1] "Written /Library/Frameworks/R.framework/Versions/4.5-x86_64/Resources/library/DIAlignR/extdata/temp_all_2.rds" Error in reticulate::use_condaenv(condaEnv, required = TRUE) : Unable to locate conda environment 'TricEnvr'. Error in reticulate::use_condaenv(condaEnv, required = TRUE) : Unable to locate conda environment 'TricEnvr'. Error in reticulate::use_condaenv(condaEnv, required = TRUE) : Unable to locate conda environment 'TricEnvr'. [ FAIL 7 | WARN 0 | SKIP 8 | PASS 625 ] ══ Skipped tests (8) ═══════════════════════════════════════════════════════════ • empty test (5): 'test_get_filenames.R:77:1', 'test_get_filenames.R:82:1', 'test_utils.R:200:1', 'test_utils.R:203:1', 'test_utils.R:206:1' • ropenms not available for testing. A conda environment with name TricEnvr is MUST for testing. (3): 'test_pyopenms.R:4:3', 'test_pyopenms.R:8:3', 'test_pyopenms.R:27:3' ══ Failed tests ════════════════════════════════════════════════════════════════ ── Failure ('test_align_dia_runs.R:122:3'): test_getAlignObjs ────────────────── outData[[2]][["4618"]][["run1_run2"]][["ref"]] not equal to lapply(...). Component 1: Attributes: < Component 2: Component 2: 2 string mismatches > Component 2: Attributes: < Component 2: Component 2: 2 string mismatches > Component 3: Attributes: < Component 2: Component 2: 2 string mismatches > Component 4: Attributes: < Component 2: Component 2: 2 string mismatches > Component 5: Attributes: < Component 2: Component 2: 2 string mismatches > Component 6: Attributes: < Component 2: Component 2: 2 string mismatches > ── Failure ('test_align_dia_runs.R:124:3'): test_getAlignObjs ────────────────── outData[[2]][["4618"]][["run1_run2"]][["eXp"]] not equal to lapply(...). Component 1: Attributes: < Component 2: Component 2: 2 string mismatches > Component 2: Attributes: < Component 2: Component 2: 2 string mismatches > Component 3: Attributes: < Component 2: Component 2: 2 string mismatches > Component 4: Attributes: < Component 2: Component 2: 2 string mismatches > Component 5: Attributes: < Component 2: Component 2: 2 string mismatches > Component 6: Attributes: < Component 2: Component 2: 2 string mismatches > ── Failure ('test_get_peaks_chromatograms.R:48:3'): test_getXICs4AlignObj ────── outData[["hroest_K120808_Strep10%PlasmaBiolRepl1_R03_SW_filt"]][["4618"]] not equal to lapply(XICs[[runs[["run0"]]]][["4618"]], as.matrix). Component 1: Attributes: < Component 2: Component 2: 2 string mismatches > Component 2: Attributes: < Component 2: Component 2: 2 string mismatches > Component 3: Attributes: < Component 2: Component 2: 2 string mismatches > Component 4: Attributes: < Component 2: Component 2: 2 string mismatches > Component 5: Attributes: < Component 2: Component 2: 2 string mismatches > Component 6: Attributes: < Component 2: Component 2: 2 string mismatches > ── Failure ('test_get_peaks_chromatograms.R:49:3'): test_getXICs4AlignObj ────── outData[["hroest_K120809_Strep0%PlasmaBiolRepl2_R04_SW_filt"]][["4618"]] not equal to lapply(XICs[[runs[["run1"]]]][["4618"]], as.matrix). Component 1: Attributes: < Component 2: Component 2: 2 string mismatches > Component 2: Attributes: < Component 2: Component 2: 2 string mismatches > Component 3: Attributes: < Component 2: Component 2: 2 string mismatches > Component 4: Attributes: < Component 2: Component 2: 2 string mismatches > Component 5: Attributes: < Component 2: Component 2: 2 string mismatches > Component 6: Attributes: < Component 2: Component 2: 2 string mismatches > ── Failure ('test_get_peaks_chromatograms.R:68:3'): test_getXICs ─────────────── outData[["hroest_K120808_Strep10%PlasmaBiolRepl1_R03_SW_filt"]][["4618"]] not equal to lapply(...). Component 1: Attributes: < Component 2: Component 2: 2 string mismatches > Component 2: Attributes: < Component 2: Component 2: 2 string mismatches > Component 3: Attributes: < Component 2: Component 2: 2 string mismatches > Component 4: Attributes: < Component 2: Component 2: 2 string mismatches > Component 5: Attributes: < Component 2: Component 2: 2 string mismatches > Component 6: Attributes: < Component 2: Component 2: 2 string mismatches > ── Failure ('test_get_peaks_chromatograms.R:70:3'): test_getXICs ─────────────── outData[["hroest_K120809_Strep10%PlasmaBiolRepl2_R04_SW_filt"]][["4618"]] not equal to lapply(...). Component 1: Attributes: < Component 2: Component 2: 2 string mismatches > Component 2: Attributes: < Component 2: Component 2: 2 string mismatches > Component 3: Attributes: < Component 2: Component 2: 2 string mismatches > Component 4: Attributes: < Component 2: Component 2: 2 string mismatches > Component 5: Attributes: < Component 2: Component 2: 2 string mismatches > Component 6: Attributes: < Component 2: Component 2: 2 string mismatches > ── Error ('test_utils.R:76:13'): test_getRefExpFeatureMap ────────────────────── Error in `is.na.integer64(current)`: REAL() can only be applied to a 'numeric', not a 'integer' Backtrace: ▆ 1. └─testthat::expect_equal(outData[[1]], expData, tolerance = 1e-04) at test_utils.R:76:13 2. ├─testthat::compare(act$val, exp$val, ..., tolerance = tolerance) 3. └─testthat:::compare.default(act$val, exp$val, ..., tolerance = tolerance) 4. ├─base::all.equal(x, y, ...) 5. └─data.table:::all.equal.data.table(x, y, ...) 6. ├─base::all.equal(x, y, tolerance = tolerance, ..., check.attributes = check.attributes) 7. └─bit64::all.equal.integer64(...) 8. ├─base::is.na(current) 9. └─bit64::is.na.integer64(current) [ FAIL 7 | WARN 0 | SKIP 8 | PASS 625 ] Error: Test failures Execution halted
DIAlignR.Rcheck/DIAlignR-Ex.timings
name | user | system | elapsed | |
MSTperBatch | 0.002 | 0.001 | 0.002 | |
addFlankToLeft | 0.003 | 0.001 | 0.004 | |
addFlankToRight | 0.002 | 0.001 | 0.003 | |
addXIC | 0.000 | 0.001 | 0.001 | |
alignChromatogramsCpp | 0.041 | 0.012 | 0.056 | |
alignTargetedRuns | 19.402 | 19.311 | 13.346 | |
alignToMaster | 3.180 | 0.108 | 3.432 | |
alignToRef | 0.002 | 0.001 | 0.003 | |
alignToRefMST | 0.002 | 0.001 | 0.003 | |
alignedXIC | 0.152 | 0.013 | 0.174 | |
analytesFromFeatures | 0.071 | 0.009 | 0.082 | |
approxFill | 0.001 | 0.000 | 0.002 | |
areaIntegrator | 0.004 | 0.004 | 0.013 | |
blobXICs | 0.003 | 0.004 | 0.009 | |
calculateIntensity | 0.003 | 0.004 | 0.007 | |
checkOverlap | 0.000 | 0.001 | 0.001 | |
checkParams | 0.000 | 0.001 | 0.001 | |
childXIC | 0.136 | 0.009 | 0.153 | |
childXICs | 1.586 | 0.054 | 1.722 | |
constrainSimCpp | 0.002 | 0.002 | 0.003 | |
createMZML | 0.004 | 0.005 | 0.012 | |
createSqMass | 0.003 | 0.005 | 0.007 | |
dialignrLoess | 0.001 | 0.000 | 0.002 | |
doAffineAlignmentCpp | 0.003 | 0.001 | 0.004 | |
doAlignmentCpp | 0.002 | 0.003 | 0.007 | |
extractXIC_group | 1.636 | 0.051 | 1.777 | |
extractXIC_group2 | 0.002 | 0.000 | 0.003 | |
fetchAnalytesInfo | 0.015 | 0.003 | 0.017 | |
fetchFeaturesFromRun | 0.013 | 0.003 | 0.015 | |
fetchPeptidesInfo | 0.013 | 0.002 | 0.016 | |
fetchPeptidesInfo2 | 0.014 | 0.002 | 0.015 | |
fetchPrecursorsInfo | 0.002 | 0.001 | 0.003 | |
fetchTransitionsFromRun | 0.013 | 0.002 | 0.016 | |
filenamesFromMZML | 0.002 | 0.001 | 0.003 | |
filenamesFromOSW | 0.001 | 0.001 | 0.003 | |
getAlignObj | 0.033 | 0.009 | 0.044 | |
getAlignObjs | 3.734 | 0.043 | 3.950 | |
getAlignedFigs | 0.237 | 0.012 | 0.263 | |
getAlignedIndices | 0.016 | 0.007 | 0.024 | |
getAlignedTimes | 0.031 | 0.015 | 0.047 | |
getAlignedTimesCpp | 0.010 | 0.005 | 0.014 | |
getAlignedTimesFast | 0.023 | 0.013 | 0.038 | |
getBaseGapPenaltyCpp | 0.000 | 0.000 | 0.001 | |
getChildFeature | 0.075 | 0.011 | 0.087 | |
getChildXICpp | 0.010 | 0.004 | 0.017 | |
getChildXICs | 1.349 | 0.042 | 1.449 | |
getChromSimMatCpp | 0.004 | 0.006 | 0.011 | |
getChromatogramIndices | 0.190 | 0.006 | 0.208 | |
getFeatures | 0.068 | 0.007 | 0.076 | |
getGlobalAlignMaskCpp | 0.001 | 0.003 | 0.004 | |
getGlobalAlignment | 0.012 | 0.004 | 0.016 | |
getGlobalFits | 0.746 | 0.013 | 0.799 | |
getLOESSfit | 0.004 | 0.004 | 0.008 | |
getLinearfit | 0.004 | 0.004 | 0.008 | |
getMST | 0.001 | 0.001 | 0.002 | |
getMZMLpointers | 0.027 | 0.004 | 0.031 | |
getMappedRT | 0.018 | 0.007 | 0.026 | |
getMultipeptide | 3.076 | 0.073 | 3.274 | |
getNativeIDs | 0.035 | 0.002 | 0.038 | |
getNodeIDs | 0.001 | 0.000 | 0.001 | |
getNodeRun | 0.782 | 0.022 | 0.855 | |
getOswAnalytes | 0.013 | 0.002 | 0.016 | |
getOswFiles | 0.013 | 0.002 | 0.017 | |
getPeptideScores | 0.064 | 0.004 | 0.072 | |
getPrecursorByID | 0.025 | 0.003 | 0.028 | |
getPrecursorIndices | 0.084 | 0.006 | 0.093 | |
getPrecursors | 0.044 | 0.003 | 0.050 | |
getRSE | 0.004 | 0.005 | 0.010 | |
getRTdf | 0.011 | 0.004 | 0.016 | |
getRefExpFeatureMap | 0.556 | 0.020 | 0.601 | |
getRefRun | 0.682 | 0.015 | 0.719 | |
getRunNames | 0.016 | 0.004 | 0.021 | |
getSeqSimMatCpp | 0.001 | 0.002 | 0.003 | |
getTransitions | 0.276 | 0.016 | 0.303 | |
getTree | 0.051 | 0.004 | 0.059 | |
getXICs | 0.164 | 0.013 | 0.192 | |
getXICs4AlignObj | 0.133 | 0.005 | 0.144 | |
get_ropenms | 0.000 | 0.001 | 0.001 | |
imputeChromatogram | 0.026 | 0.003 | 0.030 | |
ipfReassignFDR | 0.000 | 0.000 | 0.001 | |
mapIdxToTime | 0.001 | 0.001 | 0.001 | |
mappedRTfromAlignObj | 0.004 | 0.004 | 0.008 | |
mergeXIC | 0.004 | 0.004 | 0.008 | |
mstAlignRuns | 3.497 | 0.082 | 3.760 | |
mstScript1 | 0.722 | 0.424 | 0.784 | |
mstScript2 | 4.264 | 0.752 | 4.832 | |
nrDesc | 0.001 | 0.000 | 0.001 | |
otherChildXICpp | 0.011 | 0.008 | 0.022 | |
paramsDIAlignR | 0.000 | 0.001 | 0.001 | |
perBatch | 0.002 | 0.001 | 0.002 | |
pickNearestFeature | 0.005 | 0.007 | 0.012 | |
plotAlignedAnalytes | 1.876 | 0.037 | 2.057 | |
plotAlignmentPath | 0.703 | 0.054 | 0.779 | |
plotAnalyteXICs | 1.280 | 0.024 | 1.344 | |
plotXICgroup | 1.207 | 0.018 | 1.231 | |
populateReferenceExperimentFeatureAlignmentMap | 0.021 | 0.014 | 0.035 | |
progAlignRuns | 0.002 | 0.001 | 0.003 | |
readMzMLHeader | 0.002 | 0.000 | 0.003 | |
readSqMassHeader | 0.002 | 0.001 | 0.003 | |
recalculateIntensity | 0.505 | 0.017 | 0.525 | |
reduceXICs | 0.146 | 0.007 | 0.153 | |
script1 | 1.397 | 1.411 | 1.664 | |
script2 | 4.935 | 1.699 | 5.643 | |
setAlignmentRank | 0.021 | 0.009 | 0.031 | |
sgolayCpp | 0.004 | 0.004 | 0.009 | |
sgolayFill | 0.001 | 0.000 | 0.002 | |
smoothSingleXIC | 0.003 | 0.006 | 0.008 | |
smoothXICs | 0.014 | 0.006 | 0.019 | |
splineFill | 0.001 | 0.000 | 0.002 | |
splineFillCpp | 0.006 | 0.001 | 0.007 | |
traverseDown | 2.963 | 0.078 | 3.190 | |
traverseMST | 0.000 | 0.001 | 0.001 | |
traverseUp | 2.924 | 0.063 | 3.123 | |
trfrParentFeature | 0.073 | 0.012 | 0.090 | |
trimXICs | 0.003 | 0.006 | 0.009 | |
uncompressVec | 0.008 | 0.002 | 0.009 | |
updateFileInfo | 0.016 | 0.004 | 0.020 | |
writeOutFeatureAlignmentMap | 0.006 | 0.004 | 0.011 | |
writeTables | 0.005 | 0.006 | 0.010 | |