| Back to Multiple platform build/check report for BioC 3.22: simplified long | 
  | 
This page was generated on 2025-10-24 12:07 -0400 (Fri, 24 Oct 2025).
| Hostname | OS | Arch (*) | R version | Installed pkgs | 
|---|---|---|---|---|
| nebbiolo2 | Linux (Ubuntu 24.04.3 LTS) | x86_64 | 4.5.1 Patched (2025-08-23 r88802) -- "Great Square Root" | 4898 | 
| lconway | macOS 12.7.6 Monterey | x86_64 | 4.5.1 Patched (2025-09-10 r88807) -- "Great Square Root" | 4688 | 
| kjohnson3 | macOS 13.7.7 Ventura | arm64 | 4.5.1 Patched (2025-09-10 r88807) -- "Great Square Root" | 4634 | 
| taishan | Linux (openEuler 24.03 LTS) | aarch64 | 4.5.0 (2025-04-11) -- "How About a Twenty-Six" | 4658 | 
| Click on any hostname to see more info about the system (e.g. compilers) (*) as reported by 'uname -p', except on Windows and Mac OS X | ||||
| Package 572/2359 | Hostname | OS / Arch | INSTALL | BUILD | CHECK | BUILD BIN | ||||||||
| DESeq2 1.49.8  (landing page) Michael Love 
  | nebbiolo2 | Linux (Ubuntu 24.04.3 LTS) / x86_64 | OK | OK | OK | |||||||||
| lconway | macOS 12.7.6 Monterey / x86_64 | OK | OK | OK | OK | |||||||||
| kjohnson3 | macOS 13.7.7 Ventura / arm64 | OK | OK | OK | OK | |||||||||
| taishan | Linux (openEuler 24.03 LTS) / aarch64 | OK | OK | OK | ||||||||||
| 
To the developers/maintainers of the DESeq2 package: - Allow up to 24 hours (and sometimes 48 hours) for your latest push to git@git.bioconductor.org:packages/DESeq2.git to reflect on this report. See Troubleshooting Build Report for more information. - Use the following Renviron settings to reproduce errors and warnings. - If 'R CMD check' started to fail recently on the Linux builder(s) over a missing dependency, add the missing dependency to 'Suggests:' in your DESCRIPTION file. See Renviron.bioc for more information. - See Martin Grigorov's blog post for how to debug Linux ARM64 related issues on a x86_64 host.  | 
| Package: DESeq2 | 
| Version: 1.49.7 | 
| Command: /home/biocbuild/R/R/bin/R CMD check --install=check:DESeq2.install-out.txt --library=/home/biocbuild/R/R/site-library --no-vignettes --timings DESeq2_1.49.7.tar.gz | 
| StartedAt: 2025-10-21 07:25:41 -0000 (Tue, 21 Oct 2025) | 
| EndedAt: 2025-10-21 07:35:00 -0000 (Tue, 21 Oct 2025) | 
| EllapsedTime: 558.3 seconds | 
| RetCode: 0 | 
| Status: OK | 
| CheckDir: DESeq2.Rcheck | 
| Warnings: 0 | 
##############################################################################
##############################################################################
###
### Running command:
###
###   /home/biocbuild/R/R/bin/R CMD check --install=check:DESeq2.install-out.txt --library=/home/biocbuild/R/R/site-library --no-vignettes --timings DESeq2_1.49.7.tar.gz
###
##############################################################################
##############################################################################
* using log directory ‘/home/biocbuild/bbs-3.22-bioc/meat/DESeq2.Rcheck’
* using R version 4.5.0 (2025-04-11)
* using platform: aarch64-unknown-linux-gnu
* R was compiled by
    aarch64-unknown-linux-gnu-gcc (GCC) 14.2.0
    GNU Fortran (GCC) 14.2.0
* running under: openEuler 24.03 (LTS)
* using session charset: UTF-8
* using option ‘--no-vignettes’
* checking for file ‘DESeq2/DESCRIPTION’ ... OK
* checking extension type ... Package
* this is package ‘DESeq2’ version ‘1.49.7’
* package encoding: UTF-8
* checking package namespace information ... OK
* checking package dependencies ... OK
* checking if this is a source package ... OK
* checking if there is a namespace ... OK
* checking for hidden files and directories ... OK
* checking for portable file names ... OK
* checking for sufficient/correct file permissions ... OK
* checking whether package ‘DESeq2’ can be installed ... OK
* used C++ compiler: ‘aarch64-unknown-linux-gnu-g++ (GCC) 14.2.0’
* checking installed package size ... INFO
  installed size is  5.1Mb
  sub-directories of 1Mb or more:
    libs   3.6Mb
* checking package directory ... OK
* checking ‘build’ directory ... OK
* checking DESCRIPTION meta-information ... OK
* checking top-level files ... OK
* checking for left-over files ... OK
* checking index information ... OK
* checking package subdirectories ... OK
* checking code files for non-ASCII characters ... OK
* checking R files for syntax errors ... OK
* checking whether the package can be loaded ... OK
* checking whether the package can be loaded with stated dependencies ... OK
* checking whether the package can be unloaded cleanly ... OK
* checking whether the namespace can be loaded with stated dependencies ... OK
* checking whether the namespace can be unloaded cleanly ... OK
* checking loading without being on the library search path ... OK
* checking dependencies in R code ... OK
* checking S3 generic/method consistency ... OK
* checking replacement functions ... OK
* checking foreign function calls ... OK
* checking R code for possible problems ... NOTE
DESeq: no visible global function definition for ‘error’
results: multiple local function definitions for ‘pfunc_lfc’ with
  different formal arguments
Undefined global functions or variables:
  error
* checking Rd files ... OK
* checking Rd metadata ... OK
* checking Rd cross-references ... NOTE
Found the following Rd file(s) with Rd \link{} targets missing package
anchors:
  DESeq.Rd: estimateSizeFactors, estimateDispersions, bplapply,
    register, counts
  counts.Rd: sizeFactors
  dispersionFunction.Rd: estimateDispersions
  dispersions.Rd: estimateDispersions
  estimateDispersionsGeneEst.Rd: estimateDispersions
  estimateSizeFactors.Rd: sizeFactors, sizeFactors<-
  estimateSizeFactorsForMatrix.Rd: estimateSizeFactors
  fpkm.Rd: estimateSizeFactors
  nbinomLRT.Rd: sizeFactors
  nbinomWaldTest.Rd: sizeFactors
  normalizationFactors.Rd: sizeFactors
  replaceOutliers.Rd: counts
  results.Rd: bplapply, register
  rlog.Rd: RangedSummarizedExperiment, estimateDispersions
  sizeFactors.Rd: estimateSizeFactors
  varianceStabilizingTransformation.Rd: estimateDispersions
  vst.Rd: estimateDispersions
Please provide package anchors for all Rd \link{} targets not in the
package itself and the base packages.
* checking for missing documentation entries ... OK
* checking for code/documentation mismatches ... OK
* checking Rd \usage sections ... OK
* checking Rd contents ... OK
* checking for unstated dependencies in examples ... OK
* checking line endings in C/C++/Fortran sources/headers ... OK
* checking line endings in Makefiles ... OK
* checking compilation flags in Makevars ... OK
* checking for GNU extensions in Makefiles ... OK
* checking for portable use of $(BLAS_LIBS) and $(LAPACK_LIBS) ... OK
* checking use of PKG_*FLAGS in Makefiles ... OK
* checking compiled code ... NOTE
Note: information on .o files is not available
* checking files in ‘vignettes’ ... OK
* checking examples ... OK
Examples with CPU (user + system) or elapsed time > 5s
         user system elapsed
results 9.650  0.052   9.732
DESeq   6.743  0.941   7.710
* checking for unstated dependencies in ‘tests’ ... OK
* checking tests ...
  Running ‘testthat.R’
 OK
* checking for unstated dependencies in vignettes ... OK
* checking package vignettes ... OK
* checking running R code from vignettes ... SKIPPED
* checking re-building of vignette outputs ... SKIPPED
* checking PDF version of manual ... OK
* DONE
Status: 3 NOTEs
See
  ‘/home/biocbuild/bbs-3.22-bioc/meat/DESeq2.Rcheck/00check.log’
for details.
DESeq2.Rcheck/00install.out
############################################################################## ############################################################################## ### ### Running command: ### ### /home/biocbuild/R/R/bin/R CMD INSTALL DESeq2 ### ############################################################################## ############################################################################## * installing to library ‘/home/biocbuild/R/R-4.5.0/site-library’ * installing *source* package ‘DESeq2’ ... ** this is package ‘DESeq2’ version ‘1.49.7’ ** using staged installation ** libs using C++ compiler: ‘aarch64-unknown-linux-gnu-g++ (GCC) 14.2.0’ /opt/ohpc/pub/compiler/gcc/14.2.0/bin/aarch64-unknown-linux-gnu-g++ -std=gnu++17 -I"/home/biocbuild/R/R-4.5.0/include" -DNDEBUG -I'/home/biocbuild/R/R-4.5.0/site-library/Rcpp/include' -I'/home/biocbuild/R/R-4.5.0/site-library/RcppArmadillo/include' -I/usr/local/include -fPIC -g -O2 -Wall -Werror=format-security -c DESeq2.cpp -o DESeq2.o /opt/ohpc/pub/compiler/gcc/14.2.0/bin/aarch64-unknown-linux-gnu-g++ -std=gnu++17 -I"/home/biocbuild/R/R-4.5.0/include" -DNDEBUG -I'/home/biocbuild/R/R-4.5.0/site-library/Rcpp/include' -I'/home/biocbuild/R/R-4.5.0/site-library/RcppArmadillo/include' -I/usr/local/include -fPIC -g -O2 -Wall -Werror=format-security -c RcppExports.cpp -o RcppExports.o /opt/ohpc/pub/compiler/gcc/14.2.0/bin/aarch64-unknown-linux-gnu-g++ -std=gnu++17 -shared -L/home/biocbuild/R/R-4.5.0/lib -L/usr/local/lib -o DESeq2.so DESeq2.o RcppExports.o -lopenblas -lgfortran -lm -L/home/biocbuild/R/R-4.5.0/lib -lR installing to /home/biocbuild/R/R-4.5.0/site-library/00LOCK-DESeq2/00new/DESeq2/libs ** R ** inst ** byte-compile and prepare package for lazy loading ** help *** installing help indices ** building package indices ** installing vignettes ** testing if installed package can be loaded from temporary location ** checking absolute paths in shared objects and dynamic libraries ** testing if installed package can be loaded from final location ** testing if installed package keeps a record of temporary installation path * DONE (DESeq2)
DESeq2.Rcheck/tests/testthat.Rout
R version 4.5.0 (2025-04-11) -- "How About a Twenty-Six"
Copyright (C) 2025 The R Foundation for Statistical Computing
Platform: aarch64-unknown-linux-gnu
R is free software and comes with ABSOLUTELY NO WARRANTY.
You are welcome to redistribute it under certain conditions.
Type 'license()' or 'licence()' for distribution details.
R is a collaborative project with many contributors.
Type 'contributors()' for more information and
'citation()' on how to cite R or R packages in publications.
Type 'demo()' for some demos, 'help()' for on-line help, or
'help.start()' for an HTML browser interface to help.
Type 'q()' to quit R.
> library("testthat")
> library("DESeq2")
Loading required package: S4Vectors
Loading required package: stats4
Loading required package: BiocGenerics
Loading required package: generics
Attaching package: 'generics'
The following objects are masked from 'package:base':
    as.difftime, as.factor, as.ordered, intersect, is.element, setdiff,
    setequal, union
Attaching package: 'BiocGenerics'
The following objects are masked from 'package:stats':
    IQR, mad, sd, var, xtabs
The following objects are masked from 'package:base':
    Filter, Find, Map, Position, Reduce, anyDuplicated, aperm, append,
    as.data.frame, basename, cbind, colnames, dirname, do.call,
    duplicated, eval, evalq, get, grep, grepl, is.unsorted, lapply,
    mapply, match, mget, order, paste, pmax, pmax.int, pmin, pmin.int,
    rank, rbind, rownames, sapply, saveRDS, table, tapply, unique,
    unsplit, which.max, which.min
Attaching package: 'S4Vectors'
The following object is masked from 'package:utils':
    findMatches
The following objects are masked from 'package:base':
    I, expand.grid, unname
Loading required package: IRanges
Loading required package: GenomicRanges
Loading required package: Seqinfo
Loading required package: SummarizedExperiment
Loading required package: MatrixGenerics
Loading required package: matrixStats
Attaching package: 'MatrixGenerics'
The following objects are masked from 'package:matrixStats':
    colAlls, colAnyNAs, colAnys, colAvgsPerRowSet, colCollapse,
    colCounts, colCummaxs, colCummins, colCumprods, colCumsums,
    colDiffs, colIQRDiffs, colIQRs, colLogSumExps, colMadDiffs,
    colMads, colMaxs, colMeans2, colMedians, colMins, colOrderStats,
    colProds, colQuantiles, colRanges, colRanks, colSdDiffs, colSds,
    colSums2, colTabulates, colVarDiffs, colVars, colWeightedMads,
    colWeightedMeans, colWeightedMedians, colWeightedSds,
    colWeightedVars, rowAlls, rowAnyNAs, rowAnys, rowAvgsPerColSet,
    rowCollapse, rowCounts, rowCummaxs, rowCummins, rowCumprods,
    rowCumsums, rowDiffs, rowIQRDiffs, rowIQRs, rowLogSumExps,
    rowMadDiffs, rowMads, rowMaxs, rowMeans2, rowMedians, rowMins,
    rowOrderStats, rowProds, rowQuantiles, rowRanges, rowRanks,
    rowSdDiffs, rowSds, rowSums2, rowTabulates, rowVarDiffs, rowVars,
    rowWeightedMads, rowWeightedMeans, rowWeightedMedians,
    rowWeightedSds, rowWeightedVars
Loading required package: Biobase
Welcome to Bioconductor
    Vignettes contain introductory material; view with
    'browseVignettes()'. To cite Bioconductor, see
    'citation("Biobase")', and for packages 'citation("pkgname")'.
Attaching package: 'Biobase'
The following object is masked from 'package:MatrixGenerics':
    rowMedians
The following objects are masked from 'package:matrixStats':
    anyMissing, rowMedians
> test_check("DESeq2")
[ FAIL 0 | WARN 1 | SKIP 3 | PASS 237 ]
══ Skipped tests (3) ═══════════════════════════════════════════════════════════
• empty test (3): 'test_LRT.R:14:1', 'test_results.R:151:1',
  'test_weights.R:101:1'
[ FAIL 0 | WARN 1 | SKIP 3 | PASS 237 ]
> 
> proc.time()
   user  system elapsed 
246.153   2.903 249.702 
DESeq2.Rcheck/DESeq2-Ex.timings
| name | user | system | elapsed | |
| DESeq | 6.743 | 0.941 | 7.710 | |
| DESeqDataSet | 0.250 | 0.004 | 0.255 | |
| coef | 2.666 | 0.104 | 2.779 | |
| collapseReplicates | 0.451 | 0.008 | 0.461 | |
| counts | 0.407 | 0.008 | 0.414 | |
| design | 0.221 | 0.000 | 0.221 | |
| dispersionFunction | 1.951 | 0.027 | 1.987 | |
| estimateDispersions | 1.269 | 0.032 | 1.306 | |
| estimateDispersionsGeneEst | 1.292 | 0.048 | 1.345 | |
| estimateSizeFactors | 0.996 | 0.016 | 1.015 | |
| estimateSizeFactorsForMatrix | 0.218 | 0.000 | 0.219 | |
| fpkm | 0.950 | 0.016 | 0.969 | |
| fpm | 0.684 | 0.012 | 0.698 | |
| integrateWithSingleCell | 0 | 0 | 0 | |
| lfcShrink | 4.210 | 0.060 | 4.282 | |
| makeExampleDESeqDataSet | 0.220 | 0.004 | 0.224 | |
| nbinomLRT | 2.271 | 0.020 | 2.299 | |
| nbinomWaldTest | 2.227 | 0.040 | 2.274 | |
| normalizationFactors | 2.287 | 0.019 | 2.315 | |
| plotCounts | 0.492 | 0.000 | 0.494 | |
| plotDispEsts | 1.394 | 0.009 | 1.407 | |
| plotMA | 2.619 | 0.043 | 2.672 | |
| plotPCA | 2.764 | 0.036 | 2.809 | |
| plotSparsity | 0.414 | 0.000 | 0.415 | |
| results | 9.650 | 0.052 | 9.732 | |
| rlog | 1.897 | 0.056 | 1.960 | |
| summary | 2.740 | 0.135 | 2.886 | |
| unmix | 0.474 | 0.007 | 0.483 | |
| varianceStabilizingTransformation | 0.974 | 0.024 | 1.001 | |
| vst | 1.239 | 0.004 | 1.247 | |