| Back to Multiple platform build/check report for BioC 3.22: simplified long |
|
This page was generated on 2025-11-24 12:04 -0500 (Mon, 24 Nov 2025).
| Hostname | OS | Arch (*) | R version | Installed pkgs |
|---|---|---|---|---|
| nebbiolo2 | Linux (Ubuntu 24.04.3 LTS) | x86_64 | 4.5.2 (2025-10-31) -- "[Not] Part in a Rumble" | 4873 |
| merida1 | macOS 12.7.6 Monterey | x86_64 | 4.5.2 Patched (2025-11-05 r88990) -- "[Not] Part in a Rumble" | 4654 |
| kjohnson1 | macOS 13.7.5 Ventura | arm64 | 4.5.2 Patched (2025-11-04 r88984) -- "[Not] Part in a Rumble" | 4600 |
| taishan | Linux (openEuler 24.03 LTS) | aarch64 | 4.5.0 (2025-04-11) -- "How About a Twenty-Six" | 4668 |
| Click on any hostname to see more info about the system (e.g. compilers) (*) as reported by 'uname -p', except on Windows and Mac OS X | ||||
| Package 565/2361 | Hostname | OS / Arch | INSTALL | BUILD | CHECK | BUILD BIN | ||||||||
Arne Smits
| nebbiolo2 | Linux (Ubuntu 24.04.3 LTS) / x86_64 | OK | OK | OK | |||||||||
| merida1 | macOS 12.7.6 Monterey / x86_64 | OK | OK | OK | OK | |||||||||
| kjohnson1 | macOS 13.7.5 Ventura / arm64 | OK | OK | OK | OK | |||||||||
| taishan | Linux (openEuler 24.03 LTS) / aarch64 | OK | OK | OK | ||||||||||
|
To the developers/maintainers of the DEP package: - Allow up to 24 hours (and sometimes 48 hours) for your latest push to git@git.bioconductor.org:packages/DEP.git to reflect on this report. See Troubleshooting Build Report for more information. - Use the following Renviron settings to reproduce errors and warnings. - If 'R CMD check' started to fail recently on the Linux builder(s) over a missing dependency, add the missing dependency to 'Suggests:' in your DESCRIPTION file. See Renviron.bioc for more information. |
| Package: DEP |
| Version: 1.32.0 |
| Command: /Library/Frameworks/R.framework/Resources/bin/R CMD check --install=check:DEP.install-out.txt --library=/Library/Frameworks/R.framework/Resources/library --no-vignettes --timings DEP_1.32.0.tar.gz |
| StartedAt: 2025-11-21 04:01:05 -0500 (Fri, 21 Nov 2025) |
| EndedAt: 2025-11-21 04:18:30 -0500 (Fri, 21 Nov 2025) |
| EllapsedTime: 1044.4 seconds |
| RetCode: 0 |
| Status: OK |
| CheckDir: DEP.Rcheck |
| Warnings: 0 |
##############################################################################
##############################################################################
###
### Running command:
###
### /Library/Frameworks/R.framework/Resources/bin/R CMD check --install=check:DEP.install-out.txt --library=/Library/Frameworks/R.framework/Resources/library --no-vignettes --timings DEP_1.32.0.tar.gz
###
##############################################################################
##############################################################################
* using log directory ‘/Users/biocbuild/bbs-3.22-bioc/meat/DEP.Rcheck’
* using R version 4.5.2 Patched (2025-11-05 r88990)
* using platform: x86_64-apple-darwin20
* R was compiled by
Apple clang version 14.0.0 (clang-1400.0.29.202)
GNU Fortran (GCC) 14.2.0
* running under: macOS Monterey 12.7.6
* using session charset: UTF-8
* using option ‘--no-vignettes’
* checking for file ‘DEP/DESCRIPTION’ ... OK
* this is package ‘DEP’ version ‘1.32.0’
* package encoding: UTF-8
* checking package namespace information ... OK
* checking package dependencies ... INFO
Imports includes 23 non-default packages.
Importing from so many packages makes the package vulnerable to any of
them becoming unavailable. Move as many as possible to Suggests and
use conditionally.
* checking if this is a source package ... OK
* checking if there is a namespace ... OK
* checking for hidden files and directories ... OK
* checking for portable file names ... OK
* checking for sufficient/correct file permissions ... OK
* checking whether package ‘DEP’ can be installed ... OK
* checking installed package size ... OK
* checking package directory ... OK
* checking ‘build’ directory ... OK
* checking DESCRIPTION meta-information ... OK
* checking top-level files ... OK
* checking for left-over files ... OK
* checking index information ... OK
* checking package subdirectories ... OK
* checking code files for non-ASCII characters ... OK
* checking R files for syntax errors ... OK
* checking whether the package can be loaded ... OK
* checking whether the package can be loaded with stated dependencies ... OK
* checking whether the package can be unloaded cleanly ... OK
* checking whether the namespace can be loaded with stated dependencies ... OK
* checking whether the namespace can be unloaded cleanly ... OK
* checking whether startup messages can be suppressed ... OK
* checking dependencies in R code ... OK
* checking S3 generic/method consistency ... OK
* checking replacement functions ... OK
* checking foreign function calls ... OK
* checking R code for possible problems ... OK
* checking Rd files ... OK
* checking Rd metadata ... OK
* checking Rd cross-references ... NOTE
Non-topic package-anchored link(s) in Rd file 'LFQ.Rd':
‘[MSnbase:impute]{impute}’
Non-topic package-anchored link(s) in Rd file 'TMT.Rd':
‘[MSnbase:impute]{impute}’
Non-topic package-anchored link(s) in Rd file 'impute.Rd':
‘[MSnbase:impute]{impute}’
Non-topic package-anchored link(s) in Rd file 'process.Rd':
‘[MSnbase:impute]{impute}’
See section 'Cross-references' in the 'Writing R Extensions' manual.
* checking for missing documentation entries ... OK
* checking for code/documentation mismatches ... OK
* checking Rd \usage sections ... OK
* checking Rd contents ... OK
* checking for unstated dependencies in examples ... OK
* checking contents of ‘data’ directory ... OK
* checking data for non-ASCII characters ... OK
* checking LazyData ... OK
* checking data for ASCII and uncompressed saves ... OK
* checking R/sysdata.rda ... OK
* checking files in ‘vignettes’ ... OK
* checking examples ... OK
Examples with CPU (user + system) or elapsed time > 5s
user system elapsed
impute 120.810 0.524 129.535
plot_dist 9.179 0.061 10.078
plot_volcano 8.783 0.064 9.353
plot_heatmap 6.434 0.054 6.911
analyze_dep 5.243 0.182 5.818
plot_single 4.970 0.038 5.521
* checking for unstated dependencies in ‘tests’ ... OK
* checking tests ...
Running ‘testthat.R’
OK
* checking for unstated dependencies in vignettes ... OK
* checking package vignettes ... OK
* checking running R code from vignettes ... SKIPPED
* checking re-building of vignette outputs ... SKIPPED
* checking PDF version of manual ... OK
* DONE
Status: 1 NOTE
See
‘/Users/biocbuild/bbs-3.22-bioc/meat/DEP.Rcheck/00check.log’
for details.
DEP.Rcheck/00install.out
############################################################################## ############################################################################## ### ### Running command: ### ### /Library/Frameworks/R.framework/Resources/bin/R CMD INSTALL DEP ### ############################################################################## ############################################################################## * installing to library ‘/Library/Frameworks/R.framework/Versions/4.5-x86_64/Resources/library’ * installing *source* package ‘DEP’ ... ** this is package ‘DEP’ version ‘1.32.0’ ** using staged installation ** R ** data *** moving datasets to lazyload DB ** inst ** byte-compile and prepare package for lazy loading ** help *** installing help indices ** building package indices ** installing vignettes ** testing if installed package can be loaded from temporary location Warning in fun(libname, pkgname) : Package 'DEP' is deprecated and will be removed from Bioconductor version 3.23 ** testing if installed package can be loaded from final location Warning in fun(libname, pkgname) : Package 'DEP' is deprecated and will be removed from Bioconductor version 3.23 ** testing if installed package keeps a record of temporary installation path * DONE (DEP)
DEP.Rcheck/tests/testthat.Rout
R version 4.5.2 Patched (2025-11-05 r88990) -- "[Not] Part in a Rumble"
Copyright (C) 2025 The R Foundation for Statistical Computing
Platform: x86_64-apple-darwin20
R is free software and comes with ABSOLUTELY NO WARRANTY.
You are welcome to redistribute it under certain conditions.
Type 'license()' or 'licence()' for distribution details.
R is a collaborative project with many contributors.
Type 'contributors()' for more information and
'citation()' on how to cite R or R packages in publications.
Type 'demo()' for some demos, 'help()' for on-line help, or
'help.start()' for an HTML browser interface to help.
Type 'q()' to quit R.
> library(testthat)
> library(DEP)
Warning message:
In fun(libname, pkgname) :
Package 'DEP' is deprecated and will be removed from Bioconductor
version 3.23
>
> test_check("DEP")
[ FAIL 0 | WARN 15 | SKIP 0 | PASS 333 ]
[ FAIL 0 | WARN 15 | SKIP 0 | PASS 333 ]
>
> proc.time()
user system elapsed
136.071 5.734 160.485
DEP.Rcheck/DEP-Ex.timings
| name | user | system | elapsed | |
| LFQ | 3.048 | 0.054 | 3.261 | |
| TMT | 0.001 | 0.001 | 0.000 | |
| add_rejections | 2.663 | 0.021 | 2.864 | |
| analyze_dep | 5.243 | 0.182 | 5.818 | |
| filter_missval | 1.176 | 0.011 | 1.248 | |
| filter_proteins | 0.702 | 0.009 | 0.742 | |
| get_df_long | 1.784 | 0.021 | 1.960 | |
| get_df_wide | 1.709 | 0.019 | 1.862 | |
| get_prefix | 0.006 | 0.001 | 0.006 | |
| get_results | 2.265 | 0.021 | 2.443 | |
| get_suffix | 0.002 | 0.000 | 0.002 | |
| import_IsobarQuant | 0.001 | 0.001 | 0.002 | |
| import_MaxQuant | 0.121 | 0.002 | 0.131 | |
| impute | 120.810 | 0.524 | 129.535 | |
| make_se | 0.098 | 0.002 | 0.109 | |
| make_se_parse | 0.138 | 0.002 | 0.152 | |
| make_unique | 0.046 | 0.001 | 0.050 | |
| manual_impute | 1.587 | 0.048 | 1.716 | |
| meanSdPlot | 2.102 | 0.067 | 2.300 | |
| normalize_vsn | 0.829 | 0.008 | 0.877 | |
| plot_all | 4.269 | 0.042 | 4.572 | |
| plot_cond | 2.774 | 0.034 | 2.965 | |
| plot_cond_freq | 2.340 | 0.015 | 2.495 | |
| plot_cond_overlap | 2.324 | 0.016 | 2.506 | |
| plot_cor | 3.040 | 0.073 | 3.322 | |
| plot_coverage | 1.440 | 0.029 | 1.563 | |
| plot_detect | 3.393 | 0.051 | 3.668 | |
| plot_dist | 9.179 | 0.061 | 10.078 | |
| plot_frequency | 1.244 | 0.007 | 1.382 | |
| plot_gsea | 1.632 | 0.014 | 1.756 | |
| plot_heatmap | 6.434 | 0.054 | 6.911 | |
| plot_imputation | 2.733 | 0.021 | 2.956 | |
| plot_missval | 3.974 | 0.131 | 4.346 | |
| plot_normalization | 3.704 | 0.046 | 3.959 | |
| plot_numbers | 1.424 | 0.009 | 1.528 | |
| plot_p_hist | 3.553 | 0.064 | 3.808 | |
| plot_pca | 3.494 | 0.051 | 3.834 | |
| plot_single | 4.970 | 0.038 | 5.521 | |
| plot_volcano | 8.783 | 0.064 | 9.353 | |
| process | 3.801 | 0.034 | 4.049 | |
| report | 0.000 | 0.001 | 0.001 | |
| run_app | 0.000 | 0.000 | 0.001 | |
| se2msn | 0.284 | 0.002 | 0.308 | |
| test_diff | 2.041 | 0.024 | 2.178 | |
| test_gsea | 1.611 | 0.010 | 1.727 | |
| theme_DEP1 | 1.266 | 0.019 | 1.340 | |
| theme_DEP2 | 1.380 | 0.009 | 1.448 | |