| Back to Multiple platform build/check report for BioC 3.21: simplified long |
|
This page was generated on 2025-10-16 11:40 -0400 (Thu, 16 Oct 2025).
| Hostname | OS | Arch (*) | R version | Installed pkgs |
|---|---|---|---|---|
| nebbiolo1 | Linux (Ubuntu 24.04.3 LTS) | x86_64 | 4.5.1 (2025-06-13) -- "Great Square Root" | 4833 |
| merida1 | macOS 12.7.6 Monterey | x86_64 | 4.5.1 RC (2025-06-05 r88288) -- "Great Square Root" | 4614 |
| kjohnson1 | macOS 13.7.5 Ventura | arm64 | 4.5.1 Patched (2025-06-14 r88325) -- "Great Square Root" | 4555 |
| kunpeng2 | Linux (openEuler 24.03 LTS) | aarch64 | R Under development (unstable) (2025-02-19 r87757) -- "Unsuffered Consequences" | 4586 |
| Click on any hostname to see more info about the system (e.g. compilers) (*) as reported by 'uname -p', except on Windows and Mac OS X | ||||
| Package 405/2341 | Hostname | OS / Arch | INSTALL | BUILD | CHECK | BUILD BIN | ||||||||
| CNVPanelizer 1.40.0 (landing page) Thomas Wolf
| nebbiolo1 | Linux (Ubuntu 24.04.3 LTS) / x86_64 | OK | OK | OK | |||||||||
| merida1 | macOS 12.7.6 Monterey / x86_64 | OK | OK | OK | OK | |||||||||
| kjohnson1 | macOS 13.7.5 Ventura / arm64 | OK | OK | OK | OK | |||||||||
| kunpeng2 | Linux (openEuler 24.03 LTS) / aarch64 | OK | OK | OK | ||||||||||
|
To the developers/maintainers of the CNVPanelizer package: - Allow up to 24 hours (and sometimes 48 hours) for your latest push to git@git.bioconductor.org:packages/CNVPanelizer.git to reflect on this report. See Troubleshooting Build Report for more information. - Use the following Renviron settings to reproduce errors and warnings. - If 'R CMD check' started to fail recently on the Linux builder(s) over a missing dependency, add the missing dependency to 'Suggests:' in your DESCRIPTION file. See Renviron.bioc for more information. |
| Package: CNVPanelizer |
| Version: 1.40.0 |
| Command: /Library/Frameworks/R.framework/Resources/bin/R CMD check --install=check:CNVPanelizer.install-out.txt --library=/Library/Frameworks/R.framework/Resources/library --no-vignettes --timings CNVPanelizer_1.40.0.tar.gz |
| StartedAt: 2025-10-14 16:42:00 -0400 (Tue, 14 Oct 2025) |
| EndedAt: 2025-10-14 16:45:29 -0400 (Tue, 14 Oct 2025) |
| EllapsedTime: 209.1 seconds |
| RetCode: 0 |
| Status: OK |
| CheckDir: CNVPanelizer.Rcheck |
| Warnings: 0 |
##############################################################################
##############################################################################
###
### Running command:
###
### /Library/Frameworks/R.framework/Resources/bin/R CMD check --install=check:CNVPanelizer.install-out.txt --library=/Library/Frameworks/R.framework/Resources/library --no-vignettes --timings CNVPanelizer_1.40.0.tar.gz
###
##############################################################################
##############################################################################
* using log directory ‘/Users/biocbuild/bbs-3.21-bioc/meat/CNVPanelizer.Rcheck’
* using R version 4.5.1 Patched (2025-06-14 r88325)
* using platform: aarch64-apple-darwin20
* R was compiled by
Apple clang version 16.0.0 (clang-1600.0.26.6)
GNU Fortran (GCC) 14.2.0
* running under: macOS Ventura 13.7.5
* using session charset: UTF-8
* using option ‘--no-vignettes’
* checking for file ‘CNVPanelizer/DESCRIPTION’ ... OK
* checking extension type ... Package
* this is package ‘CNVPanelizer’ version ‘1.40.0’
* checking package namespace information ... OK
* checking package dependencies ... OK
* checking if this is a source package ... OK
* checking if there is a namespace ... OK
* checking for hidden files and directories ... OK
* checking for portable file names ... OK
* checking for sufficient/correct file permissions ... OK
* checking whether package ‘CNVPanelizer’ can be installed ... OK
* checking installed package size ... OK
* checking package directory ... OK
* checking ‘build’ directory ... OK
* checking DESCRIPTION meta-information ... OK
* checking top-level files ... OK
* checking for left-over files ... OK
* checking index information ... OK
* checking package subdirectories ... OK
* checking code files for non-ASCII characters ... OK
* checking R files for syntax errors ... OK
* checking whether the package can be loaded ... OK
* checking whether the package can be loaded with stated dependencies ... OK
* checking whether the package can be unloaded cleanly ... OK
* checking whether the namespace can be loaded with stated dependencies ... OK
* checking whether the namespace can be unloaded cleanly ... OK
* checking dependencies in R code ... NOTE
Namespace in Imports field not imported from: ‘S4Vectors’
All declared Imports should be used.
Unexported object imported by a ':::' call: ‘utils:::format.object_size’
See the note in ?`:::` about the use of this operator.
* checking S3 generic/method consistency ... OK
* checking replacement functions ... OK
* checking foreign function calls ... OK
* checking R code for possible problems ... NOTE
countBamInGRanges: no visible global function definition for ‘strand<-’
Undefined global functions or variables:
strand<-
* checking Rd files ... OK
* checking Rd metadata ... OK
* checking Rd cross-references ... OK
* checking for missing documentation entries ... OK
* checking for code/documentation mismatches ... OK
* checking Rd \usage sections ... OK
* checking Rd contents ... OK
* checking for unstated dependencies in examples ... OK
* checking contents of ‘data’ directory ... OK
* checking data for non-ASCII characters ... OK
* checking data for ASCII and uncompressed saves ... OK
* checking sizes of PDF files under ‘inst/doc’ ... OK
* checking files in ‘vignettes’ ... OK
* checking examples ... OK
* checking for unstated dependencies in ‘tests’ ... OK
* checking tests ...
Running ‘runTests.R’
OK
* checking for unstated dependencies in vignettes ... OK
* checking package vignettes ... OK
* checking running R code from vignettes ... SKIPPED
* checking re-building of vignette outputs ... SKIPPED
* checking PDF version of manual ... OK
* DONE
Status: 2 NOTEs
See
‘/Users/biocbuild/bbs-3.21-bioc/meat/CNVPanelizer.Rcheck/00check.log’
for details.
CNVPanelizer.Rcheck/00install.out
############################################################################## ############################################################################## ### ### Running command: ### ### /Library/Frameworks/R.framework/Resources/bin/R CMD INSTALL CNVPanelizer ### ############################################################################## ############################################################################## * installing to library ‘/Library/Frameworks/R.framework/Versions/4.5-arm64/Resources/library’ * installing *source* package ‘CNVPanelizer’ ... ** this is package ‘CNVPanelizer’ version ‘1.40.0’ ** using staged installation ** R ** data ** inst ** byte-compile and prepare package for lazy loading ** help *** installing help indices ** building package indices ** installing vignettes ** testing if installed package can be loaded from temporary location ** testing if installed package can be loaded from final location ** testing if installed package keeps a record of temporary installation path * DONE (CNVPanelizer)
CNVPanelizer.Rcheck/tests/runTests.Rout
R version 4.5.1 Patched (2025-06-14 r88325) -- "Great Square Root"
Copyright (C) 2025 The R Foundation for Statistical Computing
Platform: aarch64-apple-darwin20
R is free software and comes with ABSOLUTELY NO WARRANTY.
You are welcome to redistribute it under certain conditions.
Type 'license()' or 'licence()' for distribution details.
R is a collaborative project with many contributors.
Type 'contributors()' for more information and
'citation()' on how to cite R or R packages in publications.
Type 'demo()' for some demos, 'help()' for on-line help, or
'help.start()' for an HTML browser interface to help.
Type 'q()' to quit R.
> BiocGenerics:::testPackage("CNVPanelizer")
Attaching package: 'generics'
The following objects are masked from 'package:base':
as.difftime, as.factor, as.ordered, intersect, is.element, setdiff,
setequal, union
Attaching package: 'BiocGenerics'
The following objects are masked from 'package:stats':
IQR, mad, sd, var, xtabs
The following objects are masked from 'package:base':
Filter, Find, Map, Position, Reduce, anyDuplicated, aperm, append,
as.data.frame, basename, cbind, colnames, dirname, do.call,
duplicated, eval, evalq, get, grep, grepl, is.unsorted, lapply,
mapply, match, mget, order, paste, pmax, pmax.int, pmin, pmin.int,
rank, rbind, rownames, sapply, saveRDS, table, tapply, unique,
unsplit, which.max, which.min
Attaching package: 'S4Vectors'
The following object is masked from 'package:utils':
findMatches
The following objects are masked from 'package:base':
I, expand.grid, unname
Calculating Background for s1
Calculating Background for s2
Calculating Background for s3
Calculating Background for s4
Saving plot to '/tmp/RtmpCbzgwg/s1_plot.pdf'
Saving plot to '/tmp/RtmpCbzgwg/s2_plot.pdf'
Saving plot to '/tmp/RtmpCbzgwg/s3_plot.pdf'
Saving plot to '/tmp/RtmpCbzgwg/s4_plot.pdf'
Saving plot to '/tmp/RtmpCbzgwg/sample1.pdf'
Saving plot to '/tmp/RtmpCbzgwg/sample2.pdf'
Saving plot to '/tmp/RtmpCbzgwg/sample3.pdf'
Saving plot to '/tmp/RtmpCbzgwg/sample4.pdf'
Calculating Background for c:/somefile1.bam
Saving file to '/tmp/RtmpCbzgwg/samples.xlsx'
[1] "GENE 1: 0.166666666666667"
[1] "GENE 2: 0.356348322549899"
RUNIT TEST PROTOCOL -- Tue Oct 14 16:45:18 2025
***********************************************
Number of test functions: 9
Number of errors: 0
Number of failures: 0
1 Test Suite :
CNVPanelizer RUnit Tests - 9 test functions, 0 errors, 0 failures
Number of test functions: 9
Number of errors: 0
Number of failures: 0
>
> proc.time()
user system elapsed
33.598 0.886 34.871
CNVPanelizer.Rcheck/CNVPanelizer-Ex.timings
| name | user | system | elapsed | |
| Background | 0.222 | 0.020 | 0.248 | |
| BedToGenomicRanges | 0.000 | 0.000 | 0.001 | |
| BootList | 0.069 | 0.008 | 0.077 | |
| CNVPanelizerFromReadCounts | 0 | 0 | 0 | |
| CNVPanelizerFromReadCountsHelper | 0.000 | 0.001 | 0.000 | |
| CollectColumnFromAllReportTables | 0 | 0 | 0 | |
| CombinedNormalizedCounts | 0.021 | 0.006 | 0.026 | |
| IndexMultipleBams | 0 | 0 | 0 | |
| NormalizedCounts | 0.002 | 0.003 | 0.005 | |
| PlotBootstrapDistributions | 4.401 | 0.217 | 4.679 | |
| ReadCountsFromBam | 0 | 0 | 0 | |
| ReadXLSXToList | 0 | 0 | 0 | |
| ReportTables | 0.309 | 0.014 | 0.328 | |
| RunCNVPanelizerShiny | 0 | 0 | 0 | |
| SelectReferenceSetByInterquartileRange | 0 | 0 | 0 | |
| SelectReferenceSetByKmeans | 0 | 0 | 0 | |
| SelectReferenceSetByPercentil | 0 | 0 | 0 | |
| SelectReferenceSetFromReadCounts | 0.001 | 0.000 | 0.001 | |
| StatusHeatmap | 0.000 | 0.001 | 0.000 | |
| WriteListToXLSX | 0 | 0 | 0 | |