| Back to Multiple platform build/check report for BioC 3.21: simplified long |
|
This page was generated on 2025-04-22 13:15 -0400 (Tue, 22 Apr 2025).
| Hostname | OS | Arch (*) | R version | Installed pkgs |
|---|---|---|---|---|
| nebbiolo1 | Linux (Ubuntu 24.04.1 LTS) | x86_64 | 4.5.0 RC (2025-04-04 r88126) -- "How About a Twenty-Six" | 4831 |
| palomino7 | Windows Server 2022 Datacenter | x64 | 4.5.0 RC (2025-04-04 r88126 ucrt) -- "How About a Twenty-Six" | 4573 |
| lconway | macOS 12.7.1 Monterey | x86_64 | 4.5.0 RC (2025-04-04 r88126) -- "How About a Twenty-Six" | 4599 |
| kjohnson3 | macOS 13.7.1 Ventura | arm64 | 4.5.0 RC (2025-04-04 r88126) -- "How About a Twenty-Six" | 4553 |
| kunpeng2 | Linux (openEuler 24.03 LTS) | aarch64 | R Under development (unstable) (2025-02-19 r87757) -- "Unsuffered Consequences" | 4570 |
| Click on any hostname to see more info about the system (e.g. compilers) (*) as reported by 'uname -p', except on Windows and Mac OS X | ||||
| Package 255/2341 | Hostname | OS / Arch | INSTALL | BUILD | CHECK | BUILD BIN | ||||||||
| BulkSignalR 1.0.0 (landing page) Jean-Philippe Villemin
| nebbiolo1 | Linux (Ubuntu 24.04.1 LTS) / x86_64 | OK | OK | OK | |||||||||
| palomino7 | Windows Server 2022 Datacenter / x64 | ERROR | ERROR | skipped | skipped | |||||||||
| lconway | macOS 12.7.1 Monterey / x86_64 | OK | OK | OK | OK | |||||||||
| kjohnson3 | macOS 13.7.1 Ventura / arm64 | OK | OK | OK | OK | |||||||||
| kunpeng2 | Linux (openEuler 24.03 LTS) / aarch64 | ERROR | ERROR | skipped | ||||||||||
|
To the developers/maintainers of the BulkSignalR package: - Allow up to 24 hours (and sometimes 48 hours) for your latest push to git@git.bioconductor.org:packages/BulkSignalR.git to reflect on this report. See Troubleshooting Build Report for more information. - Use the following Renviron settings to reproduce errors and warnings. - If 'R CMD check' started to fail recently on the Linux builder(s) over a missing dependency, add the missing dependency to 'Suggests:' in your DESCRIPTION file. See Renviron.bioc for more information. |
| Package: BulkSignalR |
| Version: 1.0.0 |
| Command: /Library/Frameworks/R.framework/Resources/bin/R CMD check --install=check:BulkSignalR.install-out.txt --library=/Library/Frameworks/R.framework/Resources/library --no-vignettes --timings BulkSignalR_1.0.0.tar.gz |
| StartedAt: 2025-04-21 19:30:44 -0400 (Mon, 21 Apr 2025) |
| EndedAt: 2025-04-21 19:38:26 -0400 (Mon, 21 Apr 2025) |
| EllapsedTime: 462.0 seconds |
| RetCode: 0 |
| Status: OK |
| CheckDir: BulkSignalR.Rcheck |
| Warnings: 0 |
##############################################################################
##############################################################################
###
### Running command:
###
### /Library/Frameworks/R.framework/Resources/bin/R CMD check --install=check:BulkSignalR.install-out.txt --library=/Library/Frameworks/R.framework/Resources/library --no-vignettes --timings BulkSignalR_1.0.0.tar.gz
###
##############################################################################
##############################################################################
* using log directory ‘/Users/biocbuild/bbs-3.21-bioc/meat/BulkSignalR.Rcheck’
* using R version 4.5.0 RC (2025-04-04 r88126)
* using platform: x86_64-apple-darwin20
* R was compiled by
Apple clang version 14.0.0 (clang-1400.0.29.202)
GNU Fortran (GCC) 14.2.0
* running under: macOS Monterey 12.7.6
* using session charset: UTF-8
* using option ‘--no-vignettes’
* checking for file ‘BulkSignalR/DESCRIPTION’ ... OK
* checking extension type ... Package
* this is package ‘BulkSignalR’ version ‘1.0.0’
* package encoding: UTF-8
* checking package namespace information ... OK
* checking package dependencies ... INFO
Imports includes 28 non-default packages.
Importing from so many packages makes the package vulnerable to any of
them becoming unavailable. Move as many as possible to Suggests and
use conditionally.
* checking if this is a source package ... OK
* checking if there is a namespace ... OK
* checking for hidden files and directories ... OK
* checking for portable file names ... OK
* checking for sufficient/correct file permissions ... OK
* checking whether package ‘BulkSignalR’ can be installed ... OK
* checking installed package size ... OK
* checking package directory ... OK
* checking ‘build’ directory ... OK
* checking DESCRIPTION meta-information ... OK
* checking top-level files ... OK
* checking for left-over files ... OK
* checking index information ... OK
* checking package subdirectories ... OK
* checking code files for non-ASCII characters ... OK
* checking R files for syntax errors ... OK
* checking whether the package can be loaded ... OK
* checking whether the package can be loaded with stated dependencies ... OK
* checking whether the package can be unloaded cleanly ... OK
* checking whether the namespace can be loaded with stated dependencies ... OK
* checking whether the namespace can be unloaded cleanly ... OK
* checking whether startup messages can be suppressed ... OK
* checking dependencies in R code ... OK
* checking S3 generic/method consistency ... OK
* checking replacement functions ... OK
* checking foreign function calls ... OK
* checking R code for possible problems ... OK
* checking Rd files ... OK
* checking Rd metadata ... OK
* checking Rd cross-references ... OK
* checking for missing documentation entries ... OK
* checking for code/documentation mismatches ... OK
* checking Rd \usage sections ... OK
* checking Rd contents ... OK
* checking for unstated dependencies in examples ... OK
* checking contents of ‘data’ directory ... OK
* checking data for non-ASCII characters ... OK
* checking data for ASCII and uncompressed saves ... OK
* checking files in ‘vignettes’ ... OK
* checking examples ... OK
Examples with CPU (user + system) or elapsed time > 5s
user system elapsed
cacheClear 2.100 0.078 5.377
convertToHuman 0.369 0.025 8.694
* checking for unstated dependencies in ‘tests’ ... OK
* checking tests ...
Running ‘testthat.R’
OK
* checking for unstated dependencies in vignettes ... OK
* checking package vignettes ... OK
* checking running R code from vignettes ... SKIPPED
* checking re-building of vignette outputs ... SKIPPED
* checking PDF version of manual ... OK
* DONE
Status: OK
BulkSignalR.Rcheck/00install.out
############################################################################## ############################################################################## ### ### Running command: ### ### /Library/Frameworks/R.framework/Resources/bin/R CMD INSTALL BulkSignalR ### ############################################################################## ############################################################################## * installing to library ‘/Library/Frameworks/R.framework/Versions/4.5-x86_64/Resources/library’ * installing *source* package ‘BulkSignalR’ ... ** this is package ‘BulkSignalR’ version ‘1.0.0’ ** using staged installation ** R ** data ** inst ** byte-compile and prepare package for lazy loading ** help *** installing help indices *** copying figures ** building package indices ** installing vignettes ** testing if installed package can be loaded from temporary location ** testing if installed package can be loaded from final location ** testing if installed package keeps a record of temporary installation path * DONE (BulkSignalR)
BulkSignalR.Rcheck/tests/testthat.Rout
R version 4.5.0 RC (2025-04-04 r88126) -- "How About a Twenty-Six"
Copyright (C) 2025 The R Foundation for Statistical Computing
Platform: x86_64-apple-darwin20
R is free software and comes with ABSOLUTELY NO WARRANTY.
You are welcome to redistribute it under certain conditions.
Type 'license()' or 'licence()' for distribution details.
R is a collaborative project with many contributors.
Type 'contributors()' for more information and
'citation()' on how to cite R or R packages in publications.
Type 'demo()' for some demos, 'help()' for on-line help, or
'help.start()' for an HTML browser interface to help.
Type 'q()' to quit R.
> library(testthat)
> library(BulkSignalR)
Local "database" is up to date.
Local "resources" are up to date.
> test_check("BulkSignalR")
[ FAIL 0 | WARN 0 | SKIP 0 | PASS 1 ]
>
> proc.time()
user system elapsed
16.296 0.921 17.914
BulkSignalR.Rcheck/BulkSignalR-Ex.timings
| name | user | system | elapsed | |
| BSRClusterComp-class | 0.003 | 0.001 | 0.004 | |
| BSRClusterComp | 0.363 | 0.030 | 0.412 | |
| BSRDataModel-class | 0.006 | 0.000 | 0.006 | |
| BSRDataModel | 0.258 | 0.006 | 0.265 | |
| BSRDataModelComp-class | 0.006 | 0.001 | 0.006 | |
| BSRInference-class | 0.003 | 0.000 | 0.003 | |
| BSRInference | 2.838 | 0.089 | 2.946 | |
| BSRInferenceComp-class | 0.005 | 0.000 | 0.006 | |
| BSRInferenceComp | 1.383 | 0.086 | 1.479 | |
| BSRSignature-class | 0.002 | 0.000 | 0.002 | |
| BSRSignature | 0.027 | 0.001 | 0.029 | |
| BSRSignatureComp-class | 0.003 | 0.000 | 0.004 | |
| BSRSignatureComp | 0.013 | 0.001 | 0.015 | |
| LRinter | 0.002 | 0.001 | 0.002 | |
| LRinterScore | 0.004 | 0.001 | 0.005 | |
| LRinterShort | 0.003 | 0.000 | 0.004 | |
| addClusterComp | 1.110 | 0.029 | 1.147 | |
| alluvialPlot | 0.390 | 0.011 | 0.404 | |
| assignCellTypesToInteractions | 0.701 | 0.030 | 0.735 | |
| bubblePlotPathwaysLR | 0.341 | 0.004 | 0.345 | |
| cacheClear | 2.100 | 0.078 | 5.377 | |
| cacheInfo | 0.239 | 0.016 | 0.257 | |
| cacheVersion | 0.411 | 0.043 | 0.800 | |
| cellTypeFrequency | 0.680 | 0.020 | 0.703 | |
| cellularNetwork | 0.624 | 0.028 | 0.654 | |
| cellularNetworkTable | 0.655 | 0.020 | 0.678 | |
| chordDiagramLR | 1.333 | 0.017 | 1.357 | |
| coerce | 0.001 | 0.001 | 0.001 | |
| colClusterA | 0.000 | 0.000 | 0.001 | |
| colClusterB | 0 | 0 | 0 | |
| comparison | 0 | 0 | 0 | |
| comparisonName | 0.000 | 0.001 | 0.000 | |
| convertToHuman | 0.369 | 0.025 | 8.694 | |
| createDatabase | 0 | 0 | 0 | |
| createResources | 0.276 | 0.035 | 0.833 | |
| differentialStats | 0.001 | 0.001 | 0.001 | |
| findOrthoGenes | 0.147 | 0.004 | 0.414 | |
| generateSpatialPlots | 1.359 | 0.034 | 1.397 | |
| getComplexes | 0.115 | 0.011 | 0.127 | |
| getInteractions | 1.101 | 0.015 | 1.120 | |
| getLRIntracellNetwork | 2.071 | 0.169 | 2.249 | |
| getLRNetwork | 0.040 | 0.001 | 0.041 | |
| getPathwayStats | 0.014 | 0.001 | 0.015 | |
| getResource | 0.327 | 0.033 | 0.362 | |
| inferenceParameters | 0.000 | 0.000 | 0.001 | |
| initialOrganism | 0.003 | 0.000 | 0.003 | |
| initialOrthologs | 0.001 | 0.000 | 0.000 | |
| learnParameters | 2.822 | 0.028 | 2.863 | |
| ligands | 0.000 | 0.000 | 0.001 | |
| logTransformed | 0.001 | 0.001 | 0.001 | |
| maxLigandSpatialCounts | 0.057 | 0.003 | 0.062 | |
| mu | 0 | 0 | 0 | |
| ncounts | 0.001 | 0.001 | 0.001 | |
| normalization | 0.001 | 0.000 | 0.001 | |
| parameters | 0.001 | 0.000 | 0.001 | |
| pathways | 0.001 | 0.000 | 0.001 | |
| receptors | 0 | 0 | 0 | |
| reduceToBestPathway | 0.094 | 0.003 | 0.097 | |
| reduceToLigand | 0.043 | 0.001 | 0.045 | |
| reduceToPathway | 0.090 | 0.003 | 0.092 | |
| reduceToReceptor | 0.015 | 0.002 | 0.018 | |
| relateToGeneSet | 0.113 | 0.012 | 0.130 | |
| removeClusterComp | 0.328 | 0.009 | 0.338 | |
| rescoreInference | 0.029 | 0.004 | 0.032 | |
| resetLRdb | 0.013 | 0.001 | 0.014 | |
| resetNetwork | 0.007 | 0.000 | 0.007 | |
| resetPathways | 0.308 | 0.024 | 0.340 | |
| resetToInitialOrganism | 0.164 | 0.005 | 0.171 | |
| scoreLRGeneSignatures | 0.442 | 0.038 | 0.482 | |
| scoreSignatures | 0.399 | 0.009 | 0.412 | |
| separatedLRPlot | 1.389 | 0.032 | 1.429 | |
| signatureHeatmaps | 0.019 | 0.002 | 0.021 | |
| simpleHeatmap | 1.205 | 0.066 | 1.693 | |
| smoothSpatialCounts | 0.050 | 0.002 | 0.052 | |
| sourceComparisonName | 0.001 | 0.000 | 0.000 | |
| spatialAssociation | 0.050 | 0.003 | 0.053 | |
| spatialAssociationPlot | 3.917 | 0.055 | 3.990 | |
| spatialDiversityPlot | 0.923 | 0.017 | 0.946 | |
| spatialIndexPlot | 1.161 | 0.049 | 1.214 | |
| spatialPlot | 1.007 | 0.018 | 1.030 | |
| summarizedCellularNetwork | 0.730 | 0.022 | 0.757 | |
| tgCorr | 0.001 | 0.000 | 0.000 | |
| tgExpr | 0 | 0 | 0 | |
| tgGenes | 0.000 | 0.001 | 0.000 | |
| tgLogFC | 0.000 | 0.000 | 0.001 | |
| tgPval | 0 | 0 | 0 | |
| updateInference | 0.083 | 0.003 | 0.086 | |