Back to Multiple platform build/check report for BioC 3.22:   simplified   long
A[B]CDEFGHIJKLMNOPQRSTUVWXYZ

This page was generated on 2025-11-20 12:05 -0500 (Thu, 20 Nov 2025).

HostnameOSArch (*)R versionInstalled pkgs
nebbiolo2Linux (Ubuntu 24.04.3 LTS)x86_644.5.2 (2025-10-31) -- "[Not] Part in a Rumble" 4615
merida1macOS 12.7.6 Montereyx86_644.5.2 Patched (2025-11-05 r88990) -- "[Not] Part in a Rumble" 4610
kjohnson1macOS 13.7.5 Venturaarm644.5.2 Patched (2025-11-04 r88984) -- "[Not] Part in a Rumble" 4598
taishanLinux (openEuler 24.03 LTS)aarch644.5.0 (2025-04-11) -- "How About a Twenty-Six" 4668
Click on any hostname to see more info about the system (e.g. compilers)      (*) as reported by 'uname -p', except on Windows and Mac OS X

Package 247/2361HostnameOS / ArchINSTALLBUILDCHECKBUILD BIN
BreastSubtypeR 1.2.0  (landing page)
Qiao Yang
Snapshot Date: 2025-11-17 13:45 -0500 (Mon, 17 Nov 2025)
git_url: https://git.bioconductor.org/packages/BreastSubtypeR
git_branch: RELEASE_3_22
git_last_commit: f1af123
git_last_commit_date: 2025-10-29 11:36:09 -0500 (Wed, 29 Oct 2025)
nebbiolo2Linux (Ubuntu 24.04.3 LTS) / x86_64  OK    OK    OK  UNNEEDED, same version is already published
merida1macOS 12.7.6 Monterey / x86_64  OK    OK    OK    OK  UNNEEDED, same version is already published
kjohnson1macOS 13.7.5 Ventura / arm64  OK    OK    OK    OK  UNNEEDED, same version is already published
taishanLinux (openEuler 24.03 LTS) / aarch64  OK    OK    OK  


CHECK results for BreastSubtypeR on kjohnson1

To the developers/maintainers of the BreastSubtypeR package:
- Allow up to 24 hours (and sometimes 48 hours) for your latest push to git@git.bioconductor.org:packages/BreastSubtypeR.git to reflect on this report. See Troubleshooting Build Report for more information.
- Use the following Renviron settings to reproduce errors and warnings.
- If 'R CMD check' started to fail recently on the Linux builder(s) over a missing dependency, add the missing dependency to 'Suggests:' in your DESCRIPTION file. See Renviron.bioc for more information.

raw results


Summary

Package: BreastSubtypeR
Version: 1.2.0
Command: /Library/Frameworks/R.framework/Resources/bin/R CMD check --install=check:BreastSubtypeR.install-out.txt --library=/Library/Frameworks/R.framework/Resources/library --no-vignettes --timings BreastSubtypeR_1.2.0.tar.gz
StartedAt: 2025-11-18 03:25:36 -0500 (Tue, 18 Nov 2025)
EndedAt: 2025-11-18 03:27:18 -0500 (Tue, 18 Nov 2025)
EllapsedTime: 102.0 seconds
RetCode: 0
Status:   OK  
CheckDir: BreastSubtypeR.Rcheck
Warnings: 0

Command output

##############################################################################
##############################################################################
###
### Running command:
###
###   /Library/Frameworks/R.framework/Resources/bin/R CMD check --install=check:BreastSubtypeR.install-out.txt --library=/Library/Frameworks/R.framework/Resources/library --no-vignettes --timings BreastSubtypeR_1.2.0.tar.gz
###
##############################################################################
##############################################################################


* using log directory ‘/Users/biocbuild/bbs-3.22-bioc/meat/BreastSubtypeR.Rcheck’
* using R version 4.5.2 Patched (2025-11-04 r88984)
* using platform: aarch64-apple-darwin20
* R was compiled by
    Apple clang version 16.0.0 (clang-1600.0.26.6)
    GNU Fortran (GCC) 14.2.0
* running under: macOS Ventura 13.7.8
* using session charset: UTF-8
* using option ‘--no-vignettes’
* checking for file ‘BreastSubtypeR/DESCRIPTION’ ... OK
* checking extension type ... Package
* this is package ‘BreastSubtypeR’ version ‘1.2.0’
* package encoding: UTF-8
* checking package namespace information ... OK
* checking package dependencies ... OK
* checking if this is a source package ... OK
* checking if there is a namespace ... OK
* checking for hidden files and directories ... OK
* checking for portable file names ... OK
* checking for sufficient/correct file permissions ... OK
* checking whether package ‘BreastSubtypeR’ can be installed ... OK
* checking installed package size ... INFO
  installed size is  9.3Mb
  sub-directories of 1Mb or more:
    RshinyTest   4.8Mb
    data         4.0Mb
* checking package directory ... OK
* checking ‘build’ directory ... OK
* checking DESCRIPTION meta-information ... OK
* checking top-level files ... OK
* checking for left-over files ... OK
* checking index information ... OK
* checking package subdirectories ... OK
* checking code files for non-ASCII characters ... OK
* checking R files for syntax errors ... OK
* checking whether the package can be loaded ... OK
* checking whether the package can be loaded with stated dependencies ... OK
* checking whether the package can be unloaded cleanly ... OK
* checking whether the namespace can be loaded with stated dependencies ... OK
* checking whether the namespace can be unloaded cleanly ... OK
* checking dependencies in R code ... OK
* checking S3 generic/method consistency ... OK
* checking replacement functions ... OK
* checking foreign function calls ... OK
* checking R code for possible problems ... OK
* checking Rd files ... OK
* checking Rd metadata ... OK
* checking Rd cross-references ... OK
* checking for missing documentation entries ... OK
* checking for code/documentation mismatches ... OK
* checking Rd \usage sections ... OK
* checking Rd contents ... OK
* checking for unstated dependencies in examples ... OK
* checking contents of ‘data’ directory ... OK
* checking data for non-ASCII characters ... OK
* checking data for ASCII and uncompressed saves ... OK
* checking files in ‘vignettes’ ... OK
* checking examples ... OK
* checking for unstated dependencies in ‘tests’ ... OK
* checking tests ...
  Running ‘testthat.R’
 OK
* checking for unstated dependencies in vignettes ... OK
* checking package vignettes ... OK
* checking running R code from vignettes ... SKIPPED
* checking re-building of vignette outputs ... SKIPPED
* checking PDF version of manual ... OK
* DONE

Status: OK


Installation output

BreastSubtypeR.Rcheck/00install.out

##############################################################################
##############################################################################
###
### Running command:
###
###   /Library/Frameworks/R.framework/Resources/bin/R CMD INSTALL BreastSubtypeR
###
##############################################################################
##############################################################################


* installing to library ‘/Library/Frameworks/R.framework/Versions/4.5-arm64/Resources/library’
* installing *source* package ‘BreastSubtypeR’ ...
** this is package ‘BreastSubtypeR’ version ‘1.2.0’
** using staged installation
** R
** data
** inst
** byte-compile and prepare package for lazy loading
** help
*** installing help indices
** building package indices
** installing vignettes
** testing if installed package can be loaded from temporary location
** testing if installed package can be loaded from final location
** testing if installed package keeps a record of temporary installation path
* DONE (BreastSubtypeR)

Tests output

BreastSubtypeR.Rcheck/tests/testthat.Rout


R version 4.5.2 Patched (2025-11-04 r88984) -- "[Not] Part in a Rumble"
Copyright (C) 2025 The R Foundation for Statistical Computing
Platform: aarch64-apple-darwin20

R is free software and comes with ABSOLUTELY NO WARRANTY.
You are welcome to redistribute it under certain conditions.
Type 'license()' or 'licence()' for distribution details.

R is a collaborative project with many contributors.
Type 'contributors()' for more information and
'citation()' on how to cite R or R packages in publications.

Type 'demo()' for some demos, 'help()' for on-line help, or
'help.start()' for an HTML browser interface to help.
Type 'q()' to quit R.

> library(testthat)
> library(BreastSubtypeR)
> 
> test_that("BS_Multi performs subtyping correctly", {
+     # Load required dataset
+     data("OSLO2EMIT0obj")
+ 
+     # Define methods to use for subtyping
+     methods <- c("genefu.robust", "PCAPAM50", "ssBC", "AIMS")
+ 
+     # Perform subtyping
+     res.test <- BS_Multi(
+         data_input = OSLO2EMIT0obj$data_input,
+         methods = methods,
+         Subtype = FALSE,
+         hasClinical = FALSE
+     )
+ 
+     # Validate results
+     expect_true(identical(res.test$res_subtypes[, methods], OSLO2EMIT0obj$res$res_subtypes[, methods])) # Validate results
+ })
Test passed with 1 success 🌈.
> 
> proc.time()
   user  system elapsed 
  3.989   0.168   4.631 

Example timings

BreastSubtypeR.Rcheck/BreastSubtypeR-Ex.timings

nameusersystemelapsed
AIMSmodel0.0010.0010.002
BS_AIMS0.0920.0060.105
BS_Multi0.4600.0140.564
BS_PCAPAM500.1370.0120.156
BS_cIHC0.0590.0020.064
BS_cIHC.itr0.4810.0200.531
BS_parker0.0600.0020.068
BS_ssBC0.1160.0060.128
BS_sspbc0.2180.0070.239
BreastSubtypeRobj0.0010.0010.002
Gene.ID.ann0.0840.0020.114
Mapping0.2290.0060.259
OSLO2EMIT0obj0.0100.0010.014
TCGABRCAobj0.0290.0010.038
Vis_Multi0.3650.0110.438
Vis_PCA0.3520.0150.382
Vis_boxplot0.1150.0010.124
Vis_heatmap1.3690.0261.578
Vis_pie0.2110.0020.216
iBreastSubtypeR0.0000.0000.001
sspbc.models0.0070.0020.008
sspbc.models.fullname0.0060.0010.007