| Back to Multiple platform build/check report for BioC 3.21: simplified long |
|
This page was generated on 2025-10-16 11:37 -0400 (Thu, 16 Oct 2025).
| Hostname | OS | Arch (*) | R version | Installed pkgs |
|---|---|---|---|---|
| nebbiolo1 | Linux (Ubuntu 24.04.3 LTS) | x86_64 | 4.5.1 (2025-06-13) -- "Great Square Root" | 4833 |
| merida1 | macOS 12.7.6 Monterey | x86_64 | 4.5.1 RC (2025-06-05 r88288) -- "Great Square Root" | 4614 |
| kjohnson1 | macOS 13.7.5 Ventura | arm64 | 4.5.1 Patched (2025-06-14 r88325) -- "Great Square Root" | 4555 |
| kunpeng2 | Linux (openEuler 24.03 LTS) | aarch64 | R Under development (unstable) (2025-02-19 r87757) -- "Unsuffered Consequences" | 4586 |
| Click on any hostname to see more info about the system (e.g. compilers) (*) as reported by 'uname -p', except on Windows and Mac OS X | ||||
| Package 184/2341 | Hostname | OS / Arch | INSTALL | BUILD | CHECK | BUILD BIN | ||||||||
| BiocFHIR 1.10.0 (landing page) Vincent Carey
| nebbiolo1 | Linux (Ubuntu 24.04.3 LTS) / x86_64 | OK | OK | OK | |||||||||
| merida1 | macOS 12.7.6 Monterey / x86_64 | OK | OK | OK | OK | |||||||||
| kjohnson1 | macOS 13.7.5 Ventura / arm64 | OK | OK | OK | OK | |||||||||
| kunpeng2 | Linux (openEuler 24.03 LTS) / aarch64 | OK | OK | OK | ||||||||||
|
To the developers/maintainers of the BiocFHIR package: - Allow up to 24 hours (and sometimes 48 hours) for your latest push to git@git.bioconductor.org:packages/BiocFHIR.git to reflect on this report. See Troubleshooting Build Report for more information. - Use the following Renviron settings to reproduce errors and warnings. - If 'R CMD check' started to fail recently on the Linux builder(s) over a missing dependency, add the missing dependency to 'Suggests:' in your DESCRIPTION file. See Renviron.bioc for more information. |
| Package: BiocFHIR |
| Version: 1.10.0 |
| Command: /home/biocbuild/bbs-3.21-bioc/R/bin/R CMD check --install=check:BiocFHIR.install-out.txt --library=/home/biocbuild/bbs-3.21-bioc/R/site-library --timings BiocFHIR_1.10.0.tar.gz |
| StartedAt: 2025-10-15 21:10:48 -0400 (Wed, 15 Oct 2025) |
| EndedAt: 2025-10-15 21:12:31 -0400 (Wed, 15 Oct 2025) |
| EllapsedTime: 102.2 seconds |
| RetCode: 0 |
| Status: OK |
| CheckDir: BiocFHIR.Rcheck |
| Warnings: 0 |
##############################################################################
##############################################################################
###
### Running command:
###
### /home/biocbuild/bbs-3.21-bioc/R/bin/R CMD check --install=check:BiocFHIR.install-out.txt --library=/home/biocbuild/bbs-3.21-bioc/R/site-library --timings BiocFHIR_1.10.0.tar.gz
###
##############################################################################
##############################################################################
* using log directory ‘/home/biocbuild/bbs-3.21-bioc/meat/BiocFHIR.Rcheck’
* using R version 4.5.1 (2025-06-13)
* using platform: x86_64-pc-linux-gnu
* R was compiled by
gcc (Ubuntu 13.3.0-6ubuntu2~24.04) 13.3.0
GNU Fortran (Ubuntu 13.3.0-6ubuntu2~24.04) 13.3.0
* running under: Ubuntu 24.04.3 LTS
* using session charset: UTF-8
* checking for file ‘BiocFHIR/DESCRIPTION’ ... OK
* this is package ‘BiocFHIR’ version ‘1.10.0’
* package encoding: UTF-8
* checking package namespace information ... OK
* checking package dependencies ... OK
* checking if this is a source package ... OK
* checking if there is a namespace ... OK
* checking for hidden files and directories ... OK
* checking for portable file names ... OK
* checking for sufficient/correct file permissions ... OK
* checking whether package ‘BiocFHIR’ can be installed ... OK
* checking installed package size ... OK
* checking package directory ... OK
* checking ‘build’ directory ... OK
* checking DESCRIPTION meta-information ... OK
* checking top-level files ... OK
* checking for left-over files ... OK
* checking index information ... OK
* checking package subdirectories ... OK
* checking code files for non-ASCII characters ... OK
* checking R files for syntax errors ... OK
* checking whether the package can be loaded ... OK
* checking whether the package can be loaded with stated dependencies ... OK
* checking whether the package can be unloaded cleanly ... OK
* checking whether the namespace can be loaded with stated dependencies ... OK
* checking whether the namespace can be unloaded cleanly ... OK
* checking loading without being on the library search path ... OK
* checking dependencies in R code ... OK
* checking S3 generic/method consistency ... OK
* checking replacement functions ... OK
* checking foreign function calls ... OK
* checking R code for possible problems ... OK
* checking Rd files ... OK
* checking Rd metadata ... OK
* checking Rd cross-references ... OK
* checking for missing documentation entries ... OK
* checking for code/documentation mismatches ... OK
* checking Rd \usage sections ... OK
* checking Rd contents ... OK
* checking for unstated dependencies in examples ... OK
* checking contents of ‘data’ directory ... OK
* checking data for non-ASCII characters ... OK
* checking data for ASCII and uncompressed saves ... OK
* checking files in ‘vignettes’ ... OK
* checking examples ... OK
* checking for unstated dependencies in ‘tests’ ... OK
* checking tests ...
Running ‘test.R’
OK
* checking for unstated dependencies in vignettes ... OK
* checking package vignettes ... OK
* checking re-building of vignette outputs ... OK
* checking PDF version of manual ... OK
* DONE
Status: OK
BiocFHIR.Rcheck/00install.out
############################################################################## ############################################################################## ### ### Running command: ### ### /home/biocbuild/bbs-3.21-bioc/R/bin/R CMD INSTALL BiocFHIR ### ############################################################################## ############################################################################## * installing to library ‘/home/biocbuild/bbs-3.21-bioc/R/site-library’ * installing *source* package ‘BiocFHIR’ ... ** this is package ‘BiocFHIR’ version ‘1.10.0’ ** using staged installation ** R ** data ** inst ** byte-compile and prepare package for lazy loading ** help *** installing help indices ** building package indices ** installing vignettes ** testing if installed package can be loaded from temporary location ** testing if installed package can be loaded from final location ** testing if installed package keeps a record of temporary installation path * DONE (BiocFHIR)
BiocFHIR.Rcheck/tests/test.Rout
R version 4.5.1 (2025-06-13) -- "Great Square Root"
Copyright (C) 2025 The R Foundation for Statistical Computing
Platform: x86_64-pc-linux-gnu
R is free software and comes with ABSOLUTELY NO WARRANTY.
You are welcome to redistribute it under certain conditions.
Type 'license()' or 'licence()' for distribution details.
R is a collaborative project with many contributors.
Type 'contributors()' for more information and
'citation()' on how to cite R or R packages in publications.
Type 'demo()' for some demos, 'help()' for on-line help, or
'help.start()' for an HTML browser interface to help.
Type 'q()' to quit R.
> library(testthat)
> library(BiocFHIR)
>
> test_check("BiocFHIR")
prcs__> testf = system.file("json/Vince741_Rogahn59_6fa3d4ab-c0b6-424a-89d8-7d9105129296.json",
prcs__+ package="BiocFHIR")
prcs__> tbun = process_fhir_bundle(testf)
prcs__> tbun
BiocFHIR FHIR.bundle instance.
resource types are:
AllergyIntolerance CarePlan ... Patient Procedure
[1] 231 10
id system code
1 3eae0267-0426-439c-a616-04c1dea70dd1 http://snomed.info/sct 409002
2 3eae0267-0426-439c-a616-04c1dea70dd1 http://snomed.info/sct 58332002
3 3eae0267-0426-439c-a616-04c1dea70dd1 http://snomed.info/sct 58332002
4 86d99438-bcfe-4149-b581-555f4e8243bb http://snomed.info/sct 386463000
5 86d99438-bcfe-4149-b581-555f4e8243bb http://snomed.info/sct 413473000
6 86d99438-bcfe-4149-b581-555f4e8243bb http://snomed.info/sct 1151000175103
display status
1 Food allergy diet in-progress
2 Allergy education in-progress
3 Allergy education in-progress
4 Prescribed activity/exercise education in-progress
5 Counseling about alcohol consumption in-progress
6 Dietary approaches to stop hypertension diet in-progress
location category.system category.code
1 HALLMARK HEALTH SYSTEM http://snomed.info/sct 326051000000105
2 HALLMARK HEALTH SYSTEM http://snomed.info/sct 326051000000105
3 HALLMARK HEALTH SYSTEM http://snomed.info/sct 326051000000105
4 RIVERBEND MEDICAL GROUP INC http://snomed.info/sct 443402002
5 RIVERBEND MEDICAL GROUP INC http://snomed.info/sct 443402002
6 RIVERBEND MEDICAL GROUP INC http://snomed.info/sct 443402002
category.display
1 Self care
2 Self care
3 Self care
4 Lifestyle education regarding hypertension
5 Lifestyle education regarding hypertension
6 Lifestyle education regarding hypertension
subject.reference
1 urn:uuid:15e20922-0f51-47a0-9345-225906c35fbf
2 urn:uuid:15e20922-0f51-47a0-9345-225906c35fbf
3 urn:uuid:15e20922-0f51-47a0-9345-225906c35fbf
4 urn:uuid:aef6dabb-9372-44bc-abf1-f3111812eec7
5 urn:uuid:aef6dabb-9372-44bc-abf1-f3111812eec7
6 urn:uuid:aef6dabb-9372-44bc-abf1-f3111812eec7
[1] 1423 9
[1] 247 5
[1] 1032 9
[1] 406 6
[1] 391 8
[1] 6860 11
[1] 30 40
[1] 881 8
[ FAIL 0 | WARN 0 | SKIP 0 | PASS 21 ]
>
> proc.time()
user system elapsed
18.814 0.370 19.173
BiocFHIR.Rcheck/BiocFHIR-Ex.timings
| name | user | system | elapsed | |
| FHIR_ResourceTypes | 0.000 | 0.000 | 0.001 | |
| FHIR_retention_schemas | 0.000 | 0.001 | 0.001 | |
| FHIRtabs | 0 | 0 | 0 | |
| add_procedures | 0.849 | 0.087 | 0.936 | |
| allin | 0.398 | 0.016 | 0.414 | |
| available_retention_schemas | 0 | 0 | 0 | |
| build_proccond_igraph | 0.679 | 0.037 | 0.715 | |
| display_proccond_igraph | 0.639 | 0.011 | 0.649 | |
| freq_app | 0 | 0 | 0 | |
| getHumanName | 0.433 | 0.001 | 0.435 | |
| make_condition_graph | 0.471 | 0.010 | 0.481 | |
| make_test_json_set | 0.058 | 0.031 | 0.091 | |
| print.BiocFHIR.FHIRgraph | 0.484 | 0.011 | 0.496 | |
| process_AllergyIntolerance | 0.395 | 0.001 | 0.396 | |
| process_CarePlan | 0.398 | 0.036 | 0.434 | |
| process_Claim | 0.391 | 0.008 | 0.399 | |
| process_Condition | 0.395 | 0.001 | 0.397 | |
| process_Encounter | 0.393 | 0.005 | 0.398 | |
| process_Immunization | 0.453 | 0.007 | 0.459 | |
| process_MedicationRequest | 0.406 | 0.002 | 0.407 | |
| process_Observation | 0.418 | 0.010 | 0.429 | |
| process_Patient | 0.409 | 0.001 | 0.410 | |
| process_Procedure | 0.463 | 0.001 | 0.464 | |
| process_fhir_bundle | 0.412 | 0.002 | 0.414 | |
| stack_fhir | 1.364 | 0.077 | 1.440 | |