| Back to Multiple platform build/check report for BioC 3.22: simplified long |
|
This page was generated on 2025-11-11 12:03 -0500 (Tue, 11 Nov 2025).
| Hostname | OS | Arch (*) | R version | Installed pkgs |
|---|---|---|---|---|
| nebbiolo2 | Linux (Ubuntu 24.04.3 LTS) | x86_64 | 4.5.1 Patched (2025-08-23 r88802) -- "Great Square Root" | 4902 |
| kjohnson3 | macOS 13.7.7 Ventura | arm64 | 4.5.1 Patched (2025-09-10 r88807) -- "Great Square Root" | 4638 |
| Click on any hostname to see more info about the system (e.g. compilers) (*) as reported by 'uname -p', except on Windows and Mac OS X | ||||
| Package 177/2361 | Hostname | OS / Arch | INSTALL | BUILD | CHECK | BUILD BIN | ||||||||
| BindingSiteFinder 2.8.0 (landing page) Mirko Brüggemann
| nebbiolo2 | Linux (Ubuntu 24.04.3 LTS) / x86_64 | OK | OK | OK | |||||||||
| kjohnson3 | macOS 13.7.7 Ventura / arm64 | OK | OK | OK | OK | |||||||||
|
To the developers/maintainers of the BindingSiteFinder package: - Allow up to 24 hours (and sometimes 48 hours) for your latest push to git@git.bioconductor.org:packages/BindingSiteFinder.git to reflect on this report. See Troubleshooting Build Report for more information. - Use the following Renviron settings to reproduce errors and warnings. - If 'R CMD check' started to fail recently on the Linux builder(s) over a missing dependency, add the missing dependency to 'Suggests:' in your DESCRIPTION file. See Renviron.bioc for more information. |
| Package: BindingSiteFinder |
| Version: 2.8.0 |
| Command: /Library/Frameworks/R.framework/Resources/bin/R CMD check --install=check:BindingSiteFinder.install-out.txt --library=/Library/Frameworks/R.framework/Resources/library --no-vignettes --timings BindingSiteFinder_2.8.0.tar.gz |
| StartedAt: 2025-11-10 18:55:37 -0500 (Mon, 10 Nov 2025) |
| EndedAt: 2025-11-10 19:00:48 -0500 (Mon, 10 Nov 2025) |
| EllapsedTime: 311.3 seconds |
| RetCode: 0 |
| Status: OK |
| CheckDir: BindingSiteFinder.Rcheck |
| Warnings: 0 |
##############################################################################
##############################################################################
###
### Running command:
###
### /Library/Frameworks/R.framework/Resources/bin/R CMD check --install=check:BindingSiteFinder.install-out.txt --library=/Library/Frameworks/R.framework/Resources/library --no-vignettes --timings BindingSiteFinder_2.8.0.tar.gz
###
##############################################################################
##############################################################################
* using log directory ‘/Users/biocbuild/bbs-3.22-bioc/meat/BindingSiteFinder.Rcheck’
* using R version 4.5.1 Patched (2025-09-10 r88807)
* using platform: aarch64-apple-darwin20
* R was compiled by
Apple clang version 16.0.0 (clang-1600.0.26.6)
GNU Fortran (GCC) 14.2.0
* running under: macOS Ventura 13.7.7
* using session charset: UTF-8
* using option ‘--no-vignettes’
* checking for file ‘BindingSiteFinder/DESCRIPTION’ ... OK
* checking extension type ... Package
* this is package ‘BindingSiteFinder’ version ‘2.8.0’
* package encoding: UTF-8
* checking package namespace information ... OK
* checking package dependencies ... OK
* checking if this is a source package ... OK
* checking if there is a namespace ... OK
* checking for hidden files and directories ... OK
* checking for portable file names ... OK
* checking for sufficient/correct file permissions ... OK
* checking whether package ‘BindingSiteFinder’ can be installed ... OK
* checking installed package size ... OK
* checking package directory ... OK
* checking ‘build’ directory ... OK
* checking DESCRIPTION meta-information ... OK
* checking top-level files ... OK
* checking for left-over files ... OK
* checking index information ... OK
* checking package subdirectories ... OK
* checking code files for non-ASCII characters ... OK
* checking R files for syntax errors ... OK
* checking whether the package can be loaded ... OK
* checking whether the package can be loaded with stated dependencies ... OK
* checking whether the package can be unloaded cleanly ... OK
* checking whether the namespace can be loaded with stated dependencies ... OK
* checking whether the namespace can be unloaded cleanly ... OK
* checking dependencies in R code ... OK
* checking S3 generic/method consistency ... OK
* checking replacement functions ... OK
* checking foreign function calls ... OK
* checking R code for possible problems ... OK
* checking Rd files ... OK
* checking Rd metadata ... OK
* checking Rd cross-references ... NOTE
Found the following Rd file(s) with Rd \link{} targets missing package
anchors:
BSFind.Rd: GenomicRanges, CompressedGRangesList
annotateWithScore.Rd: GenomicRanges
assignToGenes.Rd: GenomicRanges, overlaps
assignToTranscriptRegions.Rd: CompressedGRangesList, overlaps
bindingSiteDefinednessPlot.Rd: ggplot
calculateBsBackground.Rd: GenomicRanges
duplicatedSitesPlot.Rd: ggplot
estimateBsWidth.Rd: GenomicRanges
estimateBsWidthPlot.Rd: ggplot
geneOverlapsPlot.Rd: ggplot
geneRegulationPlot.Rd: GenomicRanges
globalScorePlot.Rd: ggplot
makeBsSummaryPlot.Rd: ggplot
mergeCrosslinkDiagnosticsPlot.Rd: ggplot
plotBsBackgroundFilter.Rd: ggplot
plotBsMA.Rd: ggplot
plotBsVolcano.Rd: ggplot
processingStepsFlowChart.Rd: ggplot
pureClipGeneWiseFilter.Rd: GenomicRanges, overlaps
pureClipGlobalFilter.Rd: GenomicRanges
pureClipGlobalFilterPlot.Rd: ggplot
reproducibilityFilterPlot.Rd: ggplot
reproducibilitySamplesPlot.Rd: ggplot
targetGeneSpectrumPlot.Rd: ggplot
transcriptRegionOverlapsPlot.Rd: ggplot
transcriptRegionSpectrumPlot.Rd: ggplot
Please provide package anchors for all Rd \link{} targets not in the
package itself and the base packages.
* checking for missing documentation entries ... OK
* checking for code/documentation mismatches ... OK
* checking Rd \usage sections ... OK
* checking Rd contents ... OK
* checking for unstated dependencies in examples ... OK
* checking files in ‘vignettes’ ... OK
* checking examples ... OK
Examples with CPU (user + system) or elapsed time > 5s
user system elapsed
quickFigure 10.278 0.276 10.639
BSFind 9.923 0.187 13.515
bindingSiteDefinednessPlot 8.286 0.255 8.765
processingStepsFlowChart 8.267 0.162 8.457
calculateBsFoldChange 6.052 0.154 6.254
* checking for unstated dependencies in ‘tests’ ... OK
* checking tests ...
Running ‘testthat.R’
OK
* checking for unstated dependencies in vignettes ... OK
* checking package vignettes ... OK
* checking running R code from vignettes ... SKIPPED
* checking re-building of vignette outputs ... SKIPPED
* checking PDF version of manual ... OK
* DONE
Status: 1 NOTE
See
‘/Users/biocbuild/bbs-3.22-bioc/meat/BindingSiteFinder.Rcheck/00check.log’
for details.
BindingSiteFinder.Rcheck/00install.out
############################################################################## ############################################################################## ### ### Running command: ### ### /Library/Frameworks/R.framework/Resources/bin/R CMD INSTALL BindingSiteFinder ### ############################################################################## ############################################################################## * installing to library ‘/Library/Frameworks/R.framework/Versions/4.5-arm64/Resources/library’ * installing *source* package ‘BindingSiteFinder’ ... ** this is package ‘BindingSiteFinder’ version ‘2.8.0’ ** using staged installation ** R ** inst ** byte-compile and prepare package for lazy loading ** help *** installing help indices ** building package indices ** installing vignettes ** testing if installed package can be loaded from temporary location ** testing if installed package can be loaded from final location ** testing if installed package keeps a record of temporary installation path * DONE (BindingSiteFinder)
BindingSiteFinder.Rcheck/tests/testthat.Rout
R version 4.5.1 Patched (2025-09-10 r88807) -- "Great Square Root"
Copyright (C) 2025 The R Foundation for Statistical Computing
Platform: aarch64-apple-darwin20
R is free software and comes with ABSOLUTELY NO WARRANTY.
You are welcome to redistribute it under certain conditions.
Type 'license()' or 'licence()' for distribution details.
R is a collaborative project with many contributors.
Type 'contributors()' for more information and
'citation()' on how to cite R or R packages in publications.
Type 'demo()' for some demos, 'help()' for on-line help, or
'help.start()' for an HTML browser interface to help.
Type 'q()' to quit R.
> library("testthat")
> library("BindingSiteFinder")
Loading required package: GenomicRanges
Loading required package: stats4
Loading required package: BiocGenerics
Loading required package: generics
Attaching package: 'generics'
The following objects are masked from 'package:base':
as.difftime, as.factor, as.ordered, intersect, is.element, setdiff,
setequal, union
Attaching package: 'BiocGenerics'
The following objects are masked from 'package:stats':
IQR, mad, sd, var, xtabs
The following objects are masked from 'package:base':
Filter, Find, Map, Position, Reduce, anyDuplicated, aperm, append,
as.data.frame, basename, cbind, colnames, dirname, do.call,
duplicated, eval, evalq, get, grep, grepl, is.unsorted, lapply,
mapply, match, mget, order, paste, pmax, pmax.int, pmin, pmin.int,
rank, rbind, rownames, sapply, saveRDS, table, tapply, unique,
unsplit, which.max, which.min
Loading required package: S4Vectors
Attaching package: 'S4Vectors'
The following object is masked from 'package:utils':
findMatches
The following objects are masked from 'package:base':
I, expand.grid, unname
Loading required package: IRanges
Loading required package: Seqinfo
> test_check("BindingSiteFinder")
[1] "make bs"
[1] "calc ratio"
[1] "make bs"
[1] "calc ratio"
[ FAIL 0 | WARN 0 | SKIP 0 | PASS 240 ]
>
> proc.time()
user system elapsed
85.773 2.074 88.210
BindingSiteFinder.Rcheck/BindingSiteFinder-Ex.timings
| name | user | system | elapsed | |
| BSFDataSet | 0.103 | 0.006 | 0.176 | |
| BSFind | 9.923 | 0.187 | 13.515 | |
| add-BSFDataSet | 0.663 | 0.014 | 0.677 | |
| annotateWithScore | 0.421 | 0.003 | 0.425 | |
| assignToGenes | 0.642 | 0.010 | 0.653 | |
| assignToTranscriptRegions | 0.752 | 0.013 | 0.788 | |
| bindingSiteCoveragePlot | 4.079 | 0.134 | 4.214 | |
| bindingSiteDefinednessPlot | 8.286 | 0.255 | 8.765 | |
| calculateBsBackground | 2.105 | 0.046 | 2.165 | |
| calculateBsFoldChange | 6.052 | 0.154 | 6.254 | |
| calculateSignalToFlankScore | 1.035 | 0.019 | 1.054 | |
| clipCoverage | 0.557 | 0.019 | 0.576 | |
| collapseReplicates | 0.067 | 0.006 | 0.074 | |
| combineBSF | 0.927 | 0.032 | 0.975 | |
| coverageOverRanges | 0.339 | 0.024 | 0.380 | |
| duplicatedSitesPlot | 0.235 | 0.010 | 0.258 | |
| estimateBsWidth | 2.914 | 0.108 | 3.035 | |
| estimateBsWidthPlot | 3.052 | 0.158 | 3.438 | |
| exportTargetGenes | 0.022 | 0.001 | 0.023 | |
| exportToBED | 0.023 | 0.001 | 0.023 | |
| filterBsBackground | 1.216 | 0.064 | 1.297 | |
| geneOverlapsPlot | 0.912 | 0.036 | 0.978 | |
| geneRegulationPlot | 3.597 | 0.057 | 3.660 | |
| getMeta | 0.024 | 0.000 | 0.025 | |
| getName | 0.023 | 0.001 | 0.024 | |
| getRanges | 0.029 | 0.001 | 0.031 | |
| getSignal | 0.035 | 0.002 | 0.037 | |
| getSummary | 0.372 | 0.006 | 0.377 | |
| globalScorePlot | 0.490 | 0.006 | 0.496 | |
| imputeBsDifferencesForTestdata | 0.710 | 0.012 | 0.723 | |
| makeBindingSites | 0.743 | 0.013 | 0.756 | |
| makeBsSummaryPlot | 1.006 | 0.061 | 1.068 | |
| mergeCrosslinkDiagnosticsPlot | 0.463 | 0.031 | 0.508 | |
| mergeSummaryPlot | 1.189 | 0.030 | 1.218 | |
| plotBsBackgroundFilter | 1.632 | 0.040 | 1.699 | |
| plotBsMA | 4.200 | 0.068 | 4.274 | |
| plotBsVolcano | 3.864 | 0.063 | 3.943 | |
| processingStepsFlowChart | 8.267 | 0.162 | 8.457 | |
| processingStepsTable | 0.037 | 0.001 | 0.038 | |
| pureClipGeneWiseFilter | 0.132 | 0.003 | 0.136 | |
| pureClipGlobalFilter | 0.035 | 0.001 | 0.035 | |
| pureClipGlobalFilterPlot | 0.155 | 0.004 | 0.159 | |
| quickFigure | 10.278 | 0.276 | 10.639 | |
| rangeCoveragePlot | 1.752 | 0.062 | 1.842 | |
| reproducibilityCutoffPlot | 0.881 | 0.005 | 0.886 | |
| reproducibilityFilter | 0.499 | 0.029 | 0.528 | |
| reproducibilityFilterPlot | 0.608 | 0.019 | 0.627 | |
| reproducibilitySamplesPlot | 0.614 | 0.022 | 0.637 | |
| reproducibilityScatterPlot | 1.650 | 0.017 | 1.670 | |
| setMeta | 0.024 | 0.001 | 0.026 | |
| setName | 0.023 | 0.000 | 0.024 | |
| setRanges | 0.031 | 0.000 | 0.032 | |
| setSignal | 0.032 | 0.001 | 0.035 | |
| setSummary | 0.024 | 0.001 | 0.027 | |
| show | 0.023 | 0.001 | 0.024 | |
| subset-BSFDataSet | 0.029 | 0.001 | 0.030 | |
| summary | 0.031 | 0.002 | 0.033 | |
| supportRatio | 1.106 | 0.023 | 1.156 | |
| supportRatioPlot | 1.152 | 0.024 | 1.184 | |
| targetGeneSpectrumPlot | 0.761 | 0.012 | 0.804 | |
| transcriptRegionOverlapsPlot | 0.841 | 0.011 | 0.884 | |
| transcriptRegionSpectrumPlot | 0.857 | 0.010 | 0.892 | |