Back to Multiple platform build/check report for BioC 3.22:   simplified   long
A[B]CDEFGHIJKLMNOPQRSTUVWXYZ

This page was generated on 2025-11-24 12:03 -0500 (Mon, 24 Nov 2025).

HostnameOSArch (*)R versionInstalled pkgs
nebbiolo2Linux (Ubuntu 24.04.3 LTS)x86_644.5.2 (2025-10-31) -- "[Not] Part in a Rumble" 4873
merida1macOS 12.7.6 Montereyx86_644.5.2 Patched (2025-11-05 r88990) -- "[Not] Part in a Rumble" 4654
kjohnson1macOS 13.7.5 Venturaarm644.5.2 Patched (2025-11-04 r88984) -- "[Not] Part in a Rumble" 4600
taishanLinux (openEuler 24.03 LTS)aarch644.5.0 (2025-04-11) -- "How About a Twenty-Six" 4668
Click on any hostname to see more info about the system (e.g. compilers)      (*) as reported by 'uname -p', except on Windows and Mac OS X

Package 147/2361HostnameOS / ArchINSTALLBUILDCHECKBUILD BIN
BatchQC 2.6.0  (landing page)
Jessica Anderson
Snapshot Date: 2025-11-20 15:01 -0500 (Thu, 20 Nov 2025)
git_url: https://git.bioconductor.org/packages/BatchQC
git_branch: RELEASE_3_22
git_last_commit: dce5259
git_last_commit_date: 2025-10-29 10:31:36 -0500 (Wed, 29 Oct 2025)
nebbiolo2Linux (Ubuntu 24.04.3 LTS) / x86_64  OK    OK    OK  UNNEEDED, same version is already published
merida1macOS 12.7.6 Monterey / x86_64  OK    OK    OK    OK  UNNEEDED, same version is already published
kjohnson1macOS 13.7.5 Ventura / arm64  OK    OK    OK    OK  UNNEEDED, same version is already published
taishanLinux (openEuler 24.03 LTS) / aarch64  OK    OK    OK  


CHECK results for BatchQC on nebbiolo2

To the developers/maintainers of the BatchQC package:
- Allow up to 24 hours (and sometimes 48 hours) for your latest push to git@git.bioconductor.org:packages/BatchQC.git to reflect on this report. See Troubleshooting Build Report for more information.
- Use the following Renviron settings to reproduce errors and warnings.
- If 'R CMD check' started to fail recently on the Linux builder(s) over a missing dependency, add the missing dependency to 'Suggests:' in your DESCRIPTION file. See Renviron.bioc for more information.

raw results


Summary

Package: BatchQC
Version: 2.6.0
Command: /home/biocbuild/bbs-3.22-bioc/R/bin/R CMD check --install=check:BatchQC.install-out.txt --library=/home/biocbuild/bbs-3.22-bioc/R/site-library --timings BatchQC_2.6.0.tar.gz
StartedAt: 2025-11-20 22:07:50 -0500 (Thu, 20 Nov 2025)
EndedAt: 2025-11-20 22:22:01 -0500 (Thu, 20 Nov 2025)
EllapsedTime: 851.6 seconds
RetCode: 0
Status:   OK  
CheckDir: BatchQC.Rcheck
Warnings: 0

Command output

##############################################################################
##############################################################################
###
### Running command:
###
###   /home/biocbuild/bbs-3.22-bioc/R/bin/R CMD check --install=check:BatchQC.install-out.txt --library=/home/biocbuild/bbs-3.22-bioc/R/site-library --timings BatchQC_2.6.0.tar.gz
###
##############################################################################
##############################################################################


* using log directory ‘/home/biocbuild/bbs-3.22-bioc/meat/BatchQC.Rcheck’
* using R version 4.5.2 (2025-10-31)
* using platform: x86_64-pc-linux-gnu
* R was compiled by
    gcc (Ubuntu 13.3.0-6ubuntu2~24.04) 13.3.0
    GNU Fortran (Ubuntu 13.3.0-6ubuntu2~24.04) 13.3.0
* running under: Ubuntu 24.04.3 LTS
* using session charset: UTF-8
* checking for file ‘BatchQC/DESCRIPTION’ ... OK
* checking extension type ... Package
* this is package ‘BatchQC’ version ‘2.6.0’
* package encoding: UTF-8
* checking package namespace information ... OK
* checking package dependencies ... INFO
Imports includes 27 non-default packages.
Importing from so many packages makes the package vulnerable to any of
them becoming unavailable.  Move as many as possible to Suggests and
use conditionally.
* checking if this is a source package ... OK
* checking if there is a namespace ... OK
* checking for hidden files and directories ... OK
* checking for portable file names ... OK
* checking for sufficient/correct file permissions ... OK
* checking whether package ‘BatchQC’ can be installed ... OK
* checking installed package size ... OK
* checking package directory ... OK
* checking ‘build’ directory ... OK
* checking DESCRIPTION meta-information ... OK
* checking top-level files ... OK
* checking for left-over files ... OK
* checking index information ... OK
* checking package subdirectories ... OK
* checking code files for non-ASCII characters ... OK
* checking R files for syntax errors ... OK
* checking whether the package can be loaded ... OK
* checking whether the package can be loaded with stated dependencies ... OK
* checking whether the package can be unloaded cleanly ... OK
* checking whether the namespace can be loaded with stated dependencies ... OK
* checking whether the namespace can be unloaded cleanly ... OK
* checking loading without being on the library search path ... OK
* checking dependencies in R code ... OK
* checking S3 generic/method consistency ... OK
* checking replacement functions ... OK
* checking foreign function calls ... OK
* checking R code for possible problems ... OK
* checking Rd files ... OK
* checking Rd metadata ... OK
* checking Rd cross-references ... OK
* checking for missing documentation entries ... OK
* checking for code/documentation mismatches ... OK
* checking Rd \usage sections ... OK
* checking Rd contents ... OK
* checking for unstated dependencies in examples ... OK
* checking contents of ‘data’ directory ... OK
* checking data for non-ASCII characters ... OK
* checking data for ASCII and uncompressed saves ... OK
* checking files in ‘vignettes’ ... OK
* checking examples ... OK
Examples with CPU (user + system) or elapsed time > 5s
                 user system elapsed
compute_aic    36.470  0.031  36.504
volcano_plot   27.996  0.661  28.662
tb_data_upload 21.797  1.583  24.236
DE_analyze     20.705  0.436  21.142
pval_plotter   19.059  0.186  19.245
pval_summary   16.634  0.031  16.665
PCA_plotter    13.988  0.230  14.219
batch_correct  13.713  0.042  13.756
compute_lambda  5.204  0.036   5.240
* checking for unstated dependencies in ‘tests’ ... OK
* checking tests ...
  Running ‘spelling.R’
  Running ‘testthat.R’
 OK
* checking for unstated dependencies in vignettes ... OK
* checking package vignettes ... OK
* checking re-building of vignette outputs ... OK
* checking PDF version of manual ... OK
* DONE

Status: OK


Installation output

BatchQC.Rcheck/00install.out

##############################################################################
##############################################################################
###
### Running command:
###
###   /home/biocbuild/bbs-3.22-bioc/R/bin/R CMD INSTALL BatchQC
###
##############################################################################
##############################################################################


* installing to library ‘/home/biocbuild/bbs-3.22-bioc/R/site-library’
* installing *source* package ‘BatchQC’ ...
** this is package ‘BatchQC’ version ‘2.6.0’
** using staged installation
** R
** data
** inst
** byte-compile and prepare package for lazy loading
** help
*** installing help indices
** building package indices
** installing vignettes
** testing if installed package can be loaded from temporary location
** testing if installed package can be loaded from final location
** testing if installed package keeps a record of temporary installation path
* DONE (BatchQC)

Tests output

BatchQC.Rcheck/tests/spelling.Rout


R version 4.5.2 (2025-10-31) -- "[Not] Part in a Rumble"
Copyright (C) 2025 The R Foundation for Statistical Computing
Platform: x86_64-pc-linux-gnu

R is free software and comes with ABSOLUTELY NO WARRANTY.
You are welcome to redistribute it under certain conditions.
Type 'license()' or 'licence()' for distribution details.

R is a collaborative project with many contributors.
Type 'contributors()' for more information and
'citation()' on how to cite R or R packages in publications.

Type 'demo()' for some demos, 'help()' for on-line help, or
'help.start()' for an HTML browser interface to help.
Type 'q()' to quit R.

> if (requireNamespace('spelling', quietly = TRUE))
+   spelling::spell_check_test(vignettes = TRUE, error = FALSE,
+                              skip_on_cran = TRUE)
All Done!
> 
> proc.time()
   user  system elapsed 
  0.159   0.027   0.174 

BatchQC.Rcheck/tests/testthat.Rout


R version 4.5.2 (2025-10-31) -- "[Not] Part in a Rumble"
Copyright (C) 2025 The R Foundation for Statistical Computing
Platform: x86_64-pc-linux-gnu

R is free software and comes with ABSOLUTELY NO WARRANTY.
You are welcome to redistribute it under certain conditions.
Type 'license()' or 'licence()' for distribution details.

R is a collaborative project with many contributors.
Type 'contributors()' for more information and
'citation()' on how to cite R or R packages in publications.

Type 'demo()' for some demos, 'help()' for on-line help, or
'help.start()' for an HTML browser interface to help.
Type 'q()' to quit R.

> library(testthat)
> library(BatchQC)
> 
> test_check("BatchQC")
[ FAIL 0 | WARN 0 | SKIP 1 | PASS 0 ]

══ Skipped tests (1) ═══════════════════════════════════════════════════════════
• On CRAN (1): 'test-lintr.R:3:5'

[ FAIL 0 | WARN 0 | SKIP 1 | PASS 0 ]
> 
> proc.time()
   user  system elapsed 
 11.936   0.662  12.587 

Example timings

BatchQC.Rcheck/BatchQC-Ex.timings

nameusersystemelapsed
BatchQC000
DE_analyze20.705 0.43621.142
EV_plotter1.1690.0191.188
EV_table0.9060.0120.917
PCA_plotter13.988 0.23014.219
batch_correct13.713 0.04213.756
batch_design0.4740.0020.476
batchqc_explained_variation0.8440.0170.861
bisect0.0040.0000.003
bladder_data_upload0.2170.0250.242
color_palette0.1700.0030.173
compute_aic36.470 0.03136.504
compute_lambda5.2040.0365.240
confound_metrics0.5220.0030.525
cor_props0.5070.0040.511
covariates_not_confounded0.5010.0060.507
cramers_v0.4880.0020.491
dendrogram_alpha_numeric_check0.4010.0060.406
dendrogram_color_palette0.6900.0040.694
dendrogram_plotter1.6520.0051.657
goodness_of_fit_DESeq24.0990.0474.146
heatmap_num_to_char_converter0.3960.0020.397
heatmap_plotter1.2150.0181.232
is_design_balanced0.4780.0040.481
kBET2.6200.0072.627
normalize_SE0.5760.0050.582
plot_kBET2.8530.0032.855
process_dendrogram0.6430.0090.651
pval_plotter19.059 0.18619.245
pval_summary16.634 0.03116.665
ratio_plotter1.1070.0041.111
run_kBET2.6150.0172.633
run_lambda0.4550.0070.462
std_pearson_corr_coef0.4680.0030.470
summarized_experiment0.0130.0020.015
tb_data_upload21.797 1.58324.236
umap2.7850.1142.900
variation_ratios0.8620.0430.906
volcano_plot27.996 0.66128.662