| Back to Multiple platform build/check report for BioC 3.22: simplified long |
|
This page was generated on 2025-11-11 12:03 -0500 (Tue, 11 Nov 2025).
| Hostname | OS | Arch (*) | R version | Installed pkgs |
|---|---|---|---|---|
| nebbiolo2 | Linux (Ubuntu 24.04.3 LTS) | x86_64 | 4.5.1 Patched (2025-08-23 r88802) -- "Great Square Root" | 4902 |
| kjohnson3 | macOS 13.7.7 Ventura | arm64 | 4.5.1 Patched (2025-09-10 r88807) -- "Great Square Root" | 4638 |
| Click on any hostname to see more info about the system (e.g. compilers) (*) as reported by 'uname -p', except on Windows and Mac OS X | ||||
| Package 59/2361 | Hostname | OS / Arch | INSTALL | BUILD | CHECK | BUILD BIN | ||||||||
| AlpsNMR 4.12.0 (landing page) Sergio Oller Moreno
| nebbiolo2 | Linux (Ubuntu 24.04.3 LTS) / x86_64 | OK | OK | OK | |||||||||
| kjohnson3 | macOS 13.7.7 Ventura / arm64 | OK | OK | OK | OK | |||||||||
|
To the developers/maintainers of the AlpsNMR package: - Allow up to 24 hours (and sometimes 48 hours) for your latest push to git@git.bioconductor.org:packages/AlpsNMR.git to reflect on this report. See Troubleshooting Build Report for more information. - Use the following Renviron settings to reproduce errors and warnings. - If 'R CMD check' started to fail recently on the Linux builder(s) over a missing dependency, add the missing dependency to 'Suggests:' in your DESCRIPTION file. See Renviron.bioc for more information. |
| Package: AlpsNMR |
| Version: 4.12.0 |
| Command: /Library/Frameworks/R.framework/Resources/bin/R CMD check --install=check:AlpsNMR.install-out.txt --library=/Library/Frameworks/R.framework/Resources/library --no-vignettes --timings AlpsNMR_4.12.0.tar.gz |
| StartedAt: 2025-11-10 18:41:54 -0500 (Mon, 10 Nov 2025) |
| EndedAt: 2025-11-10 18:43:06 -0500 (Mon, 10 Nov 2025) |
| EllapsedTime: 71.9 seconds |
| RetCode: 0 |
| Status: OK |
| CheckDir: AlpsNMR.Rcheck |
| Warnings: 0 |
##############################################################################
##############################################################################
###
### Running command:
###
### /Library/Frameworks/R.framework/Resources/bin/R CMD check --install=check:AlpsNMR.install-out.txt --library=/Library/Frameworks/R.framework/Resources/library --no-vignettes --timings AlpsNMR_4.12.0.tar.gz
###
##############################################################################
##############################################################################
* using log directory ‘/Users/biocbuild/bbs-3.22-bioc/meat/AlpsNMR.Rcheck’
* using R version 4.5.1 Patched (2025-09-10 r88807)
* using platform: aarch64-apple-darwin20
* R was compiled by
Apple clang version 16.0.0 (clang-1600.0.26.6)
GNU Fortran (GCC) 14.2.0
* running under: macOS Ventura 13.7.7
* using session charset: UTF-8
* using option ‘--no-vignettes’
* checking for file ‘AlpsNMR/DESCRIPTION’ ... OK
* checking extension type ... Package
* this is package ‘AlpsNMR’ version ‘4.12.0’
* package encoding: UTF-8
* checking package namespace information ... OK
* checking package dependencies ... INFO
Imports includes 26 non-default packages.
Importing from so many packages makes the package vulnerable to any of
them becoming unavailable. Move as many as possible to Suggests and
use conditionally.
* checking if this is a source package ... OK
* checking if there is a namespace ... OK
* checking for hidden files and directories ... OK
* checking for portable file names ... OK
* checking for sufficient/correct file permissions ... OK
* checking whether package ‘AlpsNMR’ can be installed ... OK
* checking installed package size ... OK
* checking package directory ... OK
* checking ‘build’ directory ... OK
* checking DESCRIPTION meta-information ... OK
* checking top-level files ... OK
* checking for left-over files ... OK
* checking index information ... OK
* checking package subdirectories ... OK
* checking code files for non-ASCII characters ... OK
* checking R files for syntax errors ... OK
* checking whether the package can be loaded ... OK
* checking whether the package can be loaded with stated dependencies ... OK
* checking whether the package can be unloaded cleanly ... OK
* checking whether the namespace can be loaded with stated dependencies ... OK
* checking whether the namespace can be unloaded cleanly ... OK
* checking dependencies in R code ... OK
* checking S3 generic/method consistency ... OK
* checking replacement functions ... OK
* checking foreign function calls ... OK
* checking R code for possible problems ... OK
* checking Rd files ... OK
* checking Rd metadata ... OK
* checking Rd cross-references ... NOTE
Non-topic package-anchored link(s) in Rd file 'reexports.Rd':
‘[magrittr:pipe]{%>%}’
See section 'Cross-references' in the 'Writing R Extensions' manual.
Found the following Rd file(s) with Rd \link{} targets missing package
anchors:
filter.nmr_dataset_family.Rd: dplyr
Please provide package anchors for all Rd \link{} targets not in the
package itself and the base packages.
* checking for missing documentation entries ... OK
* checking for code/documentation mismatches ... OK
* checking Rd \usage sections ... OK
* checking Rd contents ... OK
* checking for unstated dependencies in examples ... OK
* checking contents of ‘data’ directory ... OK
* checking data for non-ASCII characters ... OK
* checking data for ASCII and uncompressed saves ... OK
* checking sizes of PDF files under ‘inst/doc’ ... OK
* checking files in ‘vignettes’ ... OK
* checking examples ... OK
* checking for unstated dependencies in ‘tests’ ... OK
* checking tests ...
Running ‘testthat.R’
OK
* checking for unstated dependencies in vignettes ... OK
* checking package vignettes ... OK
* checking running R code from vignettes ... SKIPPED
* checking re-building of vignette outputs ... SKIPPED
* checking PDF version of manual ... OK
* DONE
Status: 1 NOTE
See
‘/Users/biocbuild/bbs-3.22-bioc/meat/AlpsNMR.Rcheck/00check.log’
for details.
AlpsNMR.Rcheck/00install.out
############################################################################## ############################################################################## ### ### Running command: ### ### /Library/Frameworks/R.framework/Resources/bin/R CMD INSTALL AlpsNMR ### ############################################################################## ############################################################################## * installing to library ‘/Library/Frameworks/R.framework/Versions/4.5-arm64/Resources/library’ * installing *source* package ‘AlpsNMR’ ... ** this is package ‘AlpsNMR’ version ‘4.12.0’ ** using staged installation ** R ** data ** inst ** byte-compile and prepare package for lazy loading ** help *** installing help indices *** copying figures ** building package indices ** installing vignettes ** testing if installed package can be loaded from temporary location ** testing if installed package can be loaded from final location ** testing if installed package keeps a record of temporary installation path * DONE (AlpsNMR)
AlpsNMR.Rcheck/tests/testthat.Rout
R version 4.5.1 Patched (2025-09-10 r88807) -- "Great Square Root"
Copyright (C) 2025 The R Foundation for Statistical Computing
Platform: aarch64-apple-darwin20
R is free software and comes with ABSOLUTELY NO WARRANTY.
You are welcome to redistribute it under certain conditions.
Type 'license()' or 'licence()' for distribution details.
R is a collaborative project with many contributors.
Type 'contributors()' for more information and
'citation()' on how to cite R or R packages in publications.
Type 'demo()' for some demos, 'help()' for on-line help, or
'help.start()' for an HTML browser interface to help.
Type 'q()' to quit R.
> library(testthat)
> library(AlpsNMR)
Attaching package: 'AlpsNMR'
The following object is masked from 'package:stats':
filter
>
> test_check("AlpsNMR")
[ FAIL 0 | WARN 0 | SKIP 1 | PASS 93 ]
══ Skipped tests (1) ═══════════════════════════════════════════════════════════
• On Bioconductor (1): 'test_rDolphin.R:2:5'
[ FAIL 0 | WARN 0 | SKIP 1 | PASS 93 ]
>
> proc.time()
user system elapsed
8.288 3.453 8.596
AlpsNMR.Rcheck/AlpsNMR-Ex.timings
| name | user | system | elapsed | |
| AlpsNMR-package | 0.755 | 0.172 | 0.722 | |
| HMDB_blood | 0.002 | 0.001 | 0.003 | |
| HMDB_cell | 0.000 | 0.000 | 0.001 | |
| HMDB_urine | 0.001 | 0.001 | 0.002 | |
| Parameters_blood | 0.000 | 0.000 | 0.001 | |
| Parameters_cell | 0.000 | 0.000 | 0.001 | |
| Parameters_urine | 0.000 | 0.001 | 0.001 | |
| Peak_detection | 2.701 | 0.934 | 2.640 | |
| Pipelines | 0.001 | 0.001 | 0.001 | |
| ROI_blood | 0.001 | 0.000 | 0.001 | |
| ROI_cell | 0.001 | 0.000 | 0.001 | |
| ROI_urine | 0.001 | 0.001 | 0.002 | |
| SummarizedExperiment_to_nmr_data_1r | 2.539 | 0.319 | 2.614 | |
| SummarizedExperiment_to_nmr_dataset_peak_table | 0.413 | 0.385 | 0.452 | |
| bp_VIP_analysis | 0.464 | 0.390 | 0.384 | |
| bp_kfold_VIP_analysis | 0.270 | 0.217 | 0.234 | |
| download_MTBLS242 | 0 | 0 | 0 | |
| file_lister | 0.021 | 0.005 | 0.026 | |
| files_to_rDolphin | 0 | 0 | 0 | |
| filter.nmr_dataset_family | 1.521 | 0.849 | 1.157 | |
| format.nmr_dataset | 0.229 | 0.244 | 0.210 | |
| format.nmr_dataset_1D | 0.276 | 0.273 | 0.262 | |
| format.nmr_dataset_peak_table | 0.306 | 0.305 | 0.299 | |
| get_integration_with_metadata | 0.010 | 0.006 | 0.016 | |
| hmdb | 0.018 | 0.007 | 0.026 | |
| is.nmr_dataset | 0.242 | 0.260 | 0.225 | |
| is.nmr_dataset_1D | 0.254 | 0.263 | 0.258 | |
| is.nmr_dataset_peak_table | 0.291 | 0.265 | 0.337 | |
| load_and_save_functions | 0.225 | 0.273 | 0.229 | |
| models_stability_plot_bootstrap | 0.000 | 0.000 | 0.001 | |
| models_stability_plot_plsda | 0.133 | 0.181 | 0.154 | |
| new_nmr_dataset | 0 | 0 | 0 | |
| new_nmr_dataset_1D | 0 | 0 | 0 | |
| new_nmr_dataset_peak_table | 0.287 | 0.253 | 0.300 | |
| nmr_autophase | 0.082 | 0.066 | 0.150 | |
| nmr_baseline_estimation | 0.003 | 0.002 | 0.006 | |
| nmr_baseline_removal | 0.001 | 0.000 | 0.002 | |
| nmr_baseline_threshold | 0.001 | 0.000 | 0.000 | |
| nmr_baseline_threshold_plot | 0.090 | 0.039 | 0.128 | |
| nmr_batman | 0.001 | 0.000 | 0.002 | |
| nmr_batman_options | 0.000 | 0.001 | 0.000 | |
| nmr_build_peak_table | 0.010 | 0.004 | 0.015 | |
| nmr_data | 0.014 | 0.005 | 0.020 | |
| nmr_data_1r_to_SummarizedExperiment | 0.358 | 0.270 | 0.358 | |
| nmr_data_analysis | 0.137 | 0.176 | 0.162 | |
| nmr_dataset | 0 | 0 | 0 | |
| nmr_dataset_1D | 0.001 | 0.000 | 0.001 | |
| nmr_dataset_peak_table_to_SummarizedExperiment | 0.325 | 0.234 | 0.347 | |
| nmr_exclude_region | 0.003 | 0.001 | 0.003 | |
| nmr_export_data_1r | 0.246 | 0.206 | 0.234 | |
| nmr_get_peak_distances | 0.003 | 0.002 | 0.005 | |
| nmr_identify_regions_blood | 0.005 | 0.001 | 0.007 | |
| nmr_identify_regions_cell | 0.002 | 0.000 | 0.003 | |
| nmr_identify_regions_urine | 0.004 | 0.001 | 0.005 | |
| nmr_integrate_regions | 0.002 | 0.000 | 0.003 | |
| nmr_interpolate_1D | 0.530 | 0.451 | 0.496 | |
| nmr_meta_add | 0.579 | 0.477 | 0.589 | |
| nmr_meta_export | 0.218 | 0.214 | 0.206 | |
| nmr_meta_get | 0.273 | 0.315 | 0.282 | |
| nmr_meta_get_column | 0.237 | 0.307 | 0.255 | |
| nmr_meta_groups | 0.224 | 0.189 | 0.202 | |
| nmr_normalize | 0.099 | 0.039 | 0.139 | |
| nmr_pca_build_model | 0.907 | 0.600 | 1.003 | |
| nmr_pca_outliers | 0.278 | 0.212 | 0.271 | |
| nmr_pca_outliers_filter | 0.288 | 0.214 | 0.279 | |
| nmr_pca_outliers_plot | 0 | 0 | 0 | |
| nmr_pca_outliers_robust | 1.635 | 0.249 | 1.673 | |
| nmr_pca_plots | 0.151 | 0.006 | 0.157 | |
| nmr_peak_clustering | 0.031 | 0.001 | 0.032 | |
| nmr_ppm_resolution | 0.002 | 0.001 | 0.003 | |
| nmr_read_bruker_fid | 0 | 0 | 0 | |
| nmr_read_samples | 0.422 | 0.355 | 0.359 | |
| nmr_zip_bruker_samples | 0.109 | 0.013 | 0.125 | |
| peaklist_accept_peaks | 0.002 | 0.001 | 0.002 | |
| permutation_test_model | 0.743 | 0.591 | 0.601 | |
| permutation_test_plot | 1.242 | 0.856 | 0.581 | |
| plot.nmr_dataset_1D | 0.000 | 0.001 | 0.002 | |
| plot_bootstrap_multimodel | 0.000 | 0.001 | 0.001 | |
| plot_interactive | 0.249 | 0.206 | 0.234 | |
| plot_plsda_multimodel | 0.082 | 0.161 | 0.128 | |
| plot_plsda_samples | 0.042 | 0.064 | 0.104 | |
| plot_vip_scores | 0.000 | 0.000 | 0.001 | |
| plot_webgl | 0.001 | 0.000 | 0.001 | |
| plsda_auroc_vip_compare | 0.161 | 0.166 | 0.324 | |
| plsda_auroc_vip_method | 0 | 0 | 0 | |
| ppm_resolution | 0.001 | 0.000 | 0.002 | |
| print.nmr_dataset | 0.211 | 0.167 | 0.176 | |
| print.nmr_dataset_1D | 0.287 | 0.312 | 0.282 | |
| print.nmr_dataset_peak_table | 0.296 | 0.237 | 0.269 | |
| random_subsampling | 0.001 | 0.002 | 0.002 | |
| save_files_to_rDolphin | 0 | 0 | 0 | |
| save_profiling_output | 0 | 0 | 0 | |
| sub-.nmr_dataset | 0.210 | 0.165 | 0.177 | |
| sub-.nmr_dataset_1D | 0.270 | 0.243 | 0.289 | |
| sub-.nmr_dataset_peak_table | 0.292 | 0.301 | 0.322 | |
| tidy.nmr_dataset_1D | 0.292 | 0.327 | 0.314 | |
| to_ASICS | 0.358 | 0.077 | 0.435 | |
| to_ChemoSpec | 0.319 | 0.325 | 0.353 | |
| validate_nmr_dataset | 0.726 | 0.865 | 0.776 | |
| validate_nmr_dataset_family | 0.263 | 0.247 | 0.264 | |
| validate_nmr_dataset_peak_table | 0.000 | 0.001 | 0.001 | |
| zzz | 0.00 | 0.00 | 2.01 | |