| Back to Multiple platform build/check report for BioC 3.21: simplified long |
|
This page was generated on 2025-04-22 13:15 -0400 (Tue, 22 Apr 2025).
| Hostname | OS | Arch (*) | R version | Installed pkgs |
|---|---|---|---|---|
| nebbiolo1 | Linux (Ubuntu 24.04.1 LTS) | x86_64 | 4.5.0 RC (2025-04-04 r88126) -- "How About a Twenty-Six" | 4831 |
| palomino7 | Windows Server 2022 Datacenter | x64 | 4.5.0 RC (2025-04-04 r88126 ucrt) -- "How About a Twenty-Six" | 4573 |
| lconway | macOS 12.7.1 Monterey | x86_64 | 4.5.0 RC (2025-04-04 r88126) -- "How About a Twenty-Six" | 4599 |
| kjohnson3 | macOS 13.7.1 Ventura | arm64 | 4.5.0 RC (2025-04-04 r88126) -- "How About a Twenty-Six" | 4553 |
| kunpeng2 | Linux (openEuler 24.03 LTS) | aarch64 | R Under development (unstable) (2025-02-19 r87757) -- "Unsuffered Consequences" | 4570 |
| Click on any hostname to see more info about the system (e.g. compilers) (*) as reported by 'uname -p', except on Windows and Mac OS X | ||||
| Package 56/2341 | Hostname | OS / Arch | INSTALL | BUILD | CHECK | BUILD BIN | ||||||||
| AllelicImbalance 1.46.0 (landing page) Jesper R Gadin
| nebbiolo1 | Linux (Ubuntu 24.04.1 LTS) / x86_64 | OK | OK | OK | |||||||||
| palomino7 | Windows Server 2022 Datacenter / x64 | OK | OK | OK | OK | |||||||||
| lconway | macOS 12.7.1 Monterey / x86_64 | OK | OK | OK | OK | |||||||||
| kjohnson3 | macOS 13.7.1 Ventura / arm64 | OK | OK | OK | OK | |||||||||
| kunpeng2 | Linux (openEuler 24.03 LTS) / aarch64 | OK | OK | OK | ||||||||||
|
To the developers/maintainers of the AllelicImbalance package: - Allow up to 24 hours (and sometimes 48 hours) for your latest push to git@git.bioconductor.org:packages/AllelicImbalance.git to reflect on this report. See Troubleshooting Build Report for more information. - Use the following Renviron settings to reproduce errors and warnings. - If 'R CMD check' started to fail recently on the Linux builder(s) over a missing dependency, add the missing dependency to 'Suggests:' in your DESCRIPTION file. See Renviron.bioc for more information. |
| Package: AllelicImbalance |
| Version: 1.46.0 |
| Command: /Library/Frameworks/R.framework/Resources/bin/R CMD check --install=check:AllelicImbalance.install-out.txt --library=/Library/Frameworks/R.framework/Resources/library --no-vignettes --timings AllelicImbalance_1.46.0.tar.gz |
| StartedAt: 2025-04-21 19:01:52 -0400 (Mon, 21 Apr 2025) |
| EndedAt: 2025-04-21 19:10:27 -0400 (Mon, 21 Apr 2025) |
| EllapsedTime: 515.5 seconds |
| RetCode: 0 |
| Status: OK |
| CheckDir: AllelicImbalance.Rcheck |
| Warnings: 0 |
##############################################################################
##############################################################################
###
### Running command:
###
### /Library/Frameworks/R.framework/Resources/bin/R CMD check --install=check:AllelicImbalance.install-out.txt --library=/Library/Frameworks/R.framework/Resources/library --no-vignettes --timings AllelicImbalance_1.46.0.tar.gz
###
##############################################################################
##############################################################################
* using log directory ‘/Users/biocbuild/bbs-3.21-bioc/meat/AllelicImbalance.Rcheck’
* using R version 4.5.0 RC (2025-04-04 r88126)
* using platform: x86_64-apple-darwin20
* R was compiled by
Apple clang version 14.0.0 (clang-1400.0.29.202)
GNU Fortran (GCC) 14.2.0
* running under: macOS Monterey 12.7.6
* using session charset: UTF-8
* using option ‘--no-vignettes’
* checking for file ‘AllelicImbalance/DESCRIPTION’ ... OK
* checking extension type ... Package
* this is package ‘AllelicImbalance’ version ‘1.46.0’
* package encoding: UTF-8
* checking package namespace information ... OK
* checking package dependencies ... OK
* checking if this is a source package ... OK
* checking if there is a namespace ... OK
* checking for hidden files and directories ... OK
* checking for portable file names ... OK
* checking for sufficient/correct file permissions ... OK
* checking whether package ‘AllelicImbalance’ can be installed ... OK
* checking installed package size ... OK
* checking package directory ... OK
* checking ‘build’ directory ... OK
* checking DESCRIPTION meta-information ... OK
* checking top-level files ... OK
* checking for left-over files ... OK
* checking index information ... OK
* checking package subdirectories ... NOTE
Problems with news in ‘NEWS’:
Cannot process chunk/lines:
CHANGES IN VERSION 1.12.0
* checking code files for non-ASCII characters ... OK
* checking R files for syntax errors ... OK
* checking whether the package can be loaded ... OK
* checking whether the package can be loaded with stated dependencies ... OK
* checking whether the package can be unloaded cleanly ... OK
* checking whether the namespace can be loaded with stated dependencies ... OK
* checking whether the namespace can be unloaded cleanly ... OK
* checking dependencies in R code ... OK
* checking S3 generic/method consistency ... OK
* checking replacement functions ... OK
* checking foreign function calls ... OK
* checking R code for possible problems ... OK
* checking Rd files ... OK
* checking Rd metadata ... OK
* checking Rd cross-references ... OK
* checking for missing documentation entries ... OK
* checking for code/documentation mismatches ... OK
* checking Rd \usage sections ... OK
* checking Rd contents ... OK
* checking for unstated dependencies in examples ... OK
* checking contents of ‘data’ directory ... OK
* checking data for non-ASCII characters ... OK
* checking LazyData ... OK
* checking data for ASCII and uncompressed saves ... OK
* checking sizes of PDF files under ‘inst/doc’ ... OK
* checking files in ‘vignettes’ ... OK
* checking examples ... OK
Examples with CPU (user + system) or elapsed time > 5s
user system elapsed
import-bam 26.088 0.396 26.660
getSnpIdFromLocation 23.119 1.272 24.568
lva 10.098 0.060 10.208
scanForHeterozygotes-old 5.684 0.045 5.763
annotation-wrappers 4.698 0.297 5.049
* checking for unstated dependencies in ‘tests’ ... OK
* checking tests ...
Running ‘test-all.R’
OK
* checking for unstated dependencies in vignettes ... OK
* checking package vignettes ... OK
* checking running R code from vignettes ... SKIPPED
* checking re-building of vignette outputs ... SKIPPED
* checking PDF version of manual ... OK
* DONE
Status: 1 NOTE
See
‘/Users/biocbuild/bbs-3.21-bioc/meat/AllelicImbalance.Rcheck/00check.log’
for details.
AllelicImbalance.Rcheck/00install.out
############################################################################## ############################################################################## ### ### Running command: ### ### /Library/Frameworks/R.framework/Resources/bin/R CMD INSTALL AllelicImbalance ### ############################################################################## ############################################################################## * installing to library ‘/Library/Frameworks/R.framework/Versions/4.5-x86_64/Resources/library’ * installing *source* package ‘AllelicImbalance’ ... ** this is package ‘AllelicImbalance’ version ‘1.46.0’ ** using staged installation ** R ** data *** moving datasets to lazyload DB ** inst ** byte-compile and prepare package for lazy loading Creating a generic function for 'chisq.test' from package 'stats' in package 'AllelicImbalance' Creating a generic function for 'binom.test' from package 'stats' in package 'AllelicImbalance' ** help *** installing help indices ** building package indices ** installing vignettes ** testing if installed package can be loaded from temporary location ** testing if installed package can be loaded from final location ** testing if installed package keeps a record of temporary installation path * DONE (AllelicImbalance)
AllelicImbalance.Rcheck/tests/test-all.Rout
R version 4.5.0 RC (2025-04-04 r88126) -- "How About a Twenty-Six"
Copyright (C) 2025 The R Foundation for Statistical Computing
Platform: x86_64-apple-darwin20
R is free software and comes with ABSOLUTELY NO WARRANTY.
You are welcome to redistribute it under certain conditions.
Type 'license()' or 'licence()' for distribution details.
R is a collaborative project with many contributors.
Type 'contributors()' for more information and
'citation()' on how to cite R or R packages in publications.
Type 'demo()' for some demos, 'help()' for on-line help, or
'help.start()' for an HTML browser interface to help.
Type 'q()' to quit R.
> library(testthat)
> test_check("AllelicImbalance")
Loading required package: AllelicImbalance
Loading required package: grid
Loading required package: GenomicRanges
Loading required package: stats4
Loading required package: BiocGenerics
Loading required package: generics
Attaching package: 'generics'
The following objects are masked from 'package:base':
as.difftime, as.factor, as.ordered, intersect, is.element, setdiff,
setequal, union
Attaching package: 'BiocGenerics'
The following objects are masked from 'package:stats':
IQR, mad, sd, var, xtabs
The following objects are masked from 'package:base':
Filter, Find, Map, Position, Reduce, anyDuplicated, aperm, append,
as.data.frame, basename, cbind, colnames, dirname, do.call,
duplicated, eval, evalq, get, grep, grepl, is.unsorted, lapply,
mapply, match, mget, order, paste, pmax, pmax.int, pmin, pmin.int,
rank, rbind, rownames, sapply, saveRDS, table, tapply, unique,
unsplit, which.max, which.min
Loading required package: S4Vectors
Attaching package: 'S4Vectors'
The following object is masked from 'package:utils':
findMatches
The following objects are masked from 'package:base':
I, expand.grid, unname
Loading required package: IRanges
Loading required package: GenomeInfoDb
Loading required package: SummarizedExperiment
Loading required package: MatrixGenerics
Loading required package: matrixStats
Attaching package: 'MatrixGenerics'
The following objects are masked from 'package:matrixStats':
colAlls, colAnyNAs, colAnys, colAvgsPerRowSet, colCollapse,
colCounts, colCummaxs, colCummins, colCumprods, colCumsums,
colDiffs, colIQRDiffs, colIQRs, colLogSumExps, colMadDiffs,
colMads, colMaxs, colMeans2, colMedians, colMins, colOrderStats,
colProds, colQuantiles, colRanges, colRanks, colSdDiffs, colSds,
colSums2, colTabulates, colVarDiffs, colVars, colWeightedMads,
colWeightedMeans, colWeightedMedians, colWeightedSds,
colWeightedVars, rowAlls, rowAnyNAs, rowAnys, rowAvgsPerColSet,
rowCollapse, rowCounts, rowCummaxs, rowCummins, rowCumprods,
rowCumsums, rowDiffs, rowIQRDiffs, rowIQRs, rowLogSumExps,
rowMadDiffs, rowMads, rowMaxs, rowMeans2, rowMedians, rowMins,
rowOrderStats, rowProds, rowQuantiles, rowRanges, rowRanks,
rowSdDiffs, rowSds, rowSums2, rowTabulates, rowVarDiffs, rowVars,
rowWeightedMads, rowWeightedMeans, rowWeightedMedians,
rowWeightedSds, rowWeightedVars
Loading required package: Biobase
Welcome to Bioconductor
Vignettes contain introductory material; view with
'browseVignettes()'. To cite Bioconductor, see
'citation("Biobase")', and for packages 'citation("pkgname")'.
Attaching package: 'Biobase'
The following object is masked from 'package:MatrixGenerics':
rowMedians
The following objects are masked from 'package:matrixStats':
anyMissing, rowMedians
Loading required package: GenomicAlignments
Loading required package: Biostrings
Loading required package: XVector
Attaching package: 'Biostrings'
The following object is masked from 'package:grid':
pattern
The following object is masked from 'package:base':
strsplit
Loading required package: Rsamtools
[ FAIL 0 | WARN 0 | SKIP 1 | PASS 96 ]
══ Skipped tests (1) ═══════════════════════════════════════════════════════════
• empty test (1): 'test_utils.R:3:1'
[ FAIL 0 | WARN 0 | SKIP 1 | PASS 96 ]
>
>
>
> proc.time()
user system elapsed
19.946 1.199 21.342
AllelicImbalance.Rcheck/AllelicImbalance-Ex.timings
| name | user | system | elapsed | |
| ASEset-barplot | 0.190 | 0.004 | 0.196 | |
| ASEset-class | 0.425 | 0.021 | 0.447 | |
| ASEset-filters | 0.062 | 0.009 | 0.071 | |
| ASEset-gbarplot | 0.041 | 0.006 | 0.049 | |
| ASEset-glocationplot | 4.852 | 0.088 | 4.959 | |
| ASEset-gviztrack | 0.625 | 0.052 | 0.682 | |
| ASEset-scanForHeterozygotes | 1.847 | 0.016 | 1.868 | |
| ASEset.old | 0.000 | 0.000 | 0.001 | |
| ASEset.sim | 0.000 | 0.000 | 0.001 | |
| ASEsetFromBam | 0.001 | 0.002 | 0.003 | |
| DetectedAI-class | 0.096 | 0.003 | 0.100 | |
| DetectedAI-plot | 1.352 | 0.018 | 1.376 | |
| DetectedAI-summary | 0.122 | 0.009 | 0.132 | |
| GRvariants | 0.001 | 0.002 | 0.003 | |
| GlobalAnalysis-class | 0.001 | 0.003 | 0.003 | |
| LinkVariantAlmlof-class | 0 | 0 | 0 | |
| LinkVariantAlmlof-plot | 2.128 | 0.016 | 2.151 | |
| RegionSummary-class | 0.000 | 0.000 | 0.001 | |
| RiskVariant-class | 0 | 0 | 0 | |
| annotation-wrappers | 4.698 | 0.297 | 5.049 | |
| annotationBarplot | 0.000 | 0.001 | 0.000 | |
| barplot-lattice-support | 0.128 | 0.003 | 0.132 | |
| binom.test | 0.048 | 0.003 | 0.052 | |
| chisq.test | 0.151 | 0.004 | 0.155 | |
| cigar-utilities | 0.012 | 0.000 | 0.013 | |
| countAllelesFromBam | 0.001 | 0.001 | 0.003 | |
| coverageMatrixListFromGAL | 0.835 | 0.014 | 0.853 | |
| decorateWithExons | 0.001 | 0.002 | 0.003 | |
| decorateWithGenes | 0.001 | 0.001 | 0.003 | |
| defaultMapBias | 0.039 | 0.005 | 0.046 | |
| defaultPhase | 0.001 | 0.000 | 0.001 | |
| detectAI | 0.104 | 0.008 | 0.112 | |
| fractionPlotDf | 0.037 | 0.004 | 0.042 | |
| gba | 0 | 0 | 0 | |
| genomatrix | 0 | 0 | 0 | |
| genotype2phase | 0.076 | 0.012 | 0.087 | |
| getAlleleCounts | 4.664 | 0.035 | 4.727 | |
| getAlleleQuality | 4.164 | 0.027 | 4.217 | |
| getAreaFromGeneNames | 0.645 | 0.022 | 0.670 | |
| getDefaultMapBiasExpMean | 0.027 | 0.003 | 0.031 | |
| getSnpIdFromLocation | 23.119 | 1.272 | 24.568 | |
| histplot | 0.000 | 0.001 | 0.000 | |
| implodeList-old | 0.006 | 0.001 | 0.006 | |
| import-bam-2 | 0.009 | 0.001 | 0.011 | |
| import-bam | 26.088 | 0.396 | 26.660 | |
| import-bcf | 1.318 | 0.025 | 1.349 | |
| inferAlleles | 0.011 | 0.002 | 0.013 | |
| inferAltAllele | 0.015 | 0.002 | 0.018 | |
| inferGenotypes | 0.033 | 0.002 | 0.035 | |
| initialize-ASEset | 0.088 | 0.001 | 0.090 | |
| initialize-DetectedAI | 0.106 | 0.002 | 0.109 | |
| initialize-GlobalAnalysis | 0.002 | 0.002 | 0.004 | |
| initialize-RiskVariant | 0.002 | 0.002 | 0.004 | |
| legendBarplot | 0 | 0 | 0 | |
| locationplot | 1.636 | 0.030 | 1.676 | |
| lva | 10.098 | 0.060 | 10.208 | |
| lva.internal | 0.403 | 0.005 | 0.412 | |
| makeMaskedFasta | 1.198 | 0.010 | 1.217 | |
| mapBiasRef | 0.013 | 0.002 | 0.015 | |
| minCountFilt | 0.083 | 0.003 | 0.087 | |
| minFreqFilt | 0.086 | 0.003 | 0.089 | |
| multiAllelicFilt | 0.011 | 0.002 | 0.013 | |
| phase2genotype | 0.028 | 0.004 | 0.033 | |
| phaseArray2phaseMatrix | 0.004 | 0.003 | 0.007 | |
| phaseMatrix2Array | 0.003 | 0.002 | 0.005 | |
| randomRef | 0.018 | 0.002 | 0.021 | |
| reads | 0.001 | 0.000 | 0.000 | |
| refAllele | 0.014 | 0.003 | 0.018 | |
| regionSummary | 0.675 | 0.005 | 0.683 | |
| scanForHeterozygotes-old | 5.684 | 0.045 | 5.763 | |