Back to Multiple platform build/check report for BioC 3.22:   simplified   long
[A]BCDEFGHIJKLMNOPQRSTUVWXYZ

This page was generated on 2025-11-24 12:05 -0500 (Mon, 24 Nov 2025).

HostnameOSArch (*)R versionInstalled pkgs
nebbiolo2Linux (Ubuntu 24.04.3 LTS)x86_644.5.2 (2025-10-31) -- "[Not] Part in a Rumble" 4873
merida1macOS 12.7.6 Montereyx86_644.5.2 Patched (2025-11-05 r88990) -- "[Not] Part in a Rumble" 4654
kjohnson1macOS 13.7.5 Venturaarm644.5.2 Patched (2025-11-04 r88984) -- "[Not] Part in a Rumble" 4600
taishanLinux (openEuler 24.03 LTS)aarch644.5.0 (2025-04-11) -- "How About a Twenty-Six" 4668
Click on any hostname to see more info about the system (e.g. compilers)      (*) as reported by 'uname -p', except on Windows and Mac OS X

Package 56/2361HostnameOS / ArchINSTALLBUILDCHECKBUILD BIN
AllelicImbalance 1.48.0  (landing page)
Jesper R Gadin
Snapshot Date: 2025-11-20 15:01 -0500 (Thu, 20 Nov 2025)
git_url: https://git.bioconductor.org/packages/AllelicImbalance
git_branch: RELEASE_3_22
git_last_commit: 556446f
git_last_commit_date: 2025-10-29 10:16:36 -0500 (Wed, 29 Oct 2025)
nebbiolo2Linux (Ubuntu 24.04.3 LTS) / x86_64  OK    OK    OK  UNNEEDED, same version is already published
merida1macOS 12.7.6 Monterey / x86_64  OK    OK    OK    OK  UNNEEDED, same version is already published
kjohnson1macOS 13.7.5 Ventura / arm64  OK    OK    OK    OK  UNNEEDED, same version is already published
taishanLinux (openEuler 24.03 LTS) / aarch64  OK    OK    OK  


CHECK results for AllelicImbalance on kjohnson1

To the developers/maintainers of the AllelicImbalance package:
- Allow up to 24 hours (and sometimes 48 hours) for your latest push to git@git.bioconductor.org:packages/AllelicImbalance.git to reflect on this report. See Troubleshooting Build Report for more information.
- Use the following Renviron settings to reproduce errors and warnings.
- If 'R CMD check' started to fail recently on the Linux builder(s) over a missing dependency, add the missing dependency to 'Suggests:' in your DESCRIPTION file. See Renviron.bioc for more information.

raw results


Summary

Package: AllelicImbalance
Version: 1.48.0
Command: /Library/Frameworks/R.framework/Resources/bin/R CMD check --install=check:AllelicImbalance.install-out.txt --library=/Library/Frameworks/R.framework/Resources/library --no-vignettes --timings AllelicImbalance_1.48.0.tar.gz
StartedAt: 2025-11-21 14:31:00 -0500 (Fri, 21 Nov 2025)
EndedAt: 2025-11-21 14:44:55 -0500 (Fri, 21 Nov 2025)
EllapsedTime: 835.7 seconds
RetCode: 0
Status:   OK  
CheckDir: AllelicImbalance.Rcheck
Warnings: 0

Command output

##############################################################################
##############################################################################
###
### Running command:
###
###   /Library/Frameworks/R.framework/Resources/bin/R CMD check --install=check:AllelicImbalance.install-out.txt --library=/Library/Frameworks/R.framework/Resources/library --no-vignettes --timings AllelicImbalance_1.48.0.tar.gz
###
##############################################################################
##############################################################################


* using log directory ‘/Users/biocbuild/bbs-3.22-bioc/meat/AllelicImbalance.Rcheck’
* using R version 4.5.2 Patched (2025-11-04 r88984)
* using platform: aarch64-apple-darwin20
* R was compiled by
    Apple clang version 16.0.0 (clang-1600.0.26.6)
    GNU Fortran (GCC) 14.2.0
* running under: macOS Ventura 13.7.8
* using session charset: UTF-8
* using option ‘--no-vignettes’
* checking for file ‘AllelicImbalance/DESCRIPTION’ ... OK
* checking extension type ... Package
* this is package ‘AllelicImbalance’ version ‘1.48.0’
* package encoding: UTF-8
* checking package namespace information ... OK
* checking package dependencies ... OK
* checking if this is a source package ... OK
* checking if there is a namespace ... OK
* checking for hidden files and directories ... OK
* checking for portable file names ... OK
* checking for sufficient/correct file permissions ... OK
* checking whether package ‘AllelicImbalance’ can be installed ... OK
* checking installed package size ... OK
* checking package directory ... OK
* checking ‘build’ directory ... OK
* checking DESCRIPTION meta-information ... OK
* checking top-level files ... OK
* checking for left-over files ... OK
* checking index information ... OK
* checking package subdirectories ... NOTE
Problems with news in ‘NEWS’:
  Cannot process chunk/lines:
    CHANGES IN VERSION 1.12.0
* checking code files for non-ASCII characters ... OK
* checking R files for syntax errors ... OK
* checking whether the package can be loaded ... OK
* checking whether the package can be loaded with stated dependencies ... OK
* checking whether the package can be unloaded cleanly ... OK
* checking whether the namespace can be loaded with stated dependencies ... OK
* checking whether the namespace can be unloaded cleanly ... OK
* checking dependencies in R code ... OK
* checking S3 generic/method consistency ... OK
* checking replacement functions ... OK
* checking foreign function calls ... OK
* checking R code for possible problems ... OK
* checking Rd files ... OK
* checking Rd metadata ... OK
* checking Rd cross-references ... OK
* checking for missing documentation entries ... OK
* checking for code/documentation mismatches ... OK
* checking Rd \usage sections ... OK
* checking Rd contents ... OK
* checking for unstated dependencies in examples ... OK
* checking contents of ‘data’ directory ... OK
* checking data for non-ASCII characters ... OK
* checking LazyData ... OK
* checking data for ASCII and uncompressed saves ... OK
* checking sizes of PDF files under ‘inst/doc’ ... OK
* checking files in ‘vignettes’ ... OK
* checking examples ... OK
Examples with CPU (user + system) or elapsed time > 5s
                           user system elapsed
import-bam               36.424  0.338  52.164
getSnpIdFromLocation     24.046  1.075  36.524
annotation-wrappers      13.113  0.487  18.886
lva                      10.159  0.082  14.003
ASEset-glocationplot      7.551  0.104  10.830
scanForHeterozygotes-old  6.480  0.050   9.257
getAlleleCounts           4.818  0.047   6.751
getAlleleQuality          4.352  0.042   5.687
* checking for unstated dependencies in ‘tests’ ... OK
* checking tests ...
  Running ‘test-all.R’
 OK
* checking for unstated dependencies in vignettes ... OK
* checking package vignettes ... OK
* checking running R code from vignettes ... SKIPPED
* checking re-building of vignette outputs ... SKIPPED
* checking PDF version of manual ... OK
* DONE

Status: 1 NOTE
See
  ‘/Users/biocbuild/bbs-3.22-bioc/meat/AllelicImbalance.Rcheck/00check.log’
for details.


Installation output

AllelicImbalance.Rcheck/00install.out

##############################################################################
##############################################################################
###
### Running command:
###
###   /Library/Frameworks/R.framework/Resources/bin/R CMD INSTALL AllelicImbalance
###
##############################################################################
##############################################################################


* installing to library ‘/Library/Frameworks/R.framework/Versions/4.5-arm64/Resources/library’
* installing *source* package ‘AllelicImbalance’ ...
** this is package ‘AllelicImbalance’ version ‘1.48.0’
** using staged installation
** R
** data
*** moving datasets to lazyload DB
** inst
** byte-compile and prepare package for lazy loading
Creating a generic function for 'chisq.test' from package 'stats' in package 'AllelicImbalance'
Creating a generic function for 'binom.test' from package 'stats' in package 'AllelicImbalance'
** help
*** installing help indices
** building package indices
** installing vignettes
** testing if installed package can be loaded from temporary location
** testing if installed package can be loaded from final location
** testing if installed package keeps a record of temporary installation path
* DONE (AllelicImbalance)

Tests output

AllelicImbalance.Rcheck/tests/test-all.Rout


R version 4.5.2 Patched (2025-11-04 r88984) -- "[Not] Part in a Rumble"
Copyright (C) 2025 The R Foundation for Statistical Computing
Platform: aarch64-apple-darwin20

R is free software and comes with ABSOLUTELY NO WARRANTY.
You are welcome to redistribute it under certain conditions.
Type 'license()' or 'licence()' for distribution details.

R is a collaborative project with many contributors.
Type 'contributors()' for more information and
'citation()' on how to cite R or R packages in publications.

Type 'demo()' for some demos, 'help()' for on-line help, or
'help.start()' for an HTML browser interface to help.
Type 'q()' to quit R.

> library(testthat)
> test_check("AllelicImbalance")
Loading required package: AllelicImbalance
Loading required package: grid
Loading required package: GenomicRanges
Loading required package: stats4
Loading required package: BiocGenerics
Loading required package: generics

Attaching package: 'generics'

The following objects are masked from 'package:base':

    as.difftime, as.factor, as.ordered, intersect, is.element, setdiff,
    setequal, union


Attaching package: 'BiocGenerics'

The following objects are masked from 'package:stats':

    IQR, mad, sd, var, xtabs

The following objects are masked from 'package:base':

    Filter, Find, Map, Position, Reduce, anyDuplicated, aperm, append,
    as.data.frame, basename, cbind, colnames, dirname, do.call,
    duplicated, eval, evalq, get, grep, grepl, is.unsorted, lapply,
    mapply, match, mget, order, paste, pmax, pmax.int, pmin, pmin.int,
    rank, rbind, rownames, sapply, saveRDS, table, tapply, unique,
    unsplit, which.max, which.min

Loading required package: S4Vectors

Attaching package: 'S4Vectors'

The following object is masked from 'package:utils':

    findMatches

The following objects are masked from 'package:base':

    I, expand.grid, unname

Loading required package: IRanges
Loading required package: Seqinfo
Loading required package: SummarizedExperiment
Loading required package: MatrixGenerics
Loading required package: matrixStats

Attaching package: 'MatrixGenerics'

The following objects are masked from 'package:matrixStats':

    colAlls, colAnyNAs, colAnys, colAvgsPerRowSet, colCollapse,
    colCounts, colCummaxs, colCummins, colCumprods, colCumsums,
    colDiffs, colIQRDiffs, colIQRs, colLogSumExps, colMadDiffs,
    colMads, colMaxs, colMeans2, colMedians, colMins, colOrderStats,
    colProds, colQuantiles, colRanges, colRanks, colSdDiffs, colSds,
    colSums2, colTabulates, colVarDiffs, colVars, colWeightedMads,
    colWeightedMeans, colWeightedMedians, colWeightedSds,
    colWeightedVars, rowAlls, rowAnyNAs, rowAnys, rowAvgsPerColSet,
    rowCollapse, rowCounts, rowCummaxs, rowCummins, rowCumprods,
    rowCumsums, rowDiffs, rowIQRDiffs, rowIQRs, rowLogSumExps,
    rowMadDiffs, rowMads, rowMaxs, rowMeans2, rowMedians, rowMins,
    rowOrderStats, rowProds, rowQuantiles, rowRanges, rowRanks,
    rowSdDiffs, rowSds, rowSums2, rowTabulates, rowVarDiffs, rowVars,
    rowWeightedMads, rowWeightedMeans, rowWeightedMedians,
    rowWeightedSds, rowWeightedVars

Loading required package: Biobase
Welcome to Bioconductor

    Vignettes contain introductory material; view with
    'browseVignettes()'. To cite Bioconductor, see
    'citation("Biobase")', and for packages 'citation("pkgname")'.


Attaching package: 'Biobase'

The following object is masked from 'package:MatrixGenerics':

    rowMedians

The following objects are masked from 'package:matrixStats':

    anyMissing, rowMedians

Loading required package: GenomicAlignments
Loading required package: Biostrings
Loading required package: XVector

Attaching package: 'Biostrings'

The following object is masked from 'package:grid':

    pattern

The following object is masked from 'package:base':

    strsplit

Loading required package: Rsamtools
[ FAIL 0 | WARN 3 | SKIP 2 | PASS 96 ]

══ Skipped tests (2) ═══════════════════════════════════════════════════════════
• empty test (2): , 'test_utils.R:3:1'

[ FAIL 0 | WARN 3 | SKIP 2 | PASS 96 ]
> 
> 
> 
> proc.time()
   user  system elapsed 
 23.004   1.057  34.002 

Example timings

AllelicImbalance.Rcheck/AllelicImbalance-Ex.timings

nameusersystemelapsed
ASEset-barplot0.2950.0110.364
ASEset-class0.4480.0180.698
ASEset-filters0.0610.0080.078
ASEset-gbarplot0.0450.0070.066
ASEset-glocationplot 7.551 0.10410.830
ASEset-gviztrack0.7910.0491.114
ASEset-scanForHeterozygotes1.9840.0222.769
ASEset.old000
ASEset.sim000
ASEsetFromBam0.0010.0040.009
DetectedAI-class0.1170.0050.158
DetectedAI-plot1.4490.0292.145
DetectedAI-summary0.1330.0110.186
GRvariants0.0010.0040.004
GlobalAnalysis-class0.0010.0050.005
LinkVariantAlmlof-class000
LinkVariantAlmlof-plot2.3170.0243.242
RegionSummary-class000
RiskVariant-class000
annotation-wrappers13.113 0.48718.886
annotationBarplot000
barplot-lattice-support0.1360.0030.179
binom.test0.0590.0040.082
chisq.test0.1580.0050.226
cigar-utilities0.0130.0010.015
countAllelesFromBam0.0020.0040.006
coverageMatrixListFromGAL0.9510.0201.354
decorateWithExons0.0020.0030.005
decorateWithGenes0.0010.0040.004
defaultMapBias0.0410.0060.066
defaultPhase0.0010.0010.001
detectAI0.1050.0050.162
fractionPlotDf0.0400.0070.103
gba0.0000.0000.001
genomatrix000
genotype2phase0.0260.0080.034
getAlleleCounts4.8180.0476.751
getAlleleQuality4.3520.0425.687
getAreaFromGeneNames0.8070.0351.288
getDefaultMapBiasExpMean0.0310.0040.058
getSnpIdFromLocation24.046 1.07536.524
histplot0.0000.0010.001
implodeList-old0.0060.0000.006
import-bam-20.0090.0000.010
import-bam36.424 0.33852.164
import-bcf1.7720.0162.542
inferAlleles0.0160.0030.028
inferAltAllele0.0200.0040.041
inferGenotypes0.0300.0030.050
initialize-ASEset0.0800.0020.136
initialize-DetectedAI0.1000.0050.150
initialize-GlobalAnalysis0.0020.0030.005
initialize-RiskVariant0.0010.0030.004
legendBarplot0.0010.0010.000
locationplot1.6870.0262.516
lva10.159 0.08214.003
lva.internal0.4120.0070.548
makeMaskedFasta1.6960.0152.444
mapBiasRef0.0160.0040.022
minCountFilt0.0680.0040.073
minFreqFilt0.0810.0060.156
multiAllelicFilt0.0150.0040.021
phase2genotype0.0320.0070.068
phaseArray2phaseMatrix0.0050.0040.017
phaseMatrix2Array0.0040.0040.012
randomRef0.0230.0030.029
reads000
refAllele0.0170.0050.032
regionSummary0.6250.0080.893
scanForHeterozygotes-old6.4800.0509.257