| Back to Build/check report for BioC 3.22 experimental data | 
 | 
This page was generated on 2025-10-28 15:41 -0400 (Tue, 28 Oct 2025).
| Hostname | OS | Arch (*) | R version | Installed pkgs | 
|---|---|---|---|---|
| nebbiolo2 | Linux (Ubuntu 24.04.3 LTS) | x86_64 | 4.5.1 Patched (2025-08-23 r88802) -- "Great Square Root" | 4901 | 
| Click on any hostname to see more info about the system (e.g. compilers) (*) as reported by 'uname -p', except on Windows and Mac OS X | ||||
| Package 232/435 | Hostname | OS / Arch | INSTALL | BUILD | CHECK | ||||||||
| marinerData 1.9.0  (landing page) Eric Davis 
 | nebbiolo2 | Linux (Ubuntu 24.04.3 LTS) / x86_64 | OK | OK | OK |  | |||||||
| To the developers/maintainers of the marinerData package: - Use the following Renviron settings to reproduce errors and warnings. - If 'R CMD check' started to fail recently on the Linux builder(s) over a missing dependency, add the missing dependency to 'Suggests:' in your DESCRIPTION file. See Renviron.bioc for more information. | 
| Package: marinerData | 
| Version: 1.9.0 | 
| Command: /home/biocbuild/bbs-3.22-bioc/R/bin/R CMD check --install=check:marinerData.install-out.txt --library=/home/biocbuild/bbs-3.22-bioc/R/site-library --timings marinerData_1.9.0.tar.gz | 
| StartedAt: 2025-10-28 12:38:04 -0400 (Tue, 28 Oct 2025) | 
| EndedAt: 2025-10-28 12:49:27 -0400 (Tue, 28 Oct 2025) | 
| EllapsedTime: 682.9 seconds | 
| RetCode: 0 | 
| Status: OK | 
| CheckDir: marinerData.Rcheck | 
| Warnings: 0 | 
##############################################################################
##############################################################################
###
### Running command:
###
###   /home/biocbuild/bbs-3.22-bioc/R/bin/R CMD check --install=check:marinerData.install-out.txt --library=/home/biocbuild/bbs-3.22-bioc/R/site-library --timings marinerData_1.9.0.tar.gz
###
##############################################################################
##############################################################################
* using log directory ‘/home/biocbuild/bbs-3.22-data-experiment/meat/marinerData.Rcheck’
* using R version 4.5.1 Patched (2025-08-23 r88802)
* using platform: x86_64-pc-linux-gnu
* R was compiled by
    gcc (Ubuntu 13.3.0-6ubuntu2~24.04) 13.3.0
    GNU Fortran (Ubuntu 13.3.0-6ubuntu2~24.04) 13.3.0
* running under: Ubuntu 24.04.3 LTS
* using session charset: UTF-8
* checking for file ‘marinerData/DESCRIPTION’ ... OK
* this is package ‘marinerData’ version ‘1.9.0’
* package encoding: UTF-8
* checking package namespace information ... OK
* checking package dependencies ... OK
* checking if this is a source package ... OK
* checking if there is a namespace ... OK
* checking for hidden files and directories ... OK
* checking for portable file names ... OK
* checking for sufficient/correct file permissions ... OK
* checking whether package ‘marinerData’ can be installed ... OK
* checking installed package size ... OK
* checking package directory ... OK
* checking ‘build’ directory ... OK
* checking DESCRIPTION meta-information ... OK
* checking top-level files ... OK
* checking for left-over files ... OK
* checking index information ... OK
* checking package subdirectories ... OK
* checking code files for non-ASCII characters ... OK
* checking R files for syntax errors ... OK
* checking whether the package can be loaded ... OK
* checking whether the package can be loaded with stated dependencies ... OK
* checking whether the package can be unloaded cleanly ... OK
* checking whether the namespace can be loaded with stated dependencies ... OK
* checking whether the namespace can be unloaded cleanly ... OK
* checking loading without being on the library search path ... OK
* checking whether startup messages can be suppressed ... OK
* checking dependencies in R code ... OK
* checking S3 generic/method consistency ... OK
* checking replacement functions ... OK
* checking foreign function calls ... OK
* checking R code for possible problems ... OK
* checking Rd files ... OK
* checking Rd metadata ... OK
* checking Rd cross-references ... OK
* checking for missing documentation entries ... OK
* checking for code/documentation mismatches ... OK
* checking Rd \usage sections ... OK
* checking Rd contents ... OK
* checking for unstated dependencies in examples ... OK
* checking files in ‘vignettes’ ... OK
* checking examples ... OK
Examples with CPU (user + system) or elapsed time > 5s
                             user system elapsed
FS_5kbLoops.txt             1.796  0.134   6.007
LIMA_0060.bedpe             1.209  0.143  18.695
LIMA_0120.bedpe             1.284  0.057  23.543
LIMA_0240.bedpe             1.262  0.059  15.200
LIMA_0090.bedpe             1.188  0.094  32.610
LEUK_HEK_PJA30_inter_30.hic 0.984  0.143   5.218
LIMA_1440.bedpe             1.045  0.037   5.720
* checking for unstated dependencies in ‘tests’ ... OK
* checking tests ...
  Running ‘testthat.R’
 OK
* checking for unstated dependencies in vignettes ... OK
* checking package vignettes ... OK
* checking re-building of vignette outputs ... OK
* checking PDF version of manual ... OK
* DONE
Status: OK
marinerData.Rcheck/00install.out
############################################################################## ############################################################################## ### ### Running command: ### ### /home/biocbuild/bbs-3.22-bioc/R/bin/R CMD INSTALL marinerData ### ############################################################################## ############################################################################## * installing to library ‘/home/biocbuild/bbs-3.22-bioc/R/site-library’ * installing *source* package ‘marinerData’ ... ** this is package ‘marinerData’ version ‘1.9.0’ ** using staged installation ** R ** inst ** byte-compile and prepare package for lazy loading ** help *** installing help indices ** building package indices ** installing vignettes ** testing if installed package can be loaded from temporary location ** testing if installed package can be loaded from final location ** testing if installed package keeps a record of temporary installation path * DONE (marinerData)
marinerData.Rcheck/tests/testthat.Rout
R version 4.5.1 Patched (2025-08-23 r88802) -- "Great Square Root"
Copyright (C) 2025 The R Foundation for Statistical Computing
Platform: x86_64-pc-linux-gnu
R is free software and comes with ABSOLUTELY NO WARRANTY.
You are welcome to redistribute it under certain conditions.
Type 'license()' or 'licence()' for distribution details.
R is a collaborative project with many contributors.
Type 'contributors()' for more information and
'citation()' on how to cite R or R packages in publications.
Type 'demo()' for some demos, 'help()' for on-line help, or
'help.start()' for an HTML browser interface to help.
Type 'q()' to quit R.
> # This file is part of the standard setup for testthat.
> # It is recommended that you do not modify it.
> #
> # Where should you do additional test configuration?
> # Learn more about the roles of various files in:
> # * https://r-pkgs.org/tests.html
> # * https://testthat.r-lib.org/reference/test_package.html#special-files
> 
> library(testthat)
> library(marinerData)
> 
> test_check("marinerData")
[ FAIL 0 | WARN 0 | SKIP 0 | PASS 13 ]
> 
> proc.time()
   user  system elapsed 
 16.950   1.174  99.793 
marinerData.Rcheck/marinerData-Ex.timings
| name | user | system | elapsed | |
| FS_5kbLoops.txt | 1.796 | 0.134 | 6.007 | |
| LEUK_HEK_PJA27_inter_30.hic | 1.317 | 0.119 | 2.768 | |
| LEUK_HEK_PJA30_inter_30.hic | 0.984 | 0.143 | 5.218 | |
| LIMA_0000.bedpe | 0.839 | 0.084 | 1.974 | |
| LIMA_0030.bedpe | 0.861 | 0.059 | 4.453 | |
| LIMA_0060.bedpe | 1.209 | 0.143 | 18.695 | |
| LIMA_0090.bedpe | 1.188 | 0.094 | 32.610 | |
| LIMA_0120.bedpe | 1.284 | 0.057 | 23.543 | |
| LIMA_0240.bedpe | 1.262 | 0.059 | 15.200 | |
| LIMA_0360.bedpe | 0.912 | 0.030 | 2.694 | |
| LIMA_1440.bedpe | 1.045 | 0.037 | 5.720 | |
| WT_5kbLoops.txt | 0.864 | 0.090 | 1.480 | |