| Back to Build/check report for BioC 3.23 experimental data | 
  | 
This page was generated on 2025-10-30 15:01 -0400 (Thu, 30 Oct 2025).
| Hostname | OS | Arch (*) | R version | Installed pkgs | 
|---|---|---|---|---|
| nebbiolo1 | Linux (Ubuntu 24.04.3 LTS) | x86_64 | R Under development (unstable) (2025-10-20 r88955) -- "Unsuffered Consequences" | 4428 | 
| Click on any hostname to see more info about the system (e.g. compilers) (*) as reported by 'uname -p', except on Windows and Mac OS X | ||||
| Package 221/430 | Hostname | OS / Arch | INSTALL | BUILD | CHECK | ||||||||
| lungExpression 0.49.0  (landing page) Robert Scharpf 
  | nebbiolo1 | Linux (Ubuntu 24.04.3 LTS) / x86_64 | OK | OK | OK | ||||||||
| 
To the developers/maintainers of the lungExpression package: - Use the following Renviron settings to reproduce errors and warnings. - If 'R CMD check' started to fail recently on the Linux builder(s) over a missing dependency, add the missing dependency to 'Suggests:' in your DESCRIPTION file. See Renviron.bioc for more information.  | 
| Package: lungExpression | 
| Version: 0.49.0 | 
| Command: /home/biocbuild/bbs-3.23-bioc/R/bin/R CMD build --keep-empty-dirs --no-resave-data lungExpression | 
| StartedAt: 2025-10-30 11:24:20 -0400 (Thu, 30 Oct 2025) | 
| EndedAt: 2025-10-30 11:24:21 -0400 (Thu, 30 Oct 2025) | 
| EllapsedTime: 1.0 seconds | 
| RetCode: 0 | 
| Status: OK | 
| PackageFile: lungExpression_0.49.0.tar.gz | 
| PackageFileSize: 5.681 MiB | 
############################################################################## ############################################################################## ### ### Running command: ### ### /home/biocbuild/bbs-3.23-bioc/R/bin/R CMD build --keep-empty-dirs --no-resave-data lungExpression ### ############################################################################## ############################################################################## * checking for file ‘lungExpression/DESCRIPTION’ ... OK * preparing ‘lungExpression’: * checking DESCRIPTION meta-information ... OK * checking for LF line-endings in source and make files and shell scripts * checking for empty or unneeded directories * looking to see if a ‘data/datalist’ file should be added * building ‘lungExpression_0.49.0.tar.gz’