Back to Build/check report for BioC 3.22 experimental data
ABCDEF[G]HIJKLMNOPQRSTUVWXYZ

This page was generated on 2025-09-30 15:41 -0400 (Tue, 30 Sep 2025).

HostnameOSArch (*)R versionInstalled pkgs
nebbiolo2Linux (Ubuntu 24.04.3 LTS)x86_644.5.1 Patched (2025-08-23 r88802) -- "Great Square Root" 4843
Click on any hostname to see more info about the system (e.g. compilers)      (*) as reported by 'uname -p', except on Windows and Mac OS X

Package 149/433HostnameOS / ArchINSTALLBUILDCHECK
geneLenDataBase 1.45.0  (landing page)
Federico Marini
Snapshot Date: 2025-09-30 07:30 -0400 (Tue, 30 Sep 2025)
git_url: https://git.bioconductor.org/packages/geneLenDataBase
git_branch: devel
git_last_commit: 109b234
git_last_commit_date: 2025-04-15 09:16:59 -0400 (Tue, 15 Apr 2025)
nebbiolo2Linux (Ubuntu 24.04.3 LTS) / x86_64  OK    OK    OK  UNNEEDED, same version is already published


CHECK results for geneLenDataBase on nebbiolo2

To the developers/maintainers of the geneLenDataBase package:
- Use the following Renviron settings to reproduce errors and warnings.
- If 'R CMD check' started to fail recently on the Linux builder(s) over a missing dependency, add the missing dependency to 'Suggests:' in your DESCRIPTION file. See Renviron.bioc for more information.

raw results


Summary

Package: geneLenDataBase
Version: 1.45.0
Command: /home/biocbuild/bbs-3.22-bioc/R/bin/R CMD check --install=check:geneLenDataBase.install-out.txt --library=/home/biocbuild/bbs-3.22-bioc/R/site-library --timings geneLenDataBase_1.45.0.tar.gz
StartedAt: 2025-09-30 12:25:23 -0400 (Tue, 30 Sep 2025)
EndedAt: 2025-09-30 12:34:34 -0400 (Tue, 30 Sep 2025)
EllapsedTime: 550.5 seconds
RetCode: 0
Status:   OK  
CheckDir: geneLenDataBase.Rcheck
Warnings: 0

Command output

##############################################################################
##############################################################################
###
### Running command:
###
###   /home/biocbuild/bbs-3.22-bioc/R/bin/R CMD check --install=check:geneLenDataBase.install-out.txt --library=/home/biocbuild/bbs-3.22-bioc/R/site-library --timings geneLenDataBase_1.45.0.tar.gz
###
##############################################################################
##############################################################################


* using log directory ‘/home/biocbuild/bbs-3.22-data-experiment/meat/geneLenDataBase.Rcheck’
* using R version 4.5.1 Patched (2025-08-23 r88802)
* using platform: x86_64-pc-linux-gnu
* R was compiled by
    gcc (Ubuntu 13.3.0-6ubuntu2~24.04) 13.3.0
    GNU Fortran (Ubuntu 13.3.0-6ubuntu2~24.04) 13.3.0
* running under: Ubuntu 24.04.3 LTS
* using session charset: UTF-8
* checking for file ‘geneLenDataBase/DESCRIPTION’ ... OK
* this is package ‘geneLenDataBase’ version ‘1.45.0’
* package encoding: UTF-8
* checking package namespace information ... OK
* checking package dependencies ... OK
* checking if this is a source package ... OK
* checking if there is a namespace ... OK
* checking for hidden files and directories ... OK
* checking for portable file names ... OK
* checking for sufficient/correct file permissions ... OK
* checking whether package ‘geneLenDataBase’ can be installed ... OK
* checking installed package size ... INFO
  installed size is 100.3Mb
  sub-directories of 1Mb or more:
    data  99.7Mb
* checking package directory ... OK
* checking DESCRIPTION meta-information ... OK
* checking top-level files ... OK
* checking for left-over files ... OK
* checking index information ... OK
* checking package subdirectories ... OK
* checking code files for non-ASCII characters ... OK
* checking R files for syntax errors ... OK
* checking whether the package can be loaded ... OK
* checking whether the package can be loaded with stated dependencies ... OK
* checking whether the package can be unloaded cleanly ... OK
* checking whether the namespace can be loaded with stated dependencies ... OK
* checking whether the namespace can be unloaded cleanly ... OK
* checking loading without being on the library search path ... OK
* checking dependencies in R code ... NOTE
Unexported object imported by a ':::' call: ‘txdbmaker:::.UCSC_TXNAME2GENEID_MAPDEFS’
  See the note in ?`:::` about the use of this operator.
* checking S3 generic/method consistency ... OK
* checking replacement functions ... OK
* checking foreign function calls ... OK
* checking R code for possible problems ... OK
* checking Rd files ... OK
* checking Rd metadata ... OK
* checking Rd cross-references ... OK
* checking for missing documentation entries ... OK
* checking for code/documentation mismatches ... OK
* checking Rd \usage sections ... OK
* checking Rd contents ... OK
* checking for unstated dependencies in examples ... OK
* checking contents of ‘data’ directory ... OK
* checking data for non-ASCII characters ... OK
* checking data for ASCII and uncompressed saves ... OK
* checking examples ... OK
Examples with CPU (user + system) or elapsed time > 5s
                  user system elapsed
supportedGeneIDs 3.222  0.265   5.688
* checking PDF version of manual ... OK
* DONE

Status: 1 NOTE
See
  ‘/home/biocbuild/bbs-3.22-data-experiment/meat/geneLenDataBase.Rcheck/00check.log’
for details.


Installation output

geneLenDataBase.Rcheck/00install.out

##############################################################################
##############################################################################
###
### Running command:
###
###   /home/biocbuild/bbs-3.22-bioc/R/bin/R CMD INSTALL geneLenDataBase
###
##############################################################################
##############################################################################


* installing to library ‘/home/biocbuild/bbs-3.22-bioc/R/site-library’
* installing *source* package ‘geneLenDataBase’ ...
** this is package ‘geneLenDataBase’ version ‘1.45.0’
** using staged installation
** R
** data
** byte-compile and prepare package for lazy loading
** help
*** installing help indices
** building package indices
** testing if installed package can be loaded from temporary location
** testing if installed package can be loaded from final location
** testing if installed package keeps a record of temporary installation path
* DONE (geneLenDataBase)

Tests output


Example timings

geneLenDataBase.Rcheck/geneLenDataBase-Ex.timings

nameusersystemelapsed
anoCar1.ensGene.LENGTH0.0860.0060.092
anoCar1.genscan.LENGTH0.0510.0010.052
anoCar1.xenoRefGene.LENGTH0.9240.0040.927
anoGam1.ensGene.LENGTH0.0640.0000.065
anoGam1.geneid.LENGTH0.0440.0010.045
anoGam1.genscan.LENGTH0.0410.0010.043
apiMel1.genscan.LENGTH0.0390.0000.039
apiMel2.ensGene.LENGTH0.0940.0010.095
apiMel2.geneid.LENGTH0.1200.0050.125
apiMel2.genscan.LENGTH0.0320.0000.032
aplCal1.xenoRefGene.LENGTH0.4630.0030.466
bosTau2.geneSymbol.LENGTH0.0410.0000.041
bosTau2.geneid.LENGTH0.2510.0060.257
bosTau2.genscan.LENGTH0.0880.0020.090
bosTau2.refGene.LENGTH0.0400.0030.043
bosTau2.sgpGene.LENGTH0.1050.0020.107
bosTau3.ensGene.LENGTH0.1090.0040.113
bosTau3.geneSymbol.LENGTH0.0370.0010.038
bosTau3.geneid.LENGTH0.1640.0010.166
bosTau3.genscan.LENGTH0.0690.0010.070
bosTau3.refGene.LENGTH0.0340.0000.034
bosTau3.sgpGene.LENGTH0.0910.0010.092
bosTau4.ensGene.LENGTH0.1070.0110.118
bosTau4.geneSymbol.LENGTH0.0310.0010.033
bosTau4.genscan.LENGTH0.0650.0010.066
bosTau4.nscanGene.LENGTH0.0290.0010.029
bosTau4.refGene.LENGTH0.0310.0000.031
braFlo1.xenoRefGene.LENGTH0.4420.0020.444
caeJap1.xenoRefGene.LENGTH0.4100.0010.411
caePb1.xenoRefGene.LENGTH0.5160.0000.516
caePb2.xenoRefGene.LENGTH0.4760.0010.477
caeRem2.xenoRefGene.LENGTH0.4330.0020.435
caeRem3.xenoRefGene.LENGTH0.3850.0060.391
calJac1.genscan.LENGTH0.0930.0000.093
calJac1.nscanGene.LENGTH0.1120.0010.113
calJac1.xenoRefGene.LENGTH0.8850.0130.898
canFam1.ensGene.LENGTH0.1150.0010.116
canFam1.geneSymbol.LENGTH0.0060.0000.006
canFam1.genscan.LENGTH0.0650.0010.066
canFam1.nscanGene.LENGTH0.0650.0010.066
canFam1.refGene.LENGTH0.0050.0000.005
canFam1.xenoRefGene.LENGTH0.6680.0040.672
canFam2.ensGene.LENGTH0.1080.0020.110
canFam2.geneSymbol.LENGTH0.0040.0010.005
canFam2.genscan.LENGTH0.0580.0000.059
canFam2.nscanGene.LENGTH0.0640.0010.065
canFam2.refGene.LENGTH0.0050.0000.005
canFam2.xenoRefGene.LENGTH0.6870.0020.689
cavPor3.ensGene.LENGTH0.3460.0010.346
cavPor3.genscan.LENGTH0.1000.0010.102
cavPor3.nscanGene.LENGTH0.0680.0000.068
cavPor3.xenoRefGene.LENGTH0.7120.0000.712
cb1.xenoRefGene.LENGTH0.4320.0000.432
cb3.xenoRefGene.LENGTH0.3670.0020.369
ce2.geneSymbol.LENGTH0.0670.0010.068
ce2.geneid.LENGTH0.0550.0010.056
ce2.refGene.LENGTH0.0650.0000.065
ce4.geneSymbol.LENGTH0.0660.0000.067
ce4.refGene.LENGTH0.0610.0030.064
ce4.xenoRefGene.LENGTH0.0800.0010.081
ce6.ensGene.LENGTH0.0940.0000.095
ce6.geneSymbol.LENGTH0.0690.0000.069
ce6.refGene.LENGTH0.0620.0000.062
ce6.xenoRefGene.LENGTH0.0800.0010.081
ci1.geneSymbol.LENGTH0.0040.0010.005
ci1.refGene.LENGTH0.0040.0000.004
ci1.xenoRefGene.LENGTH0.1650.0010.166
ci2.ensGene.LENGTH0.0610.0010.062
ci2.geneSymbol.LENGTH0.0040.0010.005
ci2.refGene.LENGTH0.0040.0010.005
ci2.xenoRefGene.LENGTH1.0810.0991.181
danRer3.ensGene.LENGTH0.0990.0000.099
danRer3.geneSymbol.LENGTH0.0530.0010.053
danRer3.refGene.LENGTH0.0490.0000.049
danRer4.ensGene.LENGTH0.1190.0010.119
danRer4.geneSymbol.LENGTH0.0510.0000.051
danRer4.genscan.LENGTH0.0590.0000.059
danRer4.nscanGene.LENGTH0.0820.0010.083
danRer4.refGene.LENGTH0.0480.0000.048
danRer5.ensGene.LENGTH0.1210.0000.121
danRer5.geneSymbol.LENGTH0.0480.0000.048
danRer5.refGene.LENGTH0.0430.0010.044
danRer5.vegaGene.LENGTH0.0470.0000.047
danRer5.vegaPseudoGene.LENGTH0.0020.0000.002
danRer6.ensGene.LENGTH0.120.000.12
danRer6.geneSymbol.LENGTH0.050.000.05
danRer6.refGene.LENGTH0.0470.0000.047
danRer6.xenoRefGene.LENGTH0.5930.0060.599
dm1.geneSymbol.LENGTH0.0630.0010.064
dm1.genscan.LENGTH0.0240.0000.024
dm1.refGene.LENGTH0.0580.0000.058
dm2.geneSymbol.LENGTH0.0660.0000.066
dm2.geneid.LENGTH0.0330.0030.035
dm2.genscan.LENGTH0.0230.0000.023
dm2.nscanGene.LENGTH0.0530.0000.053
dm2.refGene.LENGTH0.0570.0010.058
dm3.geneSymbol.LENGTH0.0700.0010.070
dm3.nscanPasaGene.LENGTH0.0510.0010.051
dm3.refGene.LENGTH0.0670.0000.067
downloadLengthFromUCSC000
dp2.genscan.LENGTH0.0320.0000.032
dp2.xenoRefGene.LENGTH0.2260.0000.227
dp3.geneid.LENGTH0.0390.0000.038
dp3.genscan.LENGTH0.0250.0000.024
dp3.xenoRefGene.LENGTH0.1170.0000.116
droAna1.geneid.LENGTH0.0680.0000.068
droAna1.genscan.LENGTH0.0200.0010.022
droAna1.xenoRefGene.LENGTH0.2220.0010.224
droAna2.genscan.LENGTH0.0490.0000.049
droAna2.xenoRefGene.LENGTH0.2920.0000.292
droEre1.genscan.LENGTH0.0270.0010.028
droEre1.xenoRefGene.LENGTH0.2750.0000.275
droGri1.genscan.LENGTH0.0390.0000.038
droGri1.xenoRefGene.LENGTH0.3070.0000.307
droMoj1.geneid.LENGTH0.1290.0010.129
droMoj1.genscan.LENGTH0.0570.0010.057
droMoj1.xenoRefGene.LENGTH0.2440.0000.244
droMoj2.genscan.LENGTH0.0360.0000.036
droMoj2.xenoRefGene.LENGTH0.3010.0010.302
droPer1.genscan.LENGTH0.0380.0010.039
droPer1.xenoRefGene.LENGTH0.3060.0030.309
droSec1.genscan.LENGTH0.0280.0070.035
droSec1.xenoRefGene.LENGTH0.2890.0050.294
droSim1.geneid.LENGTH0.0360.0000.036
droSim1.genscan.LENGTH0.0230.0020.025
droSim1.xenoRefGene.LENGTH0.3620.0040.366
droVir1.geneid.LENGTH0.1020.0000.102
droVir1.genscan.LENGTH0.0400.0010.041
droVir1.xenoRefGene.LENGTH0.2430.0000.243
droVir2.genscan.LENGTH0.0330.0010.035
droVir2.xenoRefGene.LENGTH0.2710.0010.272
droYak1.geneid.LENGTH0.0430.0010.044
droYak1.genscan.LENGTH0.0260.0020.028
droYak1.xenoRefGene.LENGTH0.2190.0030.222
droYak2.genscan.LENGTH0.0260.0000.026
droYak2.xenoRefGene.LENGTH0.2760.0000.276
equCab1.geneSymbol.LENGTH0.0050.0000.005
equCab1.geneid.LENGTH0.0860.0000.086
equCab1.nscanGene.LENGTH0.0400.0010.040
equCab1.refGene.LENGTH0.0030.0000.004
equCab1.sgpGene.LENGTH0.0680.0000.068
equCab2.ensGene.LENGTH0.1010.0010.102
equCab2.geneSymbol.LENGTH0.0070.0000.006
equCab2.nscanGene.LENGTH0.0510.0000.051
equCab2.refGene.LENGTH0.0060.0000.006
equCab2.xenoRefGene.LENGTH0.6430.0010.646
felCat3.ensGene.LENGTH0.1180.0010.119
felCat3.geneSymbol.LENGTH0.0030.0010.004
felCat3.geneid.LENGTH0.6010.0200.621
felCat3.genscan.LENGTH0.1340.0020.136
felCat3.nscanGene.LENGTH0.3250.0050.330
felCat3.refGene.LENGTH0.0040.0000.004
felCat3.sgpGene.LENGTH0.1630.0000.162
felCat3.xenoRefGene.LENGTH1.3690.0061.375
fr1.ensGene.LENGTH0.0820.0010.083
fr1.genscan.LENGTH0.0660.0000.066
fr2.ensGene.LENGTH0.7160.0130.729
galGal2.ensGene.LENGTH0.0580.0000.058
galGal2.geneSymbol.LENGTH0.0160.0000.015
galGal2.geneid.LENGTH0.0360.0000.036
galGal2.genscan.LENGTH0.0490.0000.049
galGal2.refGene.LENGTH0.0130.0010.014
galGal2.sgpGene.LENGTH0.0420.0010.043
galGal3.ensGene.LENGTH0.0690.0010.070
galGal3.geneSymbol.LENGTH0.0150.0000.015
galGal3.genscan.LENGTH0.0470.0010.048
galGal3.nscanGene.LENGTH0.0670.0000.067
galGal3.refGene.LENGTH0.0130.0010.014
galGal3.xenoRefGene.LENGTH0.4800.0020.481
gasAcu1.ensGene.LENGTH0.0940.0000.094
gasAcu1.nscanGene.LENGTH0.0880.0000.088
hg16.acembly.LENGTH0.3400.0010.341
hg16.ensGene.LENGTH0.0720.0000.072
hg16.exoniphy.LENGTH0.2220.0020.224
hg16.geneSymbol.LENGTH0.0990.0020.100
hg16.geneid.LENGTH0.0460.0000.046
hg16.genscan.LENGTH0.0590.0010.059
hg16.knownGene.LENGTH0.1160.0000.116
hg16.refGene.LENGTH0.0960.0010.097
hg16.sgpGene.LENGTH0.0550.0000.055
hg17.acembly.LENGTH0.4240.0010.425
hg17.acescan.LENGTH0.0090.0010.011
hg17.ccdsGene.LENGTH0.0230.0000.024
hg17.ensGene.LENGTH0.1080.0000.108
hg17.exoniphy.LENGTH0.3850.0020.386
hg17.geneSymbol.LENGTH0.1020.0020.103
hg17.geneid.LENGTH0.0770.0000.077
hg17.genscan.LENGTH0.0580.0000.058
hg17.knownGene.LENGTH0.1050.0010.107
hg17.refGene.LENGTH0.1010.0000.101
hg17.sgpGene.LENGTH0.0760.0010.076
hg17.vegaGene.LENGTH0.0420.0000.042
hg17.vegaPseudoGene.LENGTH0.0180.0010.019
hg17.xenoRefGene.LENGTH0.5150.0030.519
hg18.acembly.LENGTH0.5030.0010.504
hg18.acescan.LENGTH0.010.000.01
hg18.ccdsGene.LENGTH0.0340.0000.033
hg18.ensGene.LENGTH0.2150.0000.215
hg18.exoniphy.LENGTH0.4510.0020.453
hg18.geneSymbol.LENGTH0.1070.0000.108
hg18.geneid.LENGTH0.0770.0000.077
hg18.genscan.LENGTH0.0620.0000.061
hg18.knownGene.LENGTH0.1530.0010.155
hg18.knownGeneOld3.LENGTH0.0690.0000.069
hg18.refGene.LENGTH0.1020.0000.102
hg18.sgpGene.LENGTH0.0780.0010.079
hg18.sibGene.LENGTH0.7840.0070.791
hg18.xenoRefGene.LENGTH0.4250.0010.426
hg19.ccdsGene.LENGTH0.040.000.04
hg19.ensGene.LENGTH0.330.000.33
hg19.exoniphy.LENGTH0.4400.0020.442
hg19.geneSymbol.LENGTH0.1040.0000.104
hg19.knownGene.LENGTH0.1830.0000.182
hg19.nscanGene.LENGTH0.1490.0000.149
hg19.refGene.LENGTH0.1010.0010.101
hg19.xenoRefGene.LENGTH0.3910.0010.391
loxAfr3.xenoRefGene.LENGTH0.7800.0040.784
mm7.ensGene.LENGTH0.1140.0000.114
mm7.geneSymbol.LENGTH0.0880.0000.088
mm7.geneid.LENGTH0.0790.0010.081
mm7.genscan.LENGTH0.0660.0000.066
mm7.knownGene.LENGTH0.0950.0000.096
mm7.refGene.LENGTH0.0840.0010.086
mm7.sgpGene.LENGTH0.0790.0000.079
mm7.xenoRefGene.LENGTH0.3290.0110.341
mm8.ccdsGene.LENGTH0.0220.0010.023
mm8.ensGene.LENGTH0.0780.0010.079
mm8.geneSymbol.LENGTH0.090.000.09
mm8.geneid.LENGTH0.0780.0000.078
mm8.genscan.LENGTH0.0610.0000.061
mm8.knownGene.LENGTH0.0950.0030.098
mm8.nscanGene.LENGTH0.0630.0020.066
mm8.refGene.LENGTH0.3460.0130.359
mm8.sgpGene.LENGTH0.0780.0010.079
mm8.sibGene.LENGTH0.2630.0020.265
mm8.xenoRefGene.LENGTH0.3850.0370.421
mm9.acembly.LENGTH0.3340.0080.343
mm9.ccdsGene.LENGTH0.0300.0010.031
mm9.ensGene.LENGTH0.1570.0010.159
mm9.exoniphy.LENGTH0.4400.0030.443
mm9.geneSymbol.LENGTH0.1000.0000.101
mm9.geneid.LENGTH0.1030.0030.106
mm9.genscan.LENGTH0.0680.0020.069
mm9.knownGene.LENGTH0.1170.0030.119
mm9.nscanGene.LENGTH0.0670.0010.067
mm9.refGene.LENGTH0.0950.0000.095
mm9.sgpGene.LENGTH0.0880.0010.089
mm9.xenoRefGene.LENGTH0.8310.0460.878
monDom1.genscan.LENGTH0.0670.0010.068
monDom4.ensGene.LENGTH0.0810.0000.082
monDom4.geneSymbol.LENGTH0.0030.0000.004
monDom4.genscan.LENGTH0.0550.0000.055
monDom4.nscanGene.LENGTH0.0550.0000.055
monDom4.refGene.LENGTH0.0020.0010.003
monDom4.xenoRefGene.LENGTH0.3730.0040.377
monDom5.ensGene.LENGTH0.1180.0040.121
monDom5.geneSymbol.LENGTH0.0030.0010.004
monDom5.genscan.LENGTH0.0540.0020.056
monDom5.nscanGene.LENGTH0.1110.0030.114
monDom5.refGene.LENGTH0.0030.0000.003
monDom5.xenoRefGene.LENGTH0.6460.0040.650
ornAna1.ensGene.LENGTH0.1030.0010.104
ornAna1.geneSymbol.LENGTH0.0010.0010.002
ornAna1.refGene.LENGTH0.0020.0000.002
ornAna1.xenoRefGene.LENGTH0.6340.0040.638
oryLat2.ensGene.LENGTH1.2690.2011.470
oryLat2.geneSymbol.LENGTH0.0040.0000.004
oryLat2.refGene.LENGTH0.0030.0010.003
oryLat2.xenoRefGene.LENGTH0.4510.0050.456
panTro1.ensGene.LENGTH0.0910.0010.092
panTro1.geneid.LENGTH0.0440.0000.044
panTro1.genscan.LENGTH0.0530.0010.054
panTro1.xenoRefGene.LENGTH0.1070.0000.107
panTro2.ensGene.LENGTH0.1030.0020.105
panTro2.geneSymbol.LENGTH0.0920.0000.092
panTro2.genscan.LENGTH0.0550.0000.055
panTro2.nscanGene.LENGTH0.0570.0000.057
panTro2.refGene.LENGTH0.0930.0010.094
panTro2.xenoRefGene.LENGTH0.4860.0120.498
petMar1.xenoRefGene.LENGTH0.2610.0020.264
ponAbe2.ensGene.LENGTH0.0790.0010.080
ponAbe2.geneSymbol.LENGTH0.0110.0010.013
ponAbe2.genscan.LENGTH0.0580.0010.059
ponAbe2.nscanGene.LENGTH0.0570.0000.057
ponAbe2.refGene.LENGTH0.0110.0000.011
ponAbe2.xenoRefGene.LENGTH0.6020.0030.605
priPac1.xenoRefGene.LENGTH0.3260.0020.328
rheMac2.ensGene.LENGTH0.1230.0020.126
rheMac2.geneSymbol.LENGTH0.0040.0010.005
rheMac2.geneid.LENGTH0.0680.0000.068
rheMac2.nscanGene.LENGTH0.0580.0080.066
rheMac2.refGene.LENGTH0.0030.0010.005
rheMac2.sgpGene.LENGTH0.0680.0000.068
rheMac2.xenoRefGene.LENGTH0.4350.0030.437
rn3.ensGene.LENGTH0.0950.0000.095
rn3.geneSymbol.LENGTH0.0510.0000.051
rn3.geneid.LENGTH0.0460.0020.049
rn3.genscan.LENGTH0.060.000.06
rn3.knownGene.LENGTH0.0220.0010.022
rn3.nscanGene.LENGTH0.0570.0000.057
rn3.refGene.LENGTH0.0470.0010.047
rn3.sgpGene.LENGTH0.0530.0010.054
rn3.xenoRefGene.LENGTH0.5300.0100.541
rn4.ensGene.LENGTH0.1260.0030.129
rn4.geneSymbol.LENGTH0.0510.0000.052
rn4.geneid.LENGTH0.0820.0000.082
rn4.genscan.LENGTH0.060.000.06
rn4.knownGene.LENGTH0.0240.0000.023
rn4.nscanGene.LENGTH0.0490.0020.051
rn4.refGene.LENGTH0.0470.0000.047
rn4.sgpGene.LENGTH0.0750.0020.077
rn4.xenoRefGene.LENGTH0.3060.0020.309
sacCer1.ensGene.LENGTH0.0170.0010.018
sacCer2.ensGene.LENGTH0.0160.0010.016
strPur1.geneSymbol.LENGTH0.0030.0020.005
strPur1.genscan.LENGTH0.0610.0020.064
strPur1.refGene.LENGTH0.0040.0000.005
strPur1.xenoRefGene.LENGTH0.4380.0010.439
strPur2.geneSymbol.LENGTH0.0020.0020.004
strPur2.genscan.LENGTH0.1020.0030.105
strPur2.refGene.LENGTH0.0020.0010.004
strPur2.xenoRefGene.LENGTH0.6820.0030.685
supportedGeneIDs3.2220.2655.688
supportedGenomes0.2550.0051.028
taeGut1.ensGene.LENGTH0.0580.0000.057
taeGut1.geneSymbol.LENGTH0.0030.0000.002
taeGut1.genscan.LENGTH0.0290.0010.029
taeGut1.nscanGene.LENGTH0.0240.0000.023
taeGut1.refGene.LENGTH0.0020.0000.002
taeGut1.xenoRefGene.LENGTH0.4280.0070.436
tetNig1.ensGene.LENGTH0.0850.0000.085
tetNig1.geneid.LENGTH0.0590.0020.062
tetNig1.genscan.LENGTH0.0470.0010.048
tetNig1.nscanGene.LENGTH0.0630.0030.065
tetNig2.ensGene.LENGTH0.0670.0000.067
unfactor0.0030.0000.003
xenTro1.genscan.LENGTH0.0750.0020.078
xenTro2.ensGene.LENGTH0.0830.0010.083
xenTro2.geneSymbol.LENGTH0.0290.0000.029
xenTro2.genscan.LENGTH0.0660.0010.067
xenTro2.refGene.LENGTH0.0270.0000.028