Back to Build/check report for BioC 3.23 experimental data
ABCDEF[G]HIJKLMNOPQRSTUVWXYZ

This page was generated on 2025-10-30 15:01 -0400 (Thu, 30 Oct 2025).

HostnameOSArch (*)R versionInstalled pkgs
nebbiolo1Linux (Ubuntu 24.04.3 LTS)x86_64R Under development (unstable) (2025-10-20 r88955) -- "Unsuffered Consequences" 4428
Click on any hostname to see more info about the system (e.g. compilers)      (*) as reported by 'uname -p', except on Windows and Mac OS X

Package 147/430HostnameOS / ArchINSTALLBUILDCHECK
geneLenDataBase 1.47.0  (landing page)
Federico Marini
Snapshot Date: 2025-10-30 07:00 -0400 (Thu, 30 Oct 2025)
git_url: https://git.bioconductor.org/packages/geneLenDataBase
git_branch: devel
git_last_commit: 8b3da6c
git_last_commit_date: 2025-10-29 09:31:54 -0400 (Wed, 29 Oct 2025)
nebbiolo1Linux (Ubuntu 24.04.3 LTS) / x86_64  OK    OK    OK  NO, package depends on 'rtracklayer' which is not available


CHECK results for geneLenDataBase on nebbiolo1

To the developers/maintainers of the geneLenDataBase package:
- Use the following Renviron settings to reproduce errors and warnings.
- If 'R CMD check' started to fail recently on the Linux builder(s) over a missing dependency, add the missing dependency to 'Suggests:' in your DESCRIPTION file. See Renviron.bioc for more information.

raw results


Summary

Package: geneLenDataBase
Version: 1.47.0
Command: /home/biocbuild/bbs-3.23-bioc/R/bin/R CMD check --install=check:geneLenDataBase.install-out.txt --library=/home/biocbuild/bbs-3.23-bioc/R/site-library --timings geneLenDataBase_1.47.0.tar.gz
StartedAt: 2025-10-30 12:15:22 -0400 (Thu, 30 Oct 2025)
EndedAt: 2025-10-30 12:24:26 -0400 (Thu, 30 Oct 2025)
EllapsedTime: 543.8 seconds
RetCode: 0
Status:   OK  
CheckDir: geneLenDataBase.Rcheck
Warnings: 0

Command output

##############################################################################
##############################################################################
###
### Running command:
###
###   /home/biocbuild/bbs-3.23-bioc/R/bin/R CMD check --install=check:geneLenDataBase.install-out.txt --library=/home/biocbuild/bbs-3.23-bioc/R/site-library --timings geneLenDataBase_1.47.0.tar.gz
###
##############################################################################
##############################################################################


* using log directory ‘/home/biocbuild/bbs-3.23-data-experiment/meat/geneLenDataBase.Rcheck’
* using R Under development (unstable) (2025-10-20 r88955)
* using platform: x86_64-pc-linux-gnu
* R was compiled by
    gcc (Ubuntu 13.3.0-6ubuntu2~24.04) 13.3.0
    GNU Fortran (Ubuntu 13.3.0-6ubuntu2~24.04) 13.3.0
* running under: Ubuntu 24.04.3 LTS
* using session charset: UTF-8
* checking for file ‘geneLenDataBase/DESCRIPTION’ ... OK
* this is package ‘geneLenDataBase’ version ‘1.47.0’
* package encoding: UTF-8
* checking package namespace information ... OK
* checking package dependencies ... OK
* checking if this is a source package ... OK
* checking if there is a namespace ... OK
* checking for hidden files and directories ... OK
* checking for portable file names ... OK
* checking for sufficient/correct file permissions ... OK
* checking whether package ‘geneLenDataBase’ can be installed ... OK
* checking installed package size ... INFO
  installed size is 100.0Mb
  sub-directories of 1Mb or more:
    data  99.5Mb
* checking package directory ... OK
* checking DESCRIPTION meta-information ... OK
* checking top-level files ... OK
* checking for left-over files ... OK
* checking index information ... OK
* checking package subdirectories ... OK
* checking code files for non-ASCII characters ... OK
* checking R files for syntax errors ... OK
* checking whether the package can be loaded ... OK
* checking whether the package can be loaded with stated dependencies ... OK
* checking whether the package can be unloaded cleanly ... OK
* checking whether the namespace can be loaded with stated dependencies ... OK
* checking whether the namespace can be unloaded cleanly ... OK
* checking loading without being on the library search path ... OK
* checking dependencies in R code ... NOTE
Unexported object imported by a ':::' call: ‘txdbmaker:::.UCSC_TXNAME2GENEID_MAPDEFS’
  See the note in ?`:::` about the use of this operator.
* checking S3 generic/method consistency ... OK
* checking replacement functions ... OK
* checking foreign function calls ... OK
* checking R code for possible problems ... OK
* checking Rd files ... OK
* checking Rd metadata ... OK
* checking Rd cross-references ... OK
* checking for missing documentation entries ... OK
* checking for code/documentation mismatches ... OK
* checking Rd \usage sections ... OK
* checking Rd contents ... OK
* checking for unstated dependencies in examples ... OK
* checking contents of ‘data’ directory ... OK
* checking data for non-ASCII characters ... OK
* checking data for ASCII and uncompressed saves ... OK
* checking examples ... OK
Examples with CPU (user + system) or elapsed time > 5s
                  user system elapsed
supportedGeneIDs 3.127  0.107   5.361
* checking PDF version of manual ... OK
* DONE

Status: 1 NOTE
See
  ‘/home/biocbuild/bbs-3.23-data-experiment/meat/geneLenDataBase.Rcheck/00check.log’
for details.


Installation output

geneLenDataBase.Rcheck/00install.out

##############################################################################
##############################################################################
###
### Running command:
###
###   /home/biocbuild/bbs-3.23-bioc/R/bin/R CMD INSTALL geneLenDataBase
###
##############################################################################
##############################################################################


* installing to library ‘/home/biocbuild/bbs-3.23-bioc/R/site-library’
* installing *source* package ‘geneLenDataBase’ ...
** this is package ‘geneLenDataBase’ version ‘1.47.0’
** using staged installation
** R
** data
** byte-compile and prepare package for lazy loading
** help
*** installing help indices
** building package indices
** testing if installed package can be loaded from temporary location
** testing if installed package can be loaded from final location
** testing if installed package keeps a record of temporary installation path
* DONE (geneLenDataBase)

Tests output


Example timings

geneLenDataBase.Rcheck/geneLenDataBase-Ex.timings

nameusersystemelapsed
anoCar1.ensGene.LENGTH0.0830.0050.089
anoCar1.genscan.LENGTH0.0460.0020.049
anoCar1.xenoRefGene.LENGTH0.7930.0140.808
anoGam1.ensGene.LENGTH0.0590.0020.061
anoGam1.geneid.LENGTH0.0420.0040.046
anoGam1.genscan.LENGTH0.0380.0030.041
apiMel1.genscan.LENGTH0.0370.0010.038
apiMel2.ensGene.LENGTH0.0910.0010.093
apiMel2.geneid.LENGTH0.1230.0030.127
apiMel2.genscan.LENGTH0.0300.0020.032
aplCal1.xenoRefGene.LENGTH0.4160.0040.420
bosTau2.geneSymbol.LENGTH0.0380.0020.040
bosTau2.geneid.LENGTH0.2370.0070.244
bosTau2.genscan.LENGTH0.0860.0030.089
bosTau2.refGene.LENGTH0.0400.0020.042
bosTau2.sgpGene.LENGTH0.1000.0010.102
bosTau3.ensGene.LENGTH0.1120.0030.115
bosTau3.geneSymbol.LENGTH0.0390.0010.040
bosTau3.geneid.LENGTH0.1660.0060.172
bosTau3.genscan.LENGTH0.0670.0000.066
bosTau3.refGene.LENGTH0.0320.0000.032
bosTau3.sgpGene.LENGTH0.0850.0020.087
bosTau4.ensGene.LENGTH0.0930.0000.093
bosTau4.geneSymbol.LENGTH0.0310.0010.032
bosTau4.genscan.LENGTH0.0620.0010.063
bosTau4.nscanGene.LENGTH0.0270.0000.027
bosTau4.refGene.LENGTH0.030.000.03
braFlo1.xenoRefGene.LENGTH0.3590.0020.361
caeJap1.xenoRefGene.LENGTH0.3260.0090.335
caePb1.xenoRefGene.LENGTH0.4340.0010.435
caePb2.xenoRefGene.LENGTH0.4200.0010.421
caeRem2.xenoRefGene.LENGTH0.3730.0010.374
caeRem3.xenoRefGene.LENGTH0.3560.0020.359
calJac1.genscan.LENGTH0.0880.0000.089
calJac1.nscanGene.LENGTH0.1080.0010.109
calJac1.xenoRefGene.LENGTH0.7200.0070.727
canFam1.ensGene.LENGTH0.1030.0020.106
canFam1.geneSymbol.LENGTH0.0040.0010.006
canFam1.genscan.LENGTH0.0620.0010.063
canFam1.nscanGene.LENGTH0.0640.0000.063
canFam1.refGene.LENGTH0.0060.0000.005
canFam1.xenoRefGene.LENGTH0.5550.0040.559
canFam2.ensGene.LENGTH0.0980.0000.098
canFam2.geneSymbol.LENGTH0.0030.0020.006
canFam2.genscan.LENGTH0.0550.0000.056
canFam2.nscanGene.LENGTH0.0590.0020.061
canFam2.refGene.LENGTH0.0040.0010.005
canFam2.xenoRefGene.LENGTH0.5410.0030.544
cavPor3.ensGene.LENGTH0.2860.0030.290
cavPor3.genscan.LENGTH0.0890.0000.089
cavPor3.nscanGene.LENGTH0.0600.0010.060
cavPor3.xenoRefGene.LENGTH0.5220.0040.526
cb1.xenoRefGene.LENGTH0.3700.0020.372
cb3.xenoRefGene.LENGTH0.3310.0010.331
ce2.geneSymbol.LENGTH0.0650.0000.065
ce2.geneid.LENGTH0.0540.0000.053
ce2.refGene.LENGTH0.0590.0010.061
ce4.geneSymbol.LENGTH0.0650.0000.065
ce4.refGene.LENGTH0.0580.0010.059
ce4.xenoRefGene.LENGTH0.0770.0000.078
ce6.ensGene.LENGTH0.0890.0000.089
ce6.geneSymbol.LENGTH0.0650.0000.065
ce6.refGene.LENGTH0.0620.0000.062
ce6.xenoRefGene.LENGTH0.0760.0020.078
ci1.geneSymbol.LENGTH0.0020.0030.006
ci1.refGene.LENGTH0.0020.0020.005
ci1.xenoRefGene.LENGTH0.1570.0000.158
ci2.ensGene.LENGTH0.0630.0010.064
ci2.geneSymbol.LENGTH0.0040.0010.005
ci2.refGene.LENGTH0.0040.0000.004
ci2.xenoRefGene.LENGTH0.9980.0581.056
danRer3.ensGene.LENGTH0.0860.0000.086
danRer3.geneSymbol.LENGTH0.0490.0010.049
danRer3.refGene.LENGTH0.0430.0100.053
danRer4.ensGene.LENGTH0.1040.0000.104
danRer4.geneSymbol.LENGTH0.0500.0000.049
danRer4.genscan.LENGTH0.0570.0000.057
danRer4.nscanGene.LENGTH0.0790.0020.080
danRer4.refGene.LENGTH0.0450.0010.046
danRer5.ensGene.LENGTH0.1040.0000.103
danRer5.geneSymbol.LENGTH0.0450.0010.046
danRer5.refGene.LENGTH0.0420.0000.042
danRer5.vegaGene.LENGTH0.0430.0000.043
danRer5.vegaPseudoGene.LENGTH0.0020.0000.003
danRer6.ensGene.LENGTH0.0990.0000.099
danRer6.geneSymbol.LENGTH0.0460.0000.048
danRer6.refGene.LENGTH0.0420.0000.043
danRer6.xenoRefGene.LENGTH0.4620.0010.464
dm1.geneSymbol.LENGTH0.0590.0010.059
dm1.genscan.LENGTH0.0210.0010.022
dm1.refGene.LENGTH0.0550.0000.054
dm2.geneSymbol.LENGTH0.0580.0020.060
dm2.geneid.LENGTH0.0320.0010.032
dm2.genscan.LENGTH0.0210.0010.022
dm2.nscanGene.LENGTH0.0450.0000.044
dm2.refGene.LENGTH0.0550.0000.055
dm3.geneSymbol.LENGTH0.0660.0000.065
dm3.nscanPasaGene.LENGTH0.0490.0000.049
dm3.refGene.LENGTH0.0610.0010.063
downloadLengthFromUCSC0.0000.0000.001
dp2.genscan.LENGTH0.0300.0000.031
dp2.xenoRefGene.LENGTH0.1850.0010.186
dp3.geneid.LENGTH0.0360.0000.037
dp3.genscan.LENGTH0.0240.0000.024
dp3.xenoRefGene.LENGTH0.1020.0000.102
droAna1.geneid.LENGTH0.0630.0010.064
droAna1.genscan.LENGTH0.0210.0000.022
droAna1.xenoRefGene.LENGTH0.1890.0020.192
droAna2.genscan.LENGTH0.0460.0000.047
droAna2.xenoRefGene.LENGTH0.2520.0030.254
droEre1.genscan.LENGTH0.0270.0010.027
droEre1.xenoRefGene.LENGTH0.2400.0010.241
droGri1.genscan.LENGTH0.0350.0020.037
droGri1.xenoRefGene.LENGTH0.2640.0010.265
droMoj1.geneid.LENGTH0.1220.0030.126
droMoj1.genscan.LENGTH0.0530.0010.054
droMoj1.xenoRefGene.LENGTH0.2050.0070.212
droMoj2.genscan.LENGTH0.0340.0010.035
droMoj2.xenoRefGene.LENGTH0.2580.0020.260
droPer1.genscan.LENGTH0.0380.0000.038
droPer1.xenoRefGene.LENGTH0.2710.0030.274
droSec1.genscan.LENGTH0.0270.0010.028
droSec1.xenoRefGene.LENGTH0.2510.0040.255
droSim1.geneid.LENGTH0.0330.0010.034
droSim1.genscan.LENGTH0.0220.0000.024
droSim1.xenoRefGene.LENGTH0.3430.0120.355
droVir1.geneid.LENGTH0.0990.0020.101
droVir1.genscan.LENGTH0.0380.0000.040
droVir1.xenoRefGene.LENGTH0.2130.0020.214
droVir2.genscan.LENGTH0.0310.0020.034
droVir2.xenoRefGene.LENGTH0.2480.0010.249
droYak1.geneid.LENGTH0.0410.0010.042
droYak1.genscan.LENGTH0.0260.0010.028
droYak1.xenoRefGene.LENGTH0.2040.0030.207
droYak2.genscan.LENGTH0.0250.0010.026
droYak2.xenoRefGene.LENGTH0.2410.0010.243
equCab1.geneSymbol.LENGTH0.0040.0010.005
equCab1.geneid.LENGTH0.0830.0000.083
equCab1.nscanGene.LENGTH0.0380.0010.039
equCab1.refGene.LENGTH0.0040.0010.005
equCab1.sgpGene.LENGTH0.0650.0020.067
equCab2.ensGene.LENGTH0.0920.0030.095
equCab2.geneSymbol.LENGTH0.0070.0000.007
equCab2.nscanGene.LENGTH0.0480.0000.049
equCab2.refGene.LENGTH0.0060.0000.007
equCab2.xenoRefGene.LENGTH0.5440.0020.546
felCat3.ensGene.LENGTH0.1010.0080.109
felCat3.geneSymbol.LENGTH0.0020.0020.004
felCat3.geneid.LENGTH0.5010.0070.508
felCat3.genscan.LENGTH0.1160.0000.116
felCat3.nscanGene.LENGTH0.2660.0040.271
felCat3.refGene.LENGTH0.0030.0000.003
felCat3.sgpGene.LENGTH0.1410.0010.142
felCat3.xenoRefGene.LENGTH1.0530.0061.059
fr1.ensGene.LENGTH0.0770.0010.078
fr1.genscan.LENGTH0.0560.0020.058
fr2.ensGene.LENGTH0.6230.0080.631
galGal2.ensGene.LENGTH0.050.000.05
galGal2.geneSymbol.LENGTH0.0140.0010.015
galGal2.geneid.LENGTH0.0330.0010.034
galGal2.genscan.LENGTH0.0450.0010.046
galGal2.refGene.LENGTH0.0130.0010.014
galGal2.sgpGene.LENGTH0.0390.0020.041
galGal3.ensGene.LENGTH0.0640.0020.066
galGal3.geneSymbol.LENGTH0.0140.0010.015
galGal3.genscan.LENGTH0.0440.0010.045
galGal3.nscanGene.LENGTH0.0620.0010.063
galGal3.refGene.LENGTH0.0130.0010.014
galGal3.xenoRefGene.LENGTH0.4250.0000.425
gasAcu1.ensGene.LENGTH0.0770.0020.079
gasAcu1.nscanGene.LENGTH0.0770.0030.080
hg16.acembly.LENGTH0.3050.0010.306
hg16.ensGene.LENGTH0.0620.0020.064
hg16.exoniphy.LENGTH0.2120.0000.212
hg16.geneSymbol.LENGTH0.0940.0000.094
hg16.geneid.LENGTH0.0450.0000.045
hg16.genscan.LENGTH0.0560.0000.057
hg16.knownGene.LENGTH0.1080.0010.109
hg16.refGene.LENGTH0.0890.0000.090
hg16.sgpGene.LENGTH0.0530.0000.053
hg17.acembly.LENGTH0.3760.0020.378
hg17.acescan.LENGTH0.010.000.01
hg17.ccdsGene.LENGTH0.0210.0000.021
hg17.ensGene.LENGTH0.0960.0010.097
hg17.exoniphy.LENGTH0.3550.0020.357
hg17.geneSymbol.LENGTH0.0930.0000.093
hg17.geneid.LENGTH0.0690.0000.068
hg17.genscan.LENGTH0.0530.0010.054
hg17.knownGene.LENGTH0.0980.0000.098
hg17.refGene.LENGTH0.0870.0020.089
hg17.sgpGene.LENGTH0.0660.0000.066
hg17.vegaGene.LENGTH0.0410.0000.040
hg17.vegaPseudoGene.LENGTH0.0170.0010.018
hg17.xenoRefGene.LENGTH0.4170.0020.420
hg18.acembly.LENGTH0.4130.0020.415
hg18.acescan.LENGTH0.0090.0010.009
hg18.ccdsGene.LENGTH0.0290.0020.032
hg18.ensGene.LENGTH0.1810.0020.183
hg18.exoniphy.LENGTH0.4140.0010.414
hg18.geneSymbol.LENGTH0.0960.0010.097
hg18.geneid.LENGTH0.0680.0010.069
hg18.genscan.LENGTH0.0570.0010.058
hg18.knownGene.LENGTH0.1380.0040.143
hg18.knownGeneOld3.LENGTH0.0630.0010.065
hg18.refGene.LENGTH0.0900.0000.091
hg18.sgpGene.LENGTH0.0730.0000.072
hg18.sibGene.LENGTH0.6770.0090.686
hg18.xenoRefGene.LENGTH0.3050.0010.305
hg19.ccdsGene.LENGTH0.0360.0020.037
hg19.ensGene.LENGTH0.2670.0000.267
hg19.exoniphy.LENGTH0.4170.0050.423
hg19.geneSymbol.LENGTH0.0950.0040.099
hg19.knownGene.LENGTH0.1630.0020.165
hg19.nscanGene.LENGTH0.1450.0010.145
hg19.refGene.LENGTH0.0950.0010.095
hg19.xenoRefGene.LENGTH0.3480.0020.349
loxAfr3.xenoRefGene.LENGTH0.6820.0050.687
mm7.ensGene.LENGTH0.1040.0020.107
mm7.geneSymbol.LENGTH0.0840.0010.086
mm7.geneid.LENGTH0.0740.0010.077
mm7.genscan.LENGTH0.0600.0030.064
mm7.knownGene.LENGTH0.0910.0000.092
mm7.refGene.LENGTH0.0810.0000.081
mm7.sgpGene.LENGTH0.0740.0010.075
mm7.xenoRefGene.LENGTH0.2910.0030.294
mm8.ccdsGene.LENGTH0.0220.0000.022
mm8.ensGene.LENGTH0.0740.0010.074
mm8.geneSymbol.LENGTH0.0840.0020.085
mm8.geneid.LENGTH0.0720.0020.075
mm8.genscan.LENGTH0.060.000.06
mm8.knownGene.LENGTH0.0840.0050.089
mm8.nscanGene.LENGTH0.0600.0000.061
mm8.refGene.LENGTH0.3130.0010.315
mm8.sgpGene.LENGTH0.0720.0010.073
mm8.sibGene.LENGTH0.2490.0000.249
mm8.xenoRefGene.LENGTH0.3490.0040.355
mm9.acembly.LENGTH0.2930.0010.295
mm9.ccdsGene.LENGTH0.0280.0020.030
mm9.ensGene.LENGTH0.1420.0000.141
mm9.exoniphy.LENGTH0.3990.0020.401
mm9.geneSymbol.LENGTH0.0840.0020.085
mm9.geneid.LENGTH0.0830.0010.084
mm9.genscan.LENGTH0.0630.0020.065
mm9.knownGene.LENGTH0.1040.0020.105
mm9.nscanGene.LENGTH0.0610.0010.063
mm9.refGene.LENGTH0.0830.0010.084
mm9.sgpGene.LENGTH0.0810.0000.083
mm9.xenoRefGene.LENGTH0.7090.0020.711
monDom1.genscan.LENGTH0.0600.0010.061
monDom4.ensGene.LENGTH0.0660.0000.067
monDom4.geneSymbol.LENGTH0.0020.0010.003
monDom4.genscan.LENGTH0.0510.0000.051
monDom4.nscanGene.LENGTH0.0510.0010.052
monDom4.refGene.LENGTH0.0040.0000.004
monDom4.xenoRefGene.LENGTH0.3130.0010.314
monDom5.ensGene.LENGTH0.1070.0000.107
monDom5.geneSymbol.LENGTH0.0040.0000.004
monDom5.genscan.LENGTH0.0530.0000.054
monDom5.nscanGene.LENGTH0.1060.0000.106
monDom5.refGene.LENGTH0.0020.0010.003
monDom5.xenoRefGene.LENGTH0.5240.0030.527
ornAna1.ensGene.LENGTH0.0860.0020.088
ornAna1.geneSymbol.LENGTH0.0030.0000.003
ornAna1.refGene.LENGTH0.0020.0010.003
ornAna1.xenoRefGene.LENGTH0.5190.0040.523
oryLat2.ensGene.LENGTH1.1700.1091.279
oryLat2.geneSymbol.LENGTH0.0030.0010.004
oryLat2.refGene.LENGTH0.0030.0010.004
oryLat2.xenoRefGene.LENGTH0.4320.0010.434
panTro1.ensGene.LENGTH0.0890.0000.089
panTro1.geneid.LENGTH0.0410.0020.043
panTro1.genscan.LENGTH0.0530.0010.054
panTro1.xenoRefGene.LENGTH0.1020.0010.103
panTro2.ensGene.LENGTH0.0960.0010.097
panTro2.geneSymbol.LENGTH0.0880.0020.091
panTro2.genscan.LENGTH0.0520.0010.053
panTro2.nscanGene.LENGTH0.0530.0010.054
panTro2.refGene.LENGTH0.0910.0010.092
panTro2.xenoRefGene.LENGTH0.4390.0000.440
petMar1.xenoRefGene.LENGTH0.2420.0020.244
ponAbe2.ensGene.LENGTH0.0730.0020.075
ponAbe2.geneSymbol.LENGTH0.0110.0010.012
ponAbe2.genscan.LENGTH0.0550.0010.056
ponAbe2.nscanGene.LENGTH0.0520.0010.054
ponAbe2.refGene.LENGTH0.0090.0020.011
ponAbe2.xenoRefGene.LENGTH0.5440.0060.550
priPac1.xenoRefGene.LENGTH0.3270.0030.330
rheMac2.ensGene.LENGTH0.1150.0020.118
rheMac2.geneSymbol.LENGTH0.0040.0010.005
rheMac2.geneid.LENGTH0.0610.0040.065
rheMac2.nscanGene.LENGTH0.0550.0000.055
rheMac2.refGene.LENGTH0.0040.0000.005
rheMac2.sgpGene.LENGTH0.0670.0010.068
rheMac2.xenoRefGene.LENGTH0.4270.0050.444
rn3.ensGene.LENGTH0.0870.0010.088
rn3.geneSymbol.LENGTH0.0480.0010.049
rn3.geneid.LENGTH0.0450.0020.047
rn3.genscan.LENGTH0.0580.0010.059
rn3.knownGene.LENGTH0.0220.0000.022
rn3.nscanGene.LENGTH0.0540.0010.055
rn3.refGene.LENGTH0.0460.0000.046
rn3.sgpGene.LENGTH0.0520.0010.053
rn3.xenoRefGene.LENGTH0.4650.0010.467
rn4.ensGene.LENGTH0.1110.0010.113
rn4.geneSymbol.LENGTH0.0480.0000.048
rn4.geneid.LENGTH0.0750.0000.075
rn4.genscan.LENGTH0.0560.0000.056
rn4.knownGene.LENGTH0.0220.0010.023
rn4.nscanGene.LENGTH0.0460.0000.047
rn4.refGene.LENGTH0.0430.0030.046
rn4.sgpGene.LENGTH0.0730.0010.074
rn4.xenoRefGene.LENGTH0.2820.0020.284
sacCer1.ensGene.LENGTH0.0180.0000.018
sacCer2.ensGene.LENGTH0.0160.0000.016
strPur1.geneSymbol.LENGTH0.0040.0000.004
strPur1.genscan.LENGTH0.0590.0030.062
strPur1.refGene.LENGTH0.0020.0020.004
strPur1.xenoRefGene.LENGTH0.4070.0050.412
strPur2.geneSymbol.LENGTH0.0040.0000.004
strPur2.genscan.LENGTH0.0980.0000.098
strPur2.refGene.LENGTH0.0040.0000.004
strPur2.xenoRefGene.LENGTH0.5880.0110.598
supportedGeneIDs3.1270.1075.361
supportedGenomes0.2090.0121.092
taeGut1.ensGene.LENGTH0.0560.0010.057
taeGut1.geneSymbol.LENGTH0.0010.0020.002
taeGut1.genscan.LENGTH0.0280.0010.029
taeGut1.nscanGene.LENGTH0.0220.0010.023
taeGut1.refGene.LENGTH0.0010.0010.003
taeGut1.xenoRefGene.LENGTH0.3770.0130.390
tetNig1.ensGene.LENGTH0.0750.0030.078
tetNig1.geneid.LENGTH0.0580.0000.058
tetNig1.genscan.LENGTH0.0460.0000.045
tetNig1.nscanGene.LENGTH0.0600.0010.061
tetNig2.ensGene.LENGTH0.0600.0020.062
unfactor0.0010.0050.006
xenTro1.genscan.LENGTH0.0700.0020.072
xenTro2.ensGene.LENGTH0.0750.0070.083
xenTro2.geneSymbol.LENGTH0.0280.0010.028
xenTro2.genscan.LENGTH0.0640.0000.064
xenTro2.refGene.LENGTH0.0250.0020.027