| Back to Build/check report for BioC 3.22 experimental data | 
 | 
This page was generated on 2025-10-28 15:41 -0400 (Tue, 28 Oct 2025).
| Hostname | OS | Arch (*) | R version | Installed pkgs | 
|---|---|---|---|---|
| nebbiolo2 | Linux (Ubuntu 24.04.3 LTS) | x86_64 | 4.5.1 Patched (2025-08-23 r88802) -- "Great Square Root" | 4901 | 
| Click on any hostname to see more info about the system (e.g. compilers) (*) as reported by 'uname -p', except on Windows and Mac OS X | ||||
| Package 123/435 | Hostname | OS / Arch | INSTALL | BUILD | CHECK | ||||||||
| ewceData 1.17.0  (landing page) Alan Murphy 
 | nebbiolo2 | Linux (Ubuntu 24.04.3 LTS) / x86_64 | OK | OK | OK |  | |||||||
| To the developers/maintainers of the ewceData package: - Use the following Renviron settings to reproduce errors and warnings. - If 'R CMD check' started to fail recently on the Linux builder(s) over a missing dependency, add the missing dependency to 'Suggests:' in your DESCRIPTION file. See Renviron.bioc for more information. | 
| Package: ewceData | 
| Version: 1.17.0 | 
| Command: /home/biocbuild/bbs-3.22-bioc/R/bin/R CMD check --install=check:ewceData.install-out.txt --library=/home/biocbuild/bbs-3.22-bioc/R/site-library --timings ewceData_1.17.0.tar.gz | 
| StartedAt: 2025-10-28 12:19:27 -0400 (Tue, 28 Oct 2025) | 
| EndedAt: 2025-10-28 12:21:58 -0400 (Tue, 28 Oct 2025) | 
| EllapsedTime: 151.1 seconds | 
| RetCode: 0 | 
| Status: OK | 
| CheckDir: ewceData.Rcheck | 
| Warnings: 0 | 
##############################################################################
##############################################################################
###
### Running command:
###
###   /home/biocbuild/bbs-3.22-bioc/R/bin/R CMD check --install=check:ewceData.install-out.txt --library=/home/biocbuild/bbs-3.22-bioc/R/site-library --timings ewceData_1.17.0.tar.gz
###
##############################################################################
##############################################################################
* using log directory ‘/home/biocbuild/bbs-3.22-data-experiment/meat/ewceData.Rcheck’
* using R version 4.5.1 Patched (2025-08-23 r88802)
* using platform: x86_64-pc-linux-gnu
* R was compiled by
    gcc (Ubuntu 13.3.0-6ubuntu2~24.04) 13.3.0
    GNU Fortran (Ubuntu 13.3.0-6ubuntu2~24.04) 13.3.0
* running under: Ubuntu 24.04.3 LTS
* using session charset: UTF-8
* checking for file ‘ewceData/DESCRIPTION’ ... OK
* this is package ‘ewceData’ version ‘1.17.0’
* package encoding: UTF-8
* checking package namespace information ... OK
* checking package dependencies ... OK
* checking if this is a source package ... OK
* checking if there is a namespace ... OK
* checking for hidden files and directories ... OK
* checking for portable file names ... OK
* checking for sufficient/correct file permissions ... OK
* checking whether package ‘ewceData’ can be installed ... OK
* checking installed package size ... OK
* checking package directory ... OK
* checking ‘build’ directory ... OK
* checking DESCRIPTION meta-information ... OK
* checking top-level files ... OK
* checking for left-over files ... OK
* checking index information ... OK
* checking package subdirectories ... OK
* checking code files for non-ASCII characters ... OK
* checking R files for syntax errors ... OK
* checking whether the package can be loaded ... OK
* checking whether the package can be loaded with stated dependencies ... OK
* checking whether the package can be unloaded cleanly ... OK
* checking whether the namespace can be loaded with stated dependencies ... OK
* checking whether the namespace can be unloaded cleanly ... OK
* checking loading without being on the library search path ... OK
* checking dependencies in R code ... OK
* checking S3 generic/method consistency ... OK
* checking replacement functions ... OK
* checking foreign function calls ... OK
* checking R code for possible problems ... OK
* checking Rd files ... OK
* checking Rd metadata ... OK
* checking Rd cross-references ... OK
* checking for missing documentation entries ... OK
* checking for code/documentation mismatches ... OK
* checking Rd \usage sections ... OK
* checking Rd contents ... OK
* checking for unstated dependencies in examples ... OK
* checking files in ‘vignettes’ ... OK
* checking examples ... OK
* checking for unstated dependencies in vignettes ... OK
* checking package vignettes ... OK
* checking re-building of vignette outputs ... OK
* checking PDF version of manual ... OK
* DONE
Status: OK
ewceData.Rcheck/00install.out
############################################################################## ############################################################################## ### ### Running command: ### ### /home/biocbuild/bbs-3.22-bioc/R/bin/R CMD INSTALL ewceData ### ############################################################################## ############################################################################## * installing to library ‘/home/biocbuild/bbs-3.22-bioc/R/site-library’ * installing *source* package ‘ewceData’ ... ** this is package ‘ewceData’ version ‘1.17.0’ ** using staged installation ** R ** inst ** byte-compile and prepare package for lazy loading ** help *** installing help indices ** building package indices ** installing vignettes ** testing if installed package can be loaded from temporary location ** testing if installed package can be loaded from final location ** testing if installed package keeps a record of temporary installation path * DONE (ewceData)
ewceData.Rcheck/ewceData-Ex.timings
| name | user | system | elapsed | |
| all_hgnc | 1.946 | 0.219 | 2.830 | |
| all_hgnc_wtEnsembl | 0.917 | 0.159 | 1.130 | |
| all_mgi | 0.770 | 0.056 | 0.880 | |
| all_mgi_wtEnsembl | 0.826 | 0.049 | 0.961 | |
| alzh_gwas_top100 | 0.001 | 0.000 | 0.001 | |
| cortex_mrna | 2.699 | 0.447 | 3.227 | |
| ctd | 3.518 | 0.168 | 3.746 | |
| ensembl_transcript_lengths_GCcontent | 1.087 | 0.109 | 1.250 | |
| ewceData-Package | 0.712 | 0.027 | 0.794 | |
| example_genelist | 1.168 | 0.083 | 1.306 | |
| hpsd_genes | 0.719 | 0.028 | 0.811 | |
| hypothalamus_mrna | 0.965 | 0.071 | 1.092 | |
| id_genes | 0.736 | 0.019 | 0.852 | |
| mgi_synonym_data | 1.189 | 0.050 | 1.293 | |
| mouse_to_human_homologs | 0.797 | 0.025 | 0.878 | |
| rbfox_genes | 0.770 | 0.019 | 0.880 | |
| schiz_genes | 0.756 | 0.029 | 0.846 | |
| tt_alzh | 1.066 | 0.102 | 1.229 | |
| tt_alzh_BA36 | 0.830 | 0.084 | 0.971 | |
| tt_alzh_BA44 | 0.827 | 0.030 | 0.959 | |