| Back to Build/check report for BioC 3.22 experimental data | 
 | 
This page was generated on 2025-10-28 15:41 -0400 (Tue, 28 Oct 2025).
| Hostname | OS | Arch (*) | R version | Installed pkgs | 
|---|---|---|---|---|
| nebbiolo2 | Linux (Ubuntu 24.04.3 LTS) | x86_64 | 4.5.1 Patched (2025-08-23 r88802) -- "Great Square Root" | 4901 | 
| Click on any hostname to see more info about the system (e.g. compilers) (*) as reported by 'uname -p', except on Windows and Mac OS X | ||||
| Package 403/435 | Hostname | OS / Arch | INSTALL | BUILD | CHECK | ||||||||
| TENET.ExperimentHub 1.1.2  (landing page) Rhie Lab at the University of Southern California 
 | nebbiolo2 | Linux (Ubuntu 24.04.3 LTS) / x86_64 | OK | OK | OK |  | |||||||
| To the developers/maintainers of the TENET.ExperimentHub package: - Use the following Renviron settings to reproduce errors and warnings. - If 'R CMD check' started to fail recently on the Linux builder(s) over a missing dependency, add the missing dependency to 'Suggests:' in your DESCRIPTION file. See Renviron.bioc for more information. | 
| Package: TENET.ExperimentHub | 
| Version: 1.1.2 | 
| Command: /home/biocbuild/bbs-3.22-bioc/R/bin/R CMD build --keep-empty-dirs --no-resave-data TENET.ExperimentHub | 
| StartedAt: 2025-10-28 11:44:26 -0400 (Tue, 28 Oct 2025) | 
| EndedAt: 2025-10-28 11:45:22 -0400 (Tue, 28 Oct 2025) | 
| EllapsedTime: 55.6 seconds | 
| RetCode: 0 | 
| Status: OK | 
| PackageFile: TENET.ExperimentHub_1.1.2.tar.gz | 
| PackageFileSize: 245.8 KiB | 
############################################################################## ############################################################################## ### ### Running command: ### ### /home/biocbuild/bbs-3.22-bioc/R/bin/R CMD build --keep-empty-dirs --no-resave-data TENET.ExperimentHub ### ############################################################################## ############################################################################## * checking for file ‘TENET.ExperimentHub/DESCRIPTION’ ... OK * preparing ‘TENET.ExperimentHub’: * checking DESCRIPTION meta-information ... OK * installing the package to build vignettes * creating vignettes ... OK * checking for LF line-endings in source and make files and shell scripts * checking for empty or unneeded directories * building ‘TENET.ExperimentHub_1.1.2.tar.gz’ Warning in utils::tar(filepath, pkgname, compression = compression, compression_level = 9L, : storing paths of more than 100 bytes is not portable: ‘TENET.ExperimentHub/man/exampleTENETStep2GetDifferentiallyMethylatedSitesPuritySummarizedExperiment.Rd’