Back to Build/check report for BioC 3.23 experimental data
ABCDEFGHIJKLMNOPQR[S]TUVWXYZ

This page was generated on 2025-10-30 15:01 -0400 (Thu, 30 Oct 2025).

HostnameOSArch (*)R versionInstalled pkgs
nebbiolo1Linux (Ubuntu 24.04.3 LTS)x86_64R Under development (unstable) (2025-10-20 r88955) -- "Unsuffered Consequences" 4428
Click on any hostname to see more info about the system (e.g. compilers)      (*) as reported by 'uname -p', except on Windows and Mac OS X

Package 362/430HostnameOS / ArchINSTALLBUILDCHECK
SFEData 1.13.0  (landing page)
Lambda Moses
Snapshot Date: 2025-10-30 07:00 -0400 (Thu, 30 Oct 2025)
git_url: https://git.bioconductor.org/packages/SFEData
git_branch: devel
git_last_commit: 46b7ae7
git_last_commit_date: 2025-10-29 10:05:08 -0400 (Wed, 29 Oct 2025)
nebbiolo1Linux (Ubuntu 24.04.3 LTS) / x86_64  OK    OK    OK  NO, package depends on 'BiocFileCache' which is not available


BUILD results for SFEData on nebbiolo1

To the developers/maintainers of the SFEData package:
- Use the following Renviron settings to reproduce errors and warnings.
- If 'R CMD check' started to fail recently on the Linux builder(s) over a missing dependency, add the missing dependency to 'Suggests:' in your DESCRIPTION file. See Renviron.bioc for more information.

raw results


Summary

Package: SFEData
Version: 1.13.0
Command: /home/biocbuild/bbs-3.23-bioc/R/bin/R CMD build --keep-empty-dirs --no-resave-data SFEData
StartedAt: 2025-10-30 11:38:21 -0400 (Thu, 30 Oct 2025)
EndedAt: 2025-10-30 11:39:00 -0400 (Thu, 30 Oct 2025)
EllapsedTime: 38.9 seconds
RetCode: 0
Status:   OK  
PackageFile: SFEData_1.13.0.tar.gz
PackageFileSize: 256.9 KiB

Command output

##############################################################################
##############################################################################
###
### Running command:
###
###   /home/biocbuild/bbs-3.23-bioc/R/bin/R CMD build --keep-empty-dirs --no-resave-data SFEData
###
##############################################################################
##############################################################################


* checking for file ‘SFEData/DESCRIPTION’ ... OK
* preparing ‘SFEData’:
* checking DESCRIPTION meta-information ... OK
* installing the package (it is needed to build vignettes)
* creating vignettes ... OK
* checking for LF line-endings in source and make files and shell scripts
* checking for empty or unneeded directories
  NB: this package now depends on R (>= 4.1.0)
  WARNING: Added dependency on R >= 4.1.0 because package code uses the
  pipe |> or function shorthand \(...) syntax added in R 4.1.0.
  File(s) using such syntax:
    ‘BiermannMelaMetasData.R’
* building ‘SFEData_1.13.0.tar.gz’