| Back to Build/check report for BioC 3.22 experimental data | 
 | 
This page was generated on 2025-10-28 15:41 -0400 (Tue, 28 Oct 2025).
| Hostname | OS | Arch (*) | R version | Installed pkgs | 
|---|---|---|---|---|
| nebbiolo2 | Linux (Ubuntu 24.04.3 LTS) | x86_64 | 4.5.1 Patched (2025-08-23 r88802) -- "Great Square Root" | 4901 | 
| Click on any hostname to see more info about the system (e.g. compilers) (*) as reported by 'uname -p', except on Windows and Mac OS X | ||||
| Package 277/435 | Hostname | OS / Arch | INSTALL | BUILD | CHECK | ||||||||
| NestLink 1.25.0  (landing page) Lennart Opitz 
 | nebbiolo2 | Linux (Ubuntu 24.04.3 LTS) / x86_64 | OK | OK | OK |  | |||||||
| To the developers/maintainers of the NestLink package: - Use the following Renviron settings to reproduce errors and warnings. - If 'R CMD check' started to fail recently on the Linux builder(s) over a missing dependency, add the missing dependency to 'Suggests:' in your DESCRIPTION file. See Renviron.bioc for more information. | 
| Package: NestLink | 
| Version: 1.25.0 | 
| Command: /home/biocbuild/bbs-3.22-bioc/R/bin/R CMD check --install=check:NestLink.install-out.txt --library=/home/biocbuild/bbs-3.22-bioc/R/site-library --timings NestLink_1.25.0.tar.gz | 
| StartedAt: 2025-10-28 12:47:33 -0400 (Tue, 28 Oct 2025) | 
| EndedAt: 2025-10-28 12:59:25 -0400 (Tue, 28 Oct 2025) | 
| EllapsedTime: 711.4 seconds | 
| RetCode: 0 | 
| Status: OK | 
| CheckDir: NestLink.Rcheck | 
| Warnings: 0 | 
##############################################################################
##############################################################################
###
### Running command:
###
###   /home/biocbuild/bbs-3.22-bioc/R/bin/R CMD check --install=check:NestLink.install-out.txt --library=/home/biocbuild/bbs-3.22-bioc/R/site-library --timings NestLink_1.25.0.tar.gz
###
##############################################################################
##############################################################################
* using log directory ‘/home/biocbuild/bbs-3.22-data-experiment/meat/NestLink.Rcheck’
* using R version 4.5.1 Patched (2025-08-23 r88802)
* using platform: x86_64-pc-linux-gnu
* R was compiled by
    gcc (Ubuntu 13.3.0-6ubuntu2~24.04) 13.3.0
    GNU Fortran (Ubuntu 13.3.0-6ubuntu2~24.04) 13.3.0
* running under: Ubuntu 24.04.3 LTS
* using session charset: UTF-8
* checking for file ‘NestLink/DESCRIPTION’ ... OK
* checking extension type ... Package
* this is package ‘NestLink’ version ‘1.25.0’
* checking package namespace information ... OK
* checking package dependencies ... INFO
Depends: includes the non-default packages:
  'AnnotationHub', 'ExperimentHub', 'Biostrings', 'gplots', 'protViz',
  'ShortRead'
Adding so many packages to the search path is excessive and importing
selectively is preferable.
* checking if this is a source package ... OK
* checking if there is a namespace ... OK
* checking for hidden files and directories ... OK
* checking for portable file names ... OK
* checking for sufficient/correct file permissions ... OK
* checking whether package ‘NestLink’ can be installed ... OK
* checking installed package size ... OK
* checking package directory ... OK
* checking ‘build’ directory ... OK
* checking DESCRIPTION meta-information ... NOTE
Authors@R field gives persons with no role:
  Damien Morger <damien.morger@rqmicro.com>
* checking top-level files ... OK
* checking for left-over files ... OK
* checking index information ... OK
* checking package subdirectories ... OK
* checking code files for non-ASCII characters ... OK
* checking R files for syntax errors ... OK
* checking whether the package can be loaded ... OK
* checking whether the package can be loaded with stated dependencies ... OK
* checking whether the package can be unloaded cleanly ... OK
* checking whether the namespace can be loaded with stated dependencies ... OK
* checking whether the namespace can be unloaded cleanly ... OK
* checking loading without being on the library search path ... OK
* checking whether startup messages can be suppressed ... OK
* checking dependencies in R code ... OK
* checking S3 generic/method consistency ... OK
* checking replacement functions ... OK
* checking foreign function calls ... OK
* checking R code for possible problems ... OK
* checking Rd files ... NOTE
checkRd: (-1) runNGSAnalysis.Rd:24: Lost braces in \itemize; meant \describe ?
checkRd: (-1) runNGSAnalysis.Rd:25: Lost braces in \itemize; meant \describe ?
checkRd: (-1) runNGSAnalysis.Rd:26: Lost braces in \itemize; meant \describe ?
checkRd: (-1) runNGSAnalysis.Rd:27: Lost braces in \itemize; meant \describe ?
checkRd: (-1) runNGSAnalysis.Rd:28: Lost braces in \itemize; meant \describe ?
checkRd: (-1) runNGSAnalysis.Rd:29: Lost braces in \itemize; meant \describe ?
checkRd: (-1) runNGSAnalysis.Rd:30: Lost braces in \itemize; meant \describe ?
checkRd: (-1) runNGSAnalysis.Rd:31: Lost braces in \itemize; meant \describe ?
checkRd: (-1) runNGSAnalysis.Rd:32: Lost braces in \itemize; meant \describe ?
checkRd: (-1) runNGSAnalysis.Rd:33: Lost braces in \itemize; meant \describe ?
checkRd: (-1) runNGSAnalysis.Rd:34: Lost braces in \itemize; meant \describe ?
checkRd: (-1) runNGSAnalysis.Rd:35: Lost braces in \itemize; meant \describe ?
* checking Rd metadata ... OK
* checking Rd cross-references ... OK
* checking for missing documentation entries ... OK
* checking for code/documentation mismatches ... OK
* checking Rd \usage sections ... OK
* checking Rd contents ... OK
* checking for unstated dependencies in examples ... OK
* checking files in ‘vignettes’ ... OK
* checking examples ... OK
Examples with CPU (user + system) or elapsed time > 5s
                            user system elapsed
runNGSAnalysis           140.166  2.654 143.204
getExperimentHubFilename  13.063  2.315  17.808
getFC                      6.053  0.877   7.394
* checking for unstated dependencies in ‘tests’ ... OK
* checking tests ...
  Running ‘testthat.R’
 OK
* checking for unstated dependencies in vignettes ... OK
* checking package vignettes ... OK
* checking re-building of vignette outputs ... OK
* checking PDF version of manual ... OK
* DONE
Status: 2 NOTEs
See
  ‘/home/biocbuild/bbs-3.22-data-experiment/meat/NestLink.Rcheck/00check.log’
for details.
NestLink.Rcheck/00install.out
############################################################################## ############################################################################## ### ### Running command: ### ### /home/biocbuild/bbs-3.22-bioc/R/bin/R CMD INSTALL NestLink ### ############################################################################## ############################################################################## * installing to library ‘/home/biocbuild/bbs-3.22-bioc/R/site-library’ * installing *source* package ‘NestLink’ ... ** this is package ‘NestLink’ version ‘1.25.0’ ** using staged installation ** R ** exec ** inst ** byte-compile and prepare package for lazy loading ** help *** installing help indices ** building package indices ** installing vignettes ** testing if installed package can be loaded from temporary location ** testing if installed package can be loaded from final location ** testing if installed package keeps a record of temporary installation path * DONE (NestLink)
NestLink.Rcheck/tests/testthat.Rout
R version 4.5.1 Patched (2025-08-23 r88802) -- "Great Square Root"
Copyright (C) 2025 The R Foundation for Statistical Computing
Platform: x86_64-pc-linux-gnu
R is free software and comes with ABSOLUTELY NO WARRANTY.
You are welcome to redistribute it under certain conditions.
Type 'license()' or 'licence()' for distribution details.
R is a collaborative project with many contributors.
Type 'contributors()' for more information and
'citation()' on how to cite R or R packages in publications.
Type 'demo()' for some demos, 'help()' for on-line help, or
'help.start()' for an HTML browser interface to help.
Type 'q()' to quit R.
> #R
> 
> library(testthat)
> 
> suppressPackageStartupMessages(library(NestLink))
> 
> test_check("NestLink")
[ FAIL 0 | WARN 0 | SKIP 0 | PASS 10 ]
> 
> proc.time()
   user  system elapsed 
 20.874   1.957  23.571 
NestLink.Rcheck/NestLink-Ex.timings
| name | user | system | elapsed | |
| F255744 | 2.648 | 0.105 | 3.115 | |
| NB.unambiguous | 3.002 | 0.205 | 3.610 | |
| NB.unique | 2.983 | 0.262 | 3.780 | |
| PGexport | 1.565 | 0.174 | 2.072 | |
| WU160118 | 3.638 | 0.317 | 4.497 | |
| compose_GPGx8cTerm | 0.007 | 0.000 | 0.007 | |
| compose_GPx10R | 0.004 | 0.001 | 0.005 | |
| compose_GSx7cTerm | 0.007 | 0.000 | 0.007 | |
| dot-ssrc.mascot | 2.319 | 0.144 | 2.732 | |
| getExperimentHubFilename | 13.063 | 2.315 | 17.808 | |
| getFC | 6.053 | 0.877 | 7.394 | |
| getNB | 2.941 | 0.083 | 3.564 | |
| nanobodyFlycodeLinking.as.fasta | 1.547 | 0.031 | 1.833 | |
| nanobodyFlycodeLinking.summary | 1.569 | 0.061 | 1.962 | |
| plot_in_silico_LCMS_map | 1.697 | 0.027 | 1.724 | |
| runNGSAnalysis | 140.166 | 2.654 | 143.204 | |
| twoPatternReadFilter | 0.016 | 0.000 | 0.017 | |