Back to Build/check report for BioC 3.23 experimental data
ABCDEFGHIJKL[M]NOPQRSTUVWXYZ

This page was generated on 2025-10-30 15:01 -0400 (Thu, 30 Oct 2025).

HostnameOSArch (*)R versionInstalled pkgs
nebbiolo1Linux (Ubuntu 24.04.3 LTS)x86_64R Under development (unstable) (2025-10-20 r88955) -- "Unsuffered Consequences" 4428
Click on any hostname to see more info about the system (e.g. compilers)      (*) as reported by 'uname -p', except on Windows and Mac OS X

Package 228/430HostnameOS / ArchINSTALLBUILDCHECK
MAQCsubset 1.49.0  (landing page)
VJ Carey
Snapshot Date: 2025-10-30 07:00 -0400 (Thu, 30 Oct 2025)
git_url: https://git.bioconductor.org/packages/MAQCsubset
git_branch: devel
git_last_commit: e617b52
git_last_commit_date: 2025-10-29 09:30:27 -0400 (Wed, 29 Oct 2025)
nebbiolo1Linux (Ubuntu 24.04.3 LTS) / x86_64  ERROR    ERROR  skipped


BUILD results for MAQCsubset on nebbiolo1

To the developers/maintainers of the MAQCsubset package:
- Use the following Renviron settings to reproduce errors and warnings.
- If 'R CMD check' started to fail recently on the Linux builder(s) over a missing dependency, add the missing dependency to 'Suggests:' in your DESCRIPTION file. See Renviron.bioc for more information.

raw results


Summary

Package: MAQCsubset
Version: 1.49.0
Command: /home/biocbuild/bbs-3.23-bioc/R/bin/R CMD build --keep-empty-dirs --no-resave-data MAQCsubset
StartedAt: 2025-10-30 11:25:02 -0400 (Thu, 30 Oct 2025)
EndedAt: 2025-10-30 11:25:03 -0400 (Thu, 30 Oct 2025)
EllapsedTime: 1.0 seconds
RetCode: 1
Status:   ERROR  
PackageFile: None
PackageFileSize: NA

Command output

##############################################################################
##############################################################################
###
### Running command:
###
###   /home/biocbuild/bbs-3.23-bioc/R/bin/R CMD build --keep-empty-dirs --no-resave-data MAQCsubset
###
##############################################################################
##############################################################################


* checking for file ‘MAQCsubset/DESCRIPTION’ ... OK
* preparing ‘MAQCsubset’:
* checking DESCRIPTION meta-information ... OK
* installing the package (it is needed to build vignettes)
      -----------------------------------
ERROR: dependency ‘lumi’ is not available for package ‘MAQCsubset’
Perhaps try a variation of:
install.packages('lumi')
* removing ‘/tmp/RtmpIED0ey/Rinst3164f3b44c4c/MAQCsubset’
      -----------------------------------
ERROR: package installation failed