| Back to Build/check report for BioC 3.22 experimental data | 
 | 
This page was generated on 2025-10-28 15:41 -0400 (Tue, 28 Oct 2025).
| Hostname | OS | Arch (*) | R version | Installed pkgs | 
|---|---|---|---|---|
| nebbiolo2 | Linux (Ubuntu 24.04.3 LTS) | x86_64 | 4.5.1 Patched (2025-08-23 r88802) -- "Great Square Root" | 4901 | 
| Click on any hostname to see more info about the system (e.g. compilers) (*) as reported by 'uname -p', except on Windows and Mac OS X | ||||
| Package 207/435 | Hostname | OS / Arch | INSTALL | BUILD | CHECK | ||||||||
| Iyer517 1.51.0  (landing page) Vince Carey 
 | nebbiolo2 | Linux (Ubuntu 24.04.3 LTS) / x86_64 | OK | OK | OK |  | |||||||
| To the developers/maintainers of the Iyer517 package: - Use the following Renviron settings to reproduce errors and warnings. - If 'R CMD check' started to fail recently on the Linux builder(s) over a missing dependency, add the missing dependency to 'Suggests:' in your DESCRIPTION file. See Renviron.bioc for more information. | 
| Package: Iyer517 | 
| Version: 1.51.0 | 
| Command: /home/biocbuild/bbs-3.22-bioc/R/bin/R CMD build --keep-empty-dirs --no-resave-data Iyer517 | 
| StartedAt: 2025-10-28 11:24:42 -0400 (Tue, 28 Oct 2025) | 
| EndedAt: 2025-10-28 11:24:49 -0400 (Tue, 28 Oct 2025) | 
| EllapsedTime: 7.0 seconds | 
| RetCode: 0 | 
| Status: OK | 
| PackageFile: Iyer517_1.51.0.tar.gz | 
| PackageFileSize: 408.1 KiB | 
############################################################################## ############################################################################## ### ### Running command: ### ### /home/biocbuild/bbs-3.22-bioc/R/bin/R CMD build --keep-empty-dirs --no-resave-data Iyer517 ### ############################################################################## ############################################################################## * checking for file ‘Iyer517/DESCRIPTION’ ... OK * preparing ‘Iyer517’: * checking DESCRIPTION meta-information ... OK * installing the package to build vignettes * creating vignettes ... OK * checking for LF line-endings in source and make files and shell scripts * checking for empty or unneeded directories * looking to see if a ‘data/datalist’ file should be added * building ‘Iyer517_1.51.0.tar.gz’