Back to Build/check report for BioC 3.23 experimental data
ABC[D]EFGHIJKLMNOPQRSTUVWXYZ

This page was generated on 2025-10-30 15:01 -0400 (Thu, 30 Oct 2025).

HostnameOSArch (*)R versionInstalled pkgs
nebbiolo1Linux (Ubuntu 24.04.3 LTS)x86_64R Under development (unstable) (2025-10-20 r88955) -- "Unsuffered Consequences" 4428
Click on any hostname to see more info about the system (e.g. compilers)      (*) as reported by 'uname -p', except on Windows and Mac OS X

Package 97/430HostnameOS / ArchINSTALLBUILDCHECK
DMRcatedata 2.29.0  (landing page)
Tim Peters
Snapshot Date: 2025-10-30 07:00 -0400 (Thu, 30 Oct 2025)
git_url: https://git.bioconductor.org/packages/DMRcatedata
git_branch: devel
git_last_commit: 35e67c4
git_last_commit_date: 2025-10-29 09:54:45 -0400 (Wed, 29 Oct 2025)
nebbiolo1Linux (Ubuntu 24.04.3 LTS) / x86_64  ERROR    ERROR  skipped


INSTALL results for DMRcatedata on nebbiolo1

To the developers/maintainers of the DMRcatedata package:
- Use the following Renviron settings to reproduce errors and warnings.
- If 'R CMD check' started to fail recently on the Linux builder(s) over a missing dependency, add the missing dependency to 'Suggests:' in your DESCRIPTION file. See Renviron.bioc for more information.

raw results


Summary

Package: DMRcatedata
Version: 2.29.0
Command: /home/biocbuild/bbs-3.23-bioc/R/bin/R CMD INSTALL DMRcatedata
StartedAt: 2025-10-30 11:07:03 -0400 (Thu, 30 Oct 2025)
EndedAt: 2025-10-30 11:07:03 -0400 (Thu, 30 Oct 2025)
EllapsedTime: 0.2 seconds
RetCode: 1
Status:   ERROR  

Command output

##############################################################################
##############################################################################
###
### Running command:
###
###   /home/biocbuild/bbs-3.23-bioc/R/bin/R CMD INSTALL DMRcatedata
###
##############################################################################
##############################################################################


* installing to library ‘/home/biocbuild/bbs-3.23-bioc/R/site-library’
ERROR: dependencies ‘IlluminaHumanMethylation450kanno.ilmn12.hg19’, ‘IlluminaHumanMethylationEPICanno.ilm10b4.hg19’ are not available for package ‘DMRcatedata’
Perhaps try a variation of:
install.packages(c('IlluminaHumanMethylation450kanno.ilmn12.hg19', 'IlluminaHumanMethylationEPICanno.ilm10b4.hg19'))
* removing ‘/home/biocbuild/bbs-3.23-bioc/R/site-library/DMRcatedata’