| Back to Build/check report for BioC 3.22 annotations |
|
This page was generated on 2025-10-22 06:45 -0400 (Wed, 22 Oct 2025).
| Hostname | OS | Arch (*) | R version | Installed pkgs |
|---|---|---|---|---|
| nebbiolo2 | Linux (Ubuntu 24.04.3 LTS) | x86_64 | 4.5.1 Patched (2025-08-23 r88802) -- "Great Square Root" | 4891 |
| Click on any hostname to see more info about the system (e.g. compilers) (*) as reported by 'uname -p', except on Windows and Mac OS X | ||||
| Package 30/49 | Hostname | OS / Arch | INSTALL | BUILD | CHECK | ||||||||
| HPO.db 0.99.2 (landing page) Erqiang Hu
| nebbiolo2 | Linux (Ubuntu 24.04.3 LTS) / x86_64 | ERROR | ERROR | skipped | ||||||||
|
To the developers/maintainers of the HPO.db package: - Use the following Renviron settings to reproduce errors and warnings. - If 'R CMD check' started to fail recently on the Linux builder(s) over a missing dependency, add the missing dependency to 'Suggests:' in your DESCRIPTION file. See Renviron.bioc for more information. |
| Package: HPO.db |
| Version: 0.99.2 |
| Command: /home/biocbuild/bbs-3.22-bioc/R/bin/R CMD INSTALL HPO.db |
| StartedAt: 2025-10-22 05:55:11 -0400 (Wed, 22 Oct 2025) |
| EndedAt: 2025-10-22 05:55:27 -0400 (Wed, 22 Oct 2025) |
| EllapsedTime: 15.9 seconds |
| RetCode: 1 |
| Status: ERROR |
############################################################################## ############################################################################## ### ### Running command: ### ### /home/biocbuild/bbs-3.22-bioc/R/bin/R CMD INSTALL HPO.db ### ############################################################################## ############################################################################## * installing to library ‘/home/biocbuild/bbs-3.22-bioc/R/site-library’ * installing *source* package ‘HPO.db’ ... ** this is package ‘HPO.db’ version ‘0.99.2’ ** using staged installation ** R ** inst ** byte-compile and prepare package for lazy loading ** help *** installing help indices ** building package indices ** installing vignettes ** testing if installed package can be loaded from temporary location Error: package or namespace load failed for ‘HPO.db’: .onLoad failed in loadNamespace() for 'HPO.db', details: call: NULL error: Replaced by more current version Resource removed on: 2024-05-02 Error: loading failed Execution halted ERROR: loading failed * removing ‘/home/biocbuild/bbs-3.22-bioc/R/site-library/HPO.db’