| Back to Books build report for BioC 3.22 |
This page was generated on 2025-08-13 14:30 -0400 (Wed, 13 Aug 2025).
| Hostname | OS | Arch (*) | R version | Installed pkgs |
|---|---|---|---|---|
| nebbiolo2 | Linux (Ubuntu 24.04.3 LTS) | x86_64 | 4.5.1 (2025-06-13) -- "Great Square Root" | 429 |
| Click on any hostname to see more info about the system (e.g. compilers) (*) as reported by 'uname -p', except on Windows and Mac OS X | ||||
| Package 4/10 | Hostname | OS / Arch | INSTALL | BUILD | CHECK | ||||||||
| OSCA 1.19.0 (landing page) Alan O'Callaghan
| nebbiolo2 | Linux (Ubuntu 24.04.3 LTS) / x86_64 | OK | OK | OK | ||||||||
|
To the developers/maintainers of the OSCA package: - Use the following Renviron settings to reproduce errors and warnings. - If 'R CMD check' started to fail recently on the Linux builder(s) over a missing dependency, add the missing dependency to 'Suggests:' in your DESCRIPTION file. See Renviron.bioc for more information. |
| Package: OSCA |
| Version: 1.19.0 |
| Command: rm -rf OSCA.book && mkdir OSCA.book && /home/biocbuild/BBS/utils/deploy_book.py OSCA_1.19.0.tar.gz OSCA.book |
| StartedAt: 2025-08-13 07:57:05 -0400 (Wed, 13 Aug 2025) |
| EndedAt: 2025-08-13 07:57:05 -0400 (Wed, 13 Aug 2025) |
| EllapsedTime: 0.1 seconds |
| RetCode: 0 |
| Status: OK |
| DeployDestDir: OSCA.book |
| Warnings: 0 |
############################################################################## ############################################################################## ### ### Running command: ### ### rm -rf OSCA.book && mkdir OSCA.book && /home/biocbuild/BBS/utils/deploy_book.py OSCA_1.19.0.tar.gz OSCA.book ### ############################################################################## ############################################################################## Deploying content from book tarball 'OSCA_1.19.0.tar.gz' to 'OSCA.book/OSCA/' ... OK