| Back to Books build report for BioC 3.22 | 
This page was generated on 2025-08-13 14:30 -0400 (Wed, 13 Aug 2025).
| Hostname | OS | Arch (*) | R version | Installed pkgs | 
|---|---|---|---|---|
| nebbiolo2 | Linux (Ubuntu 24.04.3 LTS) | x86_64 | 4.5.1 (2025-06-13) -- "Great Square Root" | 429 | 
| Click on any hostname to see more info about the system (e.g. compilers) (*) as reported by 'uname -p', except on Windows and Mac OS X | ||||
| Package 1/10 | Hostname | OS / Arch | INSTALL | BUILD | CHECK | ||||||||
| BiocBookDemo 1.7.0  (landing page) Jacques Serizay 
 | nebbiolo2 | Linux (Ubuntu 24.04.3 LTS) / x86_64 | OK | OK | OK |  | |||||||
| To the developers/maintainers of the BiocBookDemo package: - Use the following Renviron settings to reproduce errors and warnings. - If 'R CMD check' started to fail recently on the Linux builder(s) over a missing dependency, add the missing dependency to 'Suggests:' in your DESCRIPTION file. See Renviron.bioc for more information. | 
| Package: BiocBookDemo | 
| Version: 1.7.0 | 
| Command: /home/biocbuild/bbs-3.22-books/R/bin/R CMD build --keep-empty-dirs --no-resave-data BiocBookDemo | 
| StartedAt: 2025-08-13 06:17:01 -0400 (Wed, 13 Aug 2025) | 
| EndedAt: 2025-08-13 06:17:34 -0400 (Wed, 13 Aug 2025) | 
| EllapsedTime: 33.3 seconds | 
| RetCode: 0 | 
| Status: OK | 
| PackageFile: BiocBookDemo_1.7.0.tar.gz | 
| PackageFileSize: 3.259 MiB | 
############################################################################## ############################################################################## ### ### Running command: ### ### /home/biocbuild/bbs-3.22-books/R/bin/R CMD build --keep-empty-dirs --no-resave-data BiocBookDemo ### ############################################################################## ############################################################################## * checking for file ‘BiocBookDemo/DESCRIPTION’ ... OK * preparing ‘BiocBookDemo’: * checking DESCRIPTION meta-information ... OK * installing the package to build vignettes * creating vignettes ... OK * checking for LF line-endings in source and make files and shell scripts * checking for empty or unneeded directories * building ‘BiocBookDemo_1.7.0.tar.gz’ Warning in utils::tar(filepath, pkgname, compression = compression, compression_level = 9L, : storing paths of more than 100 bytes is not portable: ‘BiocBookDemo/inst/doc/book/site_libs/quarto-html/quarto-syntax-highlighting-c1f63da3e08f13bc72dc17e92cfd001d.css’