| Back to Books build report for BioC 3.22 |
This page was generated on 2025-08-11 14:30 -0400 (Mon, 11 Aug 2025).
| Hostname | OS | Arch (*) | R version | Installed pkgs |
|---|---|---|---|---|
| nebbiolo2 | Linux (Ubuntu 24.04.2 LTS) | x86_64 | 4.5.1 (2025-06-13) -- "Great Square Root" | 4818 |
| Click on any hostname to see more info about the system (e.g. compilers) (*) as reported by 'uname -p', except on Windows and Mac OS X | ||||
| Package 1/10 | Hostname | OS / Arch | INSTALL | BUILD | CHECK | ||||||||
| BiocBookDemo 1.7.0 (landing page) Jacques Serizay
| nebbiolo2 | Linux (Ubuntu 24.04.2 LTS) / x86_64 | OK | OK | OK | ||||||||
|
To the developers/maintainers of the BiocBookDemo package: - Use the following Renviron settings to reproduce errors and warnings. - If 'R CMD check' started to fail recently on the Linux builder(s) over a missing dependency, add the missing dependency to 'Suggests:' in your DESCRIPTION file. See Renviron.bioc for more information. |
| Package: BiocBookDemo |
| Version: 1.7.0 |
| Command: rm -rf BiocBookDemo.book && mkdir BiocBookDemo.book && /home/biocbuild/BBS/utils/deploy_book.py BiocBookDemo_1.7.0.tar.gz BiocBookDemo.book |
| StartedAt: 2025-08-11 08:20:37 -0400 (Mon, 11 Aug 2025) |
| EndedAt: 2025-08-11 08:20:38 -0400 (Mon, 11 Aug 2025) |
| EllapsedTime: 1.0 seconds |
| RetCode: 0 |
| Status: OK |
| DeployDestDir: BiocBookDemo.book |
| Warnings: 0 |
############################################################################## ############################################################################## ### ### Running command: ### ### rm -rf BiocBookDemo.book && mkdir BiocBookDemo.book && /home/biocbuild/BBS/utils/deploy_book.py BiocBookDemo_1.7.0.tar.gz BiocBookDemo.book ### ############################################################################## ############################################################################## Deploying content from book tarball 'BiocBookDemo_1.7.0.tar.gz' to 'BiocBookDemo.book/BiocBookDemo/' ... OK