| Back to Rapid builds (Linux only) of a subset of BioC 3.22 Report updated every 6 hours |
This page was generated on 2025-06-17 22:14 -0400 (Tue, 17 Jun 2025).
| Hostname | OS | Arch (*) | R version | Installed pkgs |
|---|---|---|---|---|
| teran2 | Linux (Ubuntu 24.04.1 LTS) | x86_64 | 4.5.0 (2025-04-11) -- "How About a Twenty-Six" | 886 |
| Click on any hostname to see more info about the system (e.g. compilers) (*) as reported by 'uname -p', except on Windows and Mac OS X | ||||
| Package 197/221 | Hostname | OS / Arch | INSTALL | BUILD | CHECK | |||||||
| snifter 1.19.1 (landing page) Alan O'Callaghan
| teran2 | Linux (Ubuntu 24.04.1 LTS) / x86_64 | OK | OK | OK | |||||||
|
To the developers/maintainers of the snifter package: - Use the following Renviron settings to reproduce errors and warnings. - If 'R CMD check' started to fail recently on the Linux builder(s) over a missing dependency, add the missing dependency to 'Suggests:' in your DESCRIPTION file. See Renviron.bioc for more information. |
| Package: snifter |
| Version: 1.19.1 |
| Command: /home/rapidbuild/bbs-3.22-bioc-rapid/R/bin/R CMD check --install=check:snifter.install-out.txt --library=/home/rapidbuild/bbs-3.22-bioc-rapid/R/site-library --timings snifter_1.19.1.tar.gz |
| StartedAt: 2025-06-17 21:50:06 -0400 (Tue, 17 Jun 2025) |
| EndedAt: 2025-06-17 21:52:05 -0400 (Tue, 17 Jun 2025) |
| EllapsedTime: 119.4 seconds |
| RetCode: 0 |
| Status: OK |
| CheckDir: snifter.Rcheck |
| Warnings: 0 |
##############################################################################
##############################################################################
###
### Running command:
###
### /home/rapidbuild/bbs-3.22-bioc-rapid/R/bin/R CMD check --install=check:snifter.install-out.txt --library=/home/rapidbuild/bbs-3.22-bioc-rapid/R/site-library --timings snifter_1.19.1.tar.gz
###
##############################################################################
##############################################################################
* using log directory ‘/media/volume/teran2_disk/rapidbuild/bbs-3.22-bioc-rapid/meat/snifter.Rcheck’
* using R version 4.5.0 (2025-04-11)
* using platform: x86_64-pc-linux-gnu
* R was compiled by
gcc (Ubuntu 13.3.0-6ubuntu2~24.04) 13.3.0
GNU Fortran (Ubuntu 13.3.0-6ubuntu2~24.04) 13.3.0
* running under: Ubuntu 24.04.2 LTS
* using session charset: UTF-8
* checking for file ‘snifter/DESCRIPTION’ ... OK
* checking extension type ... Package
* this is package ‘snifter’ version ‘1.19.1’
* package encoding: UTF-8
* checking package namespace information ... OK
* checking package dependencies ... OK
* checking if this is a source package ... OK
* checking if there is a namespace ... OK
* checking for hidden files and directories ... NOTE
Found the following hidden files and directories:
.BBSoptions
These were most likely included in error. See section ‘Package
structure’ in the ‘Writing R Extensions’ manual.
* checking for portable file names ... OK
* checking for sufficient/correct file permissions ... OK
* checking whether package ‘snifter’ can be installed ... NOTE
Found the following notes/warnings:
Non-staged installation was used
See ‘/media/volume/teran2_disk/rapidbuild/bbs-3.22-bioc-rapid/meat/snifter.Rcheck/00install.out’ for details.
* checking installed package size ... OK
* checking package directory ... OK
* checking ‘build’ directory ... OK
* checking DESCRIPTION meta-information ... OK
* checking top-level files ... OK
* checking for left-over files ... OK
* checking index information ... OK
* checking package subdirectories ... OK
* checking code files for non-ASCII characters ... OK
* checking R files for syntax errors ... OK
* checking whether the package can be loaded ... OK
* checking whether the package can be loaded with stated dependencies ... OK
* checking whether the package can be unloaded cleanly ... OK
* checking whether the namespace can be loaded with stated dependencies ... OK
* checking whether the namespace can be unloaded cleanly ... OK
* checking loading without being on the library search path ... OK
* checking dependencies in R code ... OK
* checking S3 generic/method consistency ... OK
* checking replacement functions ... OK
* checking foreign function calls ... OK
* checking R code for possible problems ... OK
* checking Rd files ... OK
* checking Rd metadata ... OK
* checking Rd cross-references ... OK
* checking for missing documentation entries ... OK
* checking for code/documentation mismatches ... OK
* checking Rd \usage sections ... OK
* checking Rd contents ... OK
* checking for unstated dependencies in examples ... OK
* checking line endings in shell scripts ... OK
* checking files in ‘vignettes’ ... OK
* checking examples ... OK
Examples with CPU (user + system) or elapsed time > 5s
user system elapsed
snifter 10.396 3.856 15.908
project 6.361 2.223 13.863
* checking for unstated dependencies in ‘tests’ ... OK
* checking tests ...
Running ‘testthat.R’
OK
* checking for unstated dependencies in vignettes ... OK
* checking package vignettes ... OK
* checking re-building of vignette outputs ... OK
* checking PDF version of manual ... OK
* DONE
Status: 2 NOTEs
See
‘/media/volume/teran2_disk/rapidbuild/bbs-3.22-bioc-rapid/meat/snifter.Rcheck/00check.log’
for details.
snifter.Rcheck/00install.out
############################################################################## ############################################################################## ### ### Running command: ### ### /home/rapidbuild/bbs-3.22-bioc-rapid/R/bin/R CMD INSTALL snifter ### ############################################################################## ############################################################################## * installing to library ‘/media/volume/teran2_disk/rapidbuild/bbs-3.22-bioc-rapid/R/site-library’ * installing *source* package ‘snifter’ ... ** this is package ‘snifter’ version ‘1.19.1’ ** using non-staged installation via StagedInstall field ** R ** inst ** byte-compile and prepare package for lazy loading ** help *** installing help indices *** copying figures ** building package indices ** installing vignettes ** testing if installed package can be loaded * DONE (snifter)
snifter.Rcheck/tests/testthat.Rout
R version 4.5.0 (2025-04-11) -- "How About a Twenty-Six"
Copyright (C) 2025 The R Foundation for Statistical Computing
Platform: x86_64-pc-linux-gnu
R is free software and comes with ABSOLUTELY NO WARRANTY.
You are welcome to redistribute it under certain conditions.
Type 'license()' or 'licence()' for distribution details.
R is a collaborative project with many contributors.
Type 'contributors()' for more information and
'citation()' on how to cite R or R packages in publications.
Type 'demo()' for some demos, 'help()' for on-line help, or
'help.start()' for an HTML browser interface to help.
Type 'q()' to quit R.
> library(testthat)
> library(snifter)
>
> test_check("snifter")
[ FAIL 0 | WARN 0 | SKIP 2 | PASS 0 ]
══ Skipped tests (2) ═══════════════════════════════════════════════════════════
• empty test (2): 'test-snifter.R:1:1', 'test-snifter.R:7:1'
[ FAIL 0 | WARN 0 | SKIP 2 | PASS 0 ]
>
> proc.time()
user system elapsed
12.756 4.182 20.193
snifter.Rcheck/snifter-Ex.timings
| name | user | system | elapsed | |
| project | 6.361 | 2.223 | 13.863 | |
| snifter | 10.396 | 3.856 | 15.908 | |