| Back to Rapid builds (Linux only) of a subset of BioC 3.22 Report updated every 6 hours |
This page was generated on 2025-06-17 22:14 -0400 (Tue, 17 Jun 2025).
| Hostname | OS | Arch (*) | R version | Installed pkgs |
|---|---|---|---|---|
| teran2 | Linux (Ubuntu 24.04.1 LTS) | x86_64 | 4.5.0 (2025-04-11) -- "How About a Twenty-Six" | 886 |
| Click on any hostname to see more info about the system (e.g. compilers) (*) as reported by 'uname -p', except on Windows and Mac OS X | ||||
| Package 173/221 | Hostname | OS / Arch | INSTALL | BUILD | CHECK | |||||||
| rhdf5 2.53.1 (landing page) Mike Smith
| teran2 | Linux (Ubuntu 24.04.1 LTS) / x86_64 | OK | OK | WARNINGS | |||||||
|
To the developers/maintainers of the rhdf5 package: - Use the following Renviron settings to reproduce errors and warnings. - If 'R CMD check' started to fail recently on the Linux builder(s) over a missing dependency, add the missing dependency to 'Suggests:' in your DESCRIPTION file. See Renviron.bioc for more information. |
| Package: rhdf5 |
| Version: 2.53.1 |
| Command: /home/rapidbuild/bbs-3.22-bioc-rapid/R/bin/R CMD build --keep-empty-dirs --no-resave-data rhdf5 |
| StartedAt: 2025-06-17 19:27:35 -0400 (Tue, 17 Jun 2025) |
| EndedAt: 2025-06-17 19:32:38 -0400 (Tue, 17 Jun 2025) |
| EllapsedTime: 302.6 seconds |
| RetCode: 0 |
| Status: OK |
| PackageFile: rhdf5_2.53.1.tar.gz |
| PackageFileSize: 1.244 MiB |
############################################################################## ############################################################################## ### ### Running command: ### ### /home/rapidbuild/bbs-3.22-bioc-rapid/R/bin/R CMD build --keep-empty-dirs --no-resave-data rhdf5 ### ############################################################################## ############################################################################## * checking for file ‘rhdf5/DESCRIPTION’ ... OK * preparing ‘rhdf5’: * checking DESCRIPTION meta-information ... OK * cleaning src * running ‘cleanup’ * installing the package to build vignettes * creating vignettes ... OK * cleaning src * running ‘cleanup’ * checking for LF line-endings in source and make files and shell scripts * checking for empty or unneeded directories * building ‘rhdf5_2.53.1.tar.gz’