| Back to Rapid builds (Linux only) of a subset of BioC 3.22 Report updated every 6 hours |
This page was generated on 2025-06-17 22:14 -0400 (Tue, 17 Jun 2025).
| Hostname | OS | Arch (*) | R version | Installed pkgs |
|---|---|---|---|---|
| teran2 | Linux (Ubuntu 24.04.1 LTS) | x86_64 | 4.5.0 (2025-04-11) -- "How About a Twenty-Six" | 886 |
| Click on any hostname to see more info about the system (e.g. compilers) (*) as reported by 'uname -p', except on Windows and Mac OS X | ||||
| Package 131/221 | Hostname | OS / Arch | INSTALL | BUILD | CHECK | |||||||
| maftools 2.25.10 (landing page) Anand Mayakonda
| teran2 | Linux (Ubuntu 24.04.1 LTS) / x86_64 | OK | OK | WARNINGS | |||||||
|
To the developers/maintainers of the maftools package: - Use the following Renviron settings to reproduce errors and warnings. - If 'R CMD check' started to fail recently on the Linux builder(s) over a missing dependency, add the missing dependency to 'Suggests:' in your DESCRIPTION file. See Renviron.bioc for more information. |
| Package: maftools |
| Version: 2.25.10 |
| Command: /home/rapidbuild/bbs-3.22-bioc-rapid/R/bin/R CMD INSTALL maftools |
| StartedAt: 2025-06-17 18:15:53 -0400 (Tue, 17 Jun 2025) |
| EndedAt: 2025-06-17 18:16:07 -0400 (Tue, 17 Jun 2025) |
| EllapsedTime: 13.5 seconds |
| RetCode: 0 |
| Status: OK |
##############################################################################
##############################################################################
###
### Running command:
###
### /home/rapidbuild/bbs-3.22-bioc-rapid/R/bin/R CMD INSTALL maftools
###
##############################################################################
##############################################################################
* installing to library ‘/media/volume/teran2_disk/rapidbuild/bbs-3.22-bioc-rapid/R/site-library’
* installing *source* package ‘maftools’ ...
** this is package ‘maftools’ version ‘2.25.10’
** using staged installation
** libs
using C compiler: ‘gcc (Ubuntu 13.3.0-6ubuntu2~24.04) 13.3.0’
gcc -std=gnu2x -I"/home/rapidbuild/bbs-3.22-bioc-rapid/R/include" -DNDEBUG -D_FILE_OFFSET_BITS=64 -I'/media/volume/teran2_disk/rapidbuild/bbs-3.22-bioc-rapid/R/site-library/Rhtslib/include' -I/usr/local/include -fpic -g -O2 -Wall -Werror=format-security -c ntcounts.c -o ntcounts.o
gcc -std=gnu2x -I"/home/rapidbuild/bbs-3.22-bioc-rapid/R/include" -DNDEBUG -D_FILE_OFFSET_BITS=64 -I'/media/volume/teran2_disk/rapidbuild/bbs-3.22-bioc-rapid/R/site-library/Rhtslib/include' -I/usr/local/include -fpic -g -O2 -Wall -Werror=format-security -c snpcounts.c -o snpcounts.o
snpcounts.c: In function ‘snpcounts’:
snpcounts.c:89:47: warning: format ‘%llu’ expects argument of type ‘long long unsigned int’, but argument 3 has type ‘uint64_t’ {aka ‘long unsigned int’} [-Wformat=]
89 | fprintf(tsv_fp, "#idxstats_mapped_reads\t%llu\n", tot_mapped);
| ~~~^ ~~~~~~~~~~
| | |
| | uint64_t {aka long unsigned int}
| long long unsigned int
| %lu
gcc -std=gnu2x -I"/home/rapidbuild/bbs-3.22-bioc-rapid/R/include" -DNDEBUG -D_FILE_OFFSET_BITS=64 -I'/media/volume/teran2_disk/rapidbuild/bbs-3.22-bioc-rapid/R/site-library/Rhtslib/include' -I/usr/local/include -fpic -g -O2 -Wall -Werror=format-security -c somaticfreq.c -o somaticfreq.o
gcc -std=gnu2x -shared -L/usr/local/lib -o maftools.so ntcounts.o snpcounts.o somaticfreq.o /media/volume/teran2_disk/rapidbuild/bbs-3.22-bioc-rapid/R/site-library/Rhtslib/usrlib/libhts.a -lcurl -lbz2 -llzma -lz
installing to /media/volume/teran2_disk/rapidbuild/bbs-3.22-bioc-rapid/R/site-library/00LOCK-maftools/00new/maftools/libs
** R
** inst
** byte-compile and prepare package for lazy loading
** help
*** installing help indices
** building package indices
** installing vignettes
** testing if installed package can be loaded from temporary location
** checking absolute paths in shared objects and dynamic libraries
** testing if installed package can be loaded from final location
** testing if installed package keeps a record of temporary installation path
* DONE (maftools)