| Back to Rapid builds (Linux only) of a subset of BioC 3.22 Report updated every 6 hours |
This page was generated on 2025-06-17 22:14 -0400 (Tue, 17 Jun 2025).
| Hostname | OS | Arch (*) | R version | Installed pkgs |
|---|---|---|---|---|
| teran2 | Linux (Ubuntu 24.04.1 LTS) | x86_64 | 4.5.0 (2025-04-11) -- "How About a Twenty-Six" | 886 |
| Click on any hostname to see more info about the system (e.g. compilers) (*) as reported by 'uname -p', except on Windows and Mac OS X | ||||
| Package 97/221 | Hostname | OS / Arch | INSTALL | BUILD | CHECK | |||||||
| GenomicAlignments 1.45.0 (landing page) Hervé Pagès
| teran2 | Linux (Ubuntu 24.04.1 LTS) / x86_64 | OK | OK | OK | |||||||
|
To the developers/maintainers of the GenomicAlignments package: - Use the following Renviron settings to reproduce errors and warnings. - If 'R CMD check' started to fail recently on the Linux builder(s) over a missing dependency, add the missing dependency to 'Suggests:' in your DESCRIPTION file. See Renviron.bioc for more information. |
| Package: GenomicAlignments |
| Version: 1.45.0 |
| Command: /home/rapidbuild/bbs-3.22-bioc-rapid/R/bin/R CMD INSTALL GenomicAlignments |
| StartedAt: 2025-06-17 18:24:28 -0400 (Tue, 17 Jun 2025) |
| EndedAt: 2025-06-17 18:25:18 -0400 (Tue, 17 Jun 2025) |
| EllapsedTime: 50.7 seconds |
| RetCode: 0 |
| Status: OK |
##############################################################################
##############################################################################
###
### Running command:
###
### /home/rapidbuild/bbs-3.22-bioc-rapid/R/bin/R CMD INSTALL GenomicAlignments
###
##############################################################################
##############################################################################
* installing to library ‘/media/volume/teran2_disk/rapidbuild/bbs-3.22-bioc-rapid/R/site-library’
* installing *source* package ‘GenomicAlignments’ ...
** this is package ‘GenomicAlignments’ version ‘1.45.0’
** using staged installation
** libs
using C compiler: ‘gcc (Ubuntu 13.3.0-6ubuntu2~24.04) 13.3.0’
gcc -std=gnu2x -I"/home/rapidbuild/bbs-3.22-bioc-rapid/R/include" -DNDEBUG -I'/media/volume/teran2_disk/rapidbuild/bbs-3.22-bioc-rapid/R/site-library/S4Vectors/include' -I'/media/volume/teran2_disk/rapidbuild/bbs-3.22-bioc-rapid/R/site-library/IRanges/include' -I/usr/local/include -fpic -g -O2 -Wall -Werror=format-security -c IRanges_stubs.c -o IRanges_stubs.o
gcc -std=gnu2x -I"/home/rapidbuild/bbs-3.22-bioc-rapid/R/include" -DNDEBUG -I'/media/volume/teran2_disk/rapidbuild/bbs-3.22-bioc-rapid/R/site-library/S4Vectors/include' -I'/media/volume/teran2_disk/rapidbuild/bbs-3.22-bioc-rapid/R/site-library/IRanges/include' -I/usr/local/include -fpic -g -O2 -Wall -Werror=format-security -c R_init_GenomicAlignments.c -o R_init_GenomicAlignments.o
gcc -std=gnu2x -I"/home/rapidbuild/bbs-3.22-bioc-rapid/R/include" -DNDEBUG -I'/media/volume/teran2_disk/rapidbuild/bbs-3.22-bioc-rapid/R/site-library/S4Vectors/include' -I'/media/volume/teran2_disk/rapidbuild/bbs-3.22-bioc-rapid/R/site-library/IRanges/include' -I/usr/local/include -fpic -g -O2 -Wall -Werror=format-security -c S4Vectors_stubs.c -o S4Vectors_stubs.o
gcc -std=gnu2x -I"/home/rapidbuild/bbs-3.22-bioc-rapid/R/include" -DNDEBUG -I'/media/volume/teran2_disk/rapidbuild/bbs-3.22-bioc-rapid/R/site-library/S4Vectors/include' -I'/media/volume/teran2_disk/rapidbuild/bbs-3.22-bioc-rapid/R/site-library/IRanges/include' -I/usr/local/include -fpic -g -O2 -Wall -Werror=format-security -c cigar_utils.c -o cigar_utils.o
In file included from /home/rapidbuild/bbs-3.22-bioc-rapid/R/include/Rdefines.h:41,
from GenomicAlignments.h:1,
from cigar_utils.c:1:
In function ‘make_CompressedIRangesList’,
inlined from ‘cigar_ranges’ at cigar_utils.c:680:2:
cigar_utils.c:534:25: warning: ‘range_buf1’ may be used uninitialized [-Wmaybe-uninitialized]
534 | new_IRanges_from_IntPairAE("IRanges", range_buf));
| ^~~~~~~~~~~~~~~~~~~~~~~~~~~~~~~~~~~~~~~~~~~~~~~~
/home/rapidbuild/bbs-3.22-bioc-rapid/R/include/Rinternals.h:388:36: note: in definition of macro ‘PROTECT’
388 | #define PROTECT(s) Rf_protect(s)
| ^
cigar_utils.c: In function ‘cigar_ranges’:
cigar_utils.c:590:20: note: ‘range_buf1’ was declared here
590 | IntPairAE *range_buf1;
| ^~~~~~~~~~
cigar_utils.c:674:37: warning: ‘breakpoint’ may be used uninitialized [-Wmaybe-uninitialized]
674 | *(breakpoint++) = IntPairAE_get_nelt(range_buf1);
| ~~~~~~~~~~~^~~
cigar_utils.c:588:62: note: ‘breakpoint’ was declared here
588 | int cigar_len, space0, pos_len, f_is_NULL, ans_len, *breakpoint,
| ^~~~~~~~~~
cigar_utils.c:626:29: warning: ‘flag_elt’ may be used uninitialized [-Wmaybe-uninitialized]
626 | if (*flag_elt == NA_INTEGER) {
| ^~~~~~~~~
cigar_utils.c:593:20: note: ‘flag_elt’ was declared here
593 | const int *flag_elt, *pos_elt, *f_elt;
| ^~~~~~~~
cigar_utils.c:656:29: warning: ‘f_elt’ may be used uninitialized [-Wmaybe-uninitialized]
656 | if (*f_elt == NA_INTEGER)
| ^~~~~~
cigar_utils.c:593:41: note: ‘f_elt’ was declared here
593 | const int *flag_elt, *pos_elt, *f_elt;
| ^~~~~
In function ‘make_CompressedIRangesList’,
inlined from ‘cigar_ranges’ at cigar_utils.c:680:2:
cigar_utils.c:542:25: warning: ‘ans_breakpoints’ may be used uninitialized [-Wmaybe-uninitialized]
542 | new_PartitioningByEnd("PartitioningByEnd",
| ^~~~~~~~~~~~~~~~~~~~~~~~~~~~~~~~~~~~~~~~~~
543 | breakpoints, NULL));
| ~~~~~~~~~~~~~~~~~~
/home/rapidbuild/bbs-3.22-bioc-rapid/R/include/Rinternals.h:388:36: note: in definition of macro ‘PROTECT’
388 | #define PROTECT(s) Rf_protect(s)
| ^
cigar_utils.c: In function ‘cigar_ranges’:
cigar_utils.c:587:19: note: ‘ans_breakpoints’ was declared here
587 | SEXP ans, ans_breakpoints, f_levels, cigar_elt;
| ^~~~~~~~~~~~~~~
cigar_utils.c: In function ‘cigar_width’:
cigar_utils.c:708:29: warning: ‘flag_elt’ may be used uninitialized [-Wmaybe-uninitialized]
708 | if (*flag_elt == NA_INTEGER) {
| ^~~~~~~~~
cigar_utils.c:698:20: note: ‘flag_elt’ was declared here
698 | const int *flag_elt;
| ^~~~~~~~
In function ‘narrow_cigar_string’,
inlined from ‘cigar_narrow’ at cigar_utils.c:920:12:
cigar_utils.c:872:12: warning: ‘Loffset’ may be used uninitialized [-Wmaybe-uninitialized]
872 | if (Roffset < Loffset) {
| ^
cigar_utils.c: In function ‘cigar_narrow’:
cigar_utils.c:854:13: note: ‘Loffset’ was declared here
854 | int Loffset, Roffset, buf_offset;
| ^~~~~~~
In function ‘narrow_cigar_string’,
inlined from ‘cigar_narrow’ at cigar_utils.c:920:12:
cigar_utils.c:872:12: warning: ‘Roffset’ may be used uninitialized [-Wmaybe-uninitialized]
872 | if (Roffset < Loffset) {
| ^
cigar_utils.c: In function ‘cigar_narrow’:
cigar_utils.c:854:22: note: ‘Roffset’ was declared here
854 | int Loffset, Roffset, buf_offset;
| ^~~~~~~
In function ‘qnarrow_cigar_string’,
inlined from ‘cigar_qnarrow’ at cigar_utils.c:1116:12:
cigar_utils.c:1063:12: warning: ‘Loffset’ may be used uninitialized [-Wmaybe-uninitialized]
1063 | if (Roffset < Loffset) {
| ^
cigar_utils.c: In function ‘cigar_qnarrow’:
cigar_utils.c:1045:13: note: ‘Loffset’ was declared here
1045 | int Loffset, Roffset, buf_offset;
| ^~~~~~~
In function ‘qnarrow_cigar_string’,
inlined from ‘cigar_qnarrow’ at cigar_utils.c:1116:12:
cigar_utils.c:1063:12: warning: ‘Roffset’ may be used uninitialized [-Wmaybe-uninitialized]
1063 | if (Roffset < Loffset) {
| ^
cigar_utils.c: In function ‘cigar_qnarrow’:
cigar_utils.c:1045:22: note: ‘Roffset’ was declared here
1045 | int Loffset, Roffset, buf_offset;
| ^~~~~~~
gcc -std=gnu2x -I"/home/rapidbuild/bbs-3.22-bioc-rapid/R/include" -DNDEBUG -I'/media/volume/teran2_disk/rapidbuild/bbs-3.22-bioc-rapid/R/site-library/S4Vectors/include' -I'/media/volume/teran2_disk/rapidbuild/bbs-3.22-bioc-rapid/R/site-library/IRanges/include' -I/usr/local/include -fpic -g -O2 -Wall -Werror=format-security -c coordinate_mapping_methods.c -o coordinate_mapping_methods.o
coordinate_mapping_methods.c: In function ‘to_ref’:
coordinate_mapping_methods.c:219:6: warning: ‘n’ may be used uninitialized [-Wmaybe-uninitialized]
219 | if (n == 0)
| ^
coordinate_mapping_methods.c:172:7: note: ‘n’ was declared here
172 | int n, offset = 0, OPL, query_consumed = 0;
| ^
gcc -std=gnu2x -I"/home/rapidbuild/bbs-3.22-bioc-rapid/R/include" -DNDEBUG -I'/media/volume/teran2_disk/rapidbuild/bbs-3.22-bioc-rapid/R/site-library/S4Vectors/include' -I'/media/volume/teran2_disk/rapidbuild/bbs-3.22-bioc-rapid/R/site-library/IRanges/include' -I/usr/local/include -fpic -g -O2 -Wall -Werror=format-security -c encodeOverlaps_methods.c -o encodeOverlaps_methods.o
In function ‘unsafe_overlap_encoding’,
inlined from ‘overlap_encoding’ at encodeOverlaps_methods.c:209:2:
encodeOverlaps_methods.c:182:9: warning: ‘out_nelt0’ may be used uninitialized [-Wmaybe-uninitialized]
182 | CharAE_delete_at(out, out_nelt0, j1 * nrow);
| ^~~~~~~~~~~~~~~~~~~~~~~~~~~~~~~~~~~~~~~~~~~
encodeOverlaps_methods.c: In function ‘overlap_encoding’:
encodeOverlaps_methods.c:99:13: note: ‘out_nelt0’ was declared here
99 | int out_nelt0, i, starti, widthi, spacei, j, startj, widthj, spacej,
| ^~~~~~~~~
gcc -std=gnu2x -shared -L/usr/local/lib -o GenomicAlignments.so IRanges_stubs.o R_init_GenomicAlignments.o S4Vectors_stubs.o cigar_utils.o coordinate_mapping_methods.o encodeOverlaps_methods.o
installing to /media/volume/teran2_disk/rapidbuild/bbs-3.22-bioc-rapid/R/site-library/00LOCK-GenomicAlignments/00new/GenomicAlignments/libs
** R
** inst
** byte-compile and prepare package for lazy loading
** help
*** installing help indices
** building package indices
** installing vignettes
** testing if installed package can be loaded from temporary location
** checking absolute paths in shared objects and dynamic libraries
** testing if installed package can be loaded from final location
** testing if installed package keeps a record of temporary installation path
* DONE (GenomicAlignments)