| Back to Rapid builds (Linux only) of a subset of BioC 3.22 Report updated every 6 hours |
This page was generated on 2025-07-24 09:37 -0400 (Thu, 24 Jul 2025).
| Hostname | OS | Arch (*) | R version | Installed pkgs |
|---|---|---|---|---|
| teran2 | Linux (Ubuntu 24.04.1 LTS) | x86_64 | 4.5.0 (2025-04-11) -- "How About a Twenty-Six" | 914 |
| Click on any hostname to see more info about the system (e.g. compilers) (*) as reported by 'uname -p', except on Windows and Mac OS X | ||||
| Package 174/229 | Hostname | OS / Arch | INSTALL | BUILD | CHECK | |||||||
| regioneR 1.41.3 (landing page) Bernat Gel
| teran2 | Linux (Ubuntu 24.04.1 LTS) / x86_64 | OK | OK | OK | |||||||
|
To the developers/maintainers of the regioneR package: - Use the following Renviron settings to reproduce errors and warnings. - If 'R CMD check' started to fail recently on the Linux builder(s) over a missing dependency, add the missing dependency to 'Suggests:' in your DESCRIPTION file. See Renviron.bioc for more information. |
| Package: regioneR |
| Version: 1.41.3 |
| Command: /home/rapidbuild/bbs-3.22-bioc-rapid/R/bin/R CMD check --install=check:regioneR.install-out.txt --library=/home/rapidbuild/bbs-3.22-bioc-rapid/R/site-library --timings regioneR_1.41.3.tar.gz |
| StartedAt: 2025-07-24 08:50:32 -0400 (Thu, 24 Jul 2025) |
| EndedAt: 2025-07-24 08:56:32 -0400 (Thu, 24 Jul 2025) |
| EllapsedTime: 359.8 seconds |
| RetCode: 0 |
| Status: OK |
| CheckDir: regioneR.Rcheck |
| Warnings: 0 |
##############################################################################
##############################################################################
###
### Running command:
###
### /home/rapidbuild/bbs-3.22-bioc-rapid/R/bin/R CMD check --install=check:regioneR.install-out.txt --library=/home/rapidbuild/bbs-3.22-bioc-rapid/R/site-library --timings regioneR_1.41.3.tar.gz
###
##############################################################################
##############################################################################
* using log directory ‘/media/volume/teran2_disk/rapidbuild/bbs-3.22-bioc-rapid/meat/regioneR.Rcheck’
* using R version 4.5.0 (2025-04-11)
* using platform: x86_64-pc-linux-gnu
* R was compiled by
gcc (Ubuntu 13.3.0-6ubuntu2~24.04) 13.3.0
GNU Fortran (Ubuntu 13.3.0-6ubuntu2~24.04) 13.3.0
* running under: Ubuntu 24.04.2 LTS
* using session charset: UTF-8
* checking for file ‘regioneR/DESCRIPTION’ ... OK
* checking extension type ... Package
* this is package ‘regioneR’ version ‘1.41.3’
* package encoding: UTF-8
* checking package namespace information ... OK
* checking package dependencies ... OK
* checking if this is a source package ... OK
* checking if there is a namespace ... OK
* checking for hidden files and directories ... OK
* checking for portable file names ... OK
* checking for sufficient/correct file permissions ... OK
* checking whether package ‘regioneR’ can be installed ... OK
* checking installed package size ... OK
* checking package directory ... OK
* checking ‘build’ directory ... OK
* checking DESCRIPTION meta-information ... NOTE
Package listed in more than one of Depends, Imports, Suggests, Enhances:
‘GenomicRanges’
A package should be listed in only one of these fields.
* checking top-level files ... OK
* checking for left-over files ... OK
* checking index information ... OK
* checking package subdirectories ... OK
* checking code files for non-ASCII characters ... OK
* checking R files for syntax errors ... OK
* checking whether the package can be loaded ... OK
* checking whether the package can be loaded with stated dependencies ... OK
* checking whether the package can be unloaded cleanly ... OK
* checking whether the namespace can be loaded with stated dependencies ... OK
* checking whether the namespace can be unloaded cleanly ... OK
* checking loading without being on the library search path ... OK
* checking dependencies in R code ... OK
* checking S3 generic/method consistency ... OK
* checking replacement functions ... OK
* checking foreign function calls ... OK
* checking R code for possible problems ... OK
* checking Rd files ... OK
* checking Rd metadata ... OK
* checking Rd cross-references ... NOTE
Found the following Rd file(s) with Rd \link{} targets missing package
anchors:
characterToBSGenome.Rd: BSgenome
circularRandomizeRegions.Rd: GenomicRanges, BSgenome
commonRegions.Rd: GenomicRanges
createRandomRegions.Rd: GenomicRanges, BSgenome
extendRegions.Rd: GenomicRanges
filterChromosomes.Rd: GenomicRanges, BSgenome, GRanges
getGenome.Rd: BSgenome, GRanges, memoise, forget
getGenomeAndMask.Rd: BSgenome, memoise, forget
getMask.Rd: BSgenome, GRanges, memoise, forget
joinRegions.Rd: GenomicRanges, reduce
localZScore.Rd: GenomicRanges
maskFromBSGenome.Rd: BSgenome, GRanges, memoise, forget
meanDistance.Rd: GenomicRanges
meanInRegions.Rd: GenomicRanges
mergeRegions.Rd: GenomicRanges, reduce
numOverlaps.Rd: GenomicRanges
overlapGraphicalSummary.Rd: GenomicRanges
overlapPermTest.Rd: GenomicRanges
overlapRegions.Rd: GenomicRanges, countOverlaps
permTest.Rd: GenomicRanges
randomizeRegions.Rd: GenomicRanges, BSgenome
resampleGenome.Rd: GenomicRanges
resampleRegions.Rd: GenomicRanges
splitRegions.Rd: GenomicRanges
subtractRegions.Rd: GenomicRanges
toDataframe.Rd: GRanges
toGRanges.Rd: GRanges, BSgenome
uniqueRegions.Rd: GenomicRanges
Please provide package anchors for all Rd \link{} targets not in the
package itself and the base packages.
* checking for missing documentation entries ... OK
* checking for code/documentation mismatches ... OK
* checking Rd \usage sections ... OK
* checking Rd contents ... OK
* checking for unstated dependencies in examples ... OK
* checking files in ‘vignettes’ ... OK
* checking examples ... OK
Examples with CPU (user + system) or elapsed time > 5s
user system elapsed
circularRandomizeRegions 21.181 4.997 26.185
maskFromBSGenome 19.058 5.087 22.641
filterChromosomes 19.373 4.437 23.818
getMask 17.744 4.264 22.014
resampleGenome 4.873 0.382 5.259
* checking for unstated dependencies in ‘tests’ ... OK
* checking tests ...
Running ‘testthat.R’
OK
* checking for unstated dependencies in vignettes ... OK
* checking package vignettes ... OK
* checking re-building of vignette outputs ... OK
* checking PDF version of manual ... OK
* DONE
Status: 2 NOTEs
See
‘/media/volume/teran2_disk/rapidbuild/bbs-3.22-bioc-rapid/meat/regioneR.Rcheck/00check.log’
for details.
regioneR.Rcheck/00install.out
############################################################################## ############################################################################## ### ### Running command: ### ### /home/rapidbuild/bbs-3.22-bioc-rapid/R/bin/R CMD INSTALL regioneR ### ############################################################################## ############################################################################## * installing to library ‘/media/volume/teran2_disk/rapidbuild/bbs-3.22-bioc-rapid/R/site-library’ * installing *source* package ‘regioneR’ ... ** this is package ‘regioneR’ version ‘1.41.3’ ** using staged installation ** R ** inst ** byte-compile and prepare package for lazy loading ** help *** installing help indices ** building package indices ** installing vignettes ** testing if installed package can be loaded from temporary location ** testing if installed package can be loaded from final location ** testing if installed package keeps a record of temporary installation path * DONE (regioneR)
regioneR.Rcheck/tests/testthat.Rout
R version 4.5.0 (2025-04-11) -- "How About a Twenty-Six"
Copyright (C) 2025 The R Foundation for Statistical Computing
Platform: x86_64-pc-linux-gnu
R is free software and comes with ABSOLUTELY NO WARRANTY.
You are welcome to redistribute it under certain conditions.
Type 'license()' or 'licence()' for distribution details.
R is a collaborative project with many contributors.
Type 'contributors()' for more information and
'citation()' on how to cite R or R packages in publications.
Type 'demo()' for some demos, 'help()' for on-line help, or
'help.start()' for an HTML browser interface to help.
Type 'q()' to quit R.
> library(testthat)
> library(regioneR)
Loading required package: GenomicRanges
Loading required package: stats4
Loading required package: BiocGenerics
Loading required package: generics
Attaching package: 'generics'
The following objects are masked from 'package:base':
as.difftime, as.factor, as.ordered, intersect, is.element, setdiff,
setequal, union
Attaching package: 'BiocGenerics'
The following objects are masked from 'package:stats':
IQR, mad, sd, var, xtabs
The following objects are masked from 'package:base':
Filter, Find, Map, Position, Reduce, anyDuplicated, aperm, append,
as.data.frame, basename, cbind, colnames, dirname, do.call,
duplicated, eval, evalq, get, grep, grepl, is.unsorted, lapply,
mapply, match, mget, order, paste, pmax, pmax.int, pmin, pmin.int,
rank, rbind, rownames, sapply, saveRDS, table, tapply, unique,
unsplit, which.max, which.min
Loading required package: S4Vectors
Attaching package: 'S4Vectors'
The following object is masked from 'package:utils':
findMatches
The following objects are masked from 'package:base':
I, expand.grid, unname
Loading required package: IRanges
Loading required package: Seqinfo
>
> test_check("regioneR")
[ FAIL 0 | WARN 0 | SKIP 0 | PASS 89 ]
>
> proc.time()
user system elapsed
30.897 5.121 36.014
regioneR.Rcheck/regioneR-Ex.timings
| name | user | system | elapsed | |
| characterToBSGenome | 0.080 | 0.009 | 0.089 | |
| circularRandomizeRegions | 21.181 | 4.997 | 26.185 | |
| commonRegions | 0.181 | 0.001 | 0.182 | |
| createFunctionsList | 0.304 | 0.005 | 0.309 | |
| createRandomRegions | 0.129 | 0.000 | 0.129 | |
| emptyCacheRegioneR | 0 | 0 | 0 | |
| extendRegions | 0.084 | 0.000 | 0.083 | |
| filterChromosomes | 19.373 | 4.437 | 23.818 | |
| getChromosomesByOrganism | 0.001 | 0.000 | 0.001 | |
| getGenome | 0.131 | 0.003 | 0.134 | |
| getGenomeAndMask | 0.029 | 0.002 | 0.030 | |
| getMask | 17.744 | 4.264 | 22.014 | |
| joinRegions | 0.081 | 0.000 | 0.081 | |
| listChrTypes | 0.005 | 0.000 | 0.004 | |
| localZScore | 2.104 | 0.473 | 3.210 | |
| maskFromBSGenome | 19.058 | 5.087 | 22.641 | |
| meanDistance | 0.051 | 0.000 | 0.050 | |
| meanInRegions | 0.071 | 0.000 | 0.071 | |
| mergeRegions | 0.059 | 0.000 | 0.058 | |
| numOverlaps | 0.101 | 0.000 | 0.101 | |
| overlapGraphicalSummary | 0.055 | 0.001 | 0.056 | |
| overlapPermTest | 1.037 | 0.001 | 1.038 | |
| overlapRegions | 0.027 | 0.000 | 0.026 | |
| permTest | 0.765 | 0.000 | 0.765 | |
| plot.localZScoreResults | 0.802 | 0.000 | 0.804 | |
| plot.localZScoreResultsList | 1.657 | 0.001 | 1.659 | |
| plot.permTestResults | 1.197 | 0.001 | 1.198 | |
| plot.permTestResultsList | 1.313 | 0.001 | 1.314 | |
| plotRegions | 0.025 | 0.000 | 0.025 | |
| print.permTestResults | 0.775 | 0.001 | 0.775 | |
| randomizeRegions | 0.142 | 0.000 | 0.142 | |
| recomputePermTest | 0.535 | 0.000 | 0.535 | |
| resampleGenome | 4.873 | 0.382 | 5.259 | |
| resampleRegions | 0.025 | 0.000 | 0.026 | |
| splitRegions | 0.046 | 0.000 | 0.046 | |
| subtractRegions | 0.106 | 0.000 | 0.106 | |
| toDataframe | 0.011 | 0.000 | 0.012 | |
| toGRanges | 0.410 | 0.014 | 0.427 | |
| uniqueRegions | 0.201 | 0.001 | 0.202 | |