| Back to Rapid builds (Linux only) of a subset of BioC 3.23 Report updated every 6 hours |
This page was generated on 2025-11-21 10:18 -0500 (Fri, 21 Nov 2025).
| Hostname | OS | Arch (*) | R version | Installed pkgs |
|---|---|---|---|---|
| teran2 | Linux (Ubuntu 24.04.3 LTS) | x86_64 | R Under development (unstable) (2025-10-28 r88973) -- "Unsuffered Consequences" | 917 |
| Click on any hostname to see more info about the system (e.g. compilers) (*) as reported by 'uname -p', except on Windows and Mac OS X | ||||
| Package 129/230 | Hostname | OS / Arch | INSTALL | BUILD | CHECK | |||||||
| karyoploteR 1.37.0 (landing page) Bernat Gel
| teran2 | Linux (Ubuntu 24.04.3 LTS) / x86_64 | OK | OK | OK | |||||||
|
To the developers/maintainers of the karyoploteR package: - Use the following Renviron settings to reproduce errors and warnings. - If 'R CMD check' started to fail recently on the Linux builder(s) over a missing dependency, add the missing dependency to 'Suggests:' in your DESCRIPTION file. See Renviron.bioc for more information. |
| Package: karyoploteR |
| Version: 1.37.0 |
| Command: /home/rapidbuild/bbs-3.23-bioc-rapid/R/bin/R CMD check --install=check:karyoploteR.install-out.txt --library=/home/rapidbuild/bbs-3.23-bioc-rapid/R/site-library --timings karyoploteR_1.37.0.tar.gz |
| StartedAt: 2025-11-21 08:57:40 -0500 (Fri, 21 Nov 2025) |
| EndedAt: 2025-11-21 09:06:29 -0500 (Fri, 21 Nov 2025) |
| EllapsedTime: 529.0 seconds |
| RetCode: 0 |
| Status: OK |
| CheckDir: karyoploteR.Rcheck |
| Warnings: 0 |
##############################################################################
##############################################################################
###
### Running command:
###
### /home/rapidbuild/bbs-3.23-bioc-rapid/R/bin/R CMD check --install=check:karyoploteR.install-out.txt --library=/home/rapidbuild/bbs-3.23-bioc-rapid/R/site-library --timings karyoploteR_1.37.0.tar.gz
###
##############################################################################
##############################################################################
* using log directory ‘/media/volume/teran2_disk/rapidbuild/bbs-3.23-bioc-rapid/meat/karyoploteR.Rcheck’
* using R Under development (unstable) (2025-10-28 r88973)
* using platform: x86_64-pc-linux-gnu
* R was compiled by
gcc (Ubuntu 13.3.0-6ubuntu2~24.04) 13.3.0
GNU Fortran (Ubuntu 13.3.0-6ubuntu2~24.04) 13.3.0
* running under: Ubuntu 24.04.3 LTS
* using session charset: UTF-8
* checking for file ‘karyoploteR/DESCRIPTION’ ... OK
* checking extension type ... Package
* this is package ‘karyoploteR’ version ‘1.37.0’
* package encoding: UTF-8
* checking CRAN incoming feasibility ... NOTE
Maintainer: ‘Bernat Gel <bgel@igtp.cat>’
Unknown, possibly misspelled, fields in DESCRIPTION:
‘git_url’ ‘git_branch’ ‘git_last_commit’ ‘git_last_commit_date’
The Title field should be in title case. Current version is:
‘Plot customizable linear genomes displaying arbitrary data’
In title case that is:
‘Plot Customizable Linear Genomes Displaying Arbitrary Data’
The Description field should not start with the package name,
'This package' or similar.
The Date field is over a month old.
* checking package namespace information ... OK
* checking package dependencies ... OK
* checking if this is a source package ... OK
* checking if there is a namespace ... OK
* checking for hidden files and directories ... OK
* checking for portable file names ... OK
* checking for sufficient/correct file permissions ... OK
* checking whether package ‘karyoploteR’ can be installed ... OK
* checking installed package size ... OK
* checking package directory ... OK
* checking ‘build’ directory ... OK
* checking DESCRIPTION meta-information ... NOTE
Packages listed in more than one of Depends, Imports, Suggests, Enhances:
‘regioneR’ ‘GenomicRanges’
A package should be listed in only one of these fields.
* checking top-level files ... OK
* checking for left-over files ... OK
* checking index information ... OK
* checking package subdirectories ... NOTE
Problems with news in ‘NEWS’:
Cannot process chunk/lines:
NEW FEATURES
Cannot process chunk/lines:
SIGNIFICANT USER-VISIBLE CHANGES
Cannot process chunk/lines:
NEW FEATURES
Cannot process chunk/lines:
SIGNIFICANT USER-VISIBLE CHANGES
* checking code files for non-ASCII characters ... OK
* checking R files for syntax errors ... OK
* checking whether the package can be loaded ... OK
* checking whether the package can be loaded with stated dependencies ... OK
* checking whether the package can be unloaded cleanly ... OK
* checking whether the namespace can be loaded with stated dependencies ... OK
* checking whether the namespace can be unloaded cleanly ... OK
* checking loading without being on the library search path ... OK
* checking whether startup messages can be suppressed ... OK
* checking use of S3 registration ... OK
* checking dependencies in R code ... OK
* checking S3 generic/method consistency ... OK
* checking replacement functions ... OK
* checking foreign function calls ... OK
* checking R code for possible problems ... OK
* checking Rd files ... NOTE
checkRd: (-1) kpPlotBAMCoverage.Rd:48: Lost braces
48 | There's more information at the \url{https://bernatgel.github.io/karyoploter_tutorial/}{karyoploteR tutorial}.
| ^
checkRd: (-1) kpPlotBAMDensity.Rd:48: Lost braces
48 | There's more information at the \url{https://bernatgel.github.io/karyoploter_tutorial/}{karyoploteR tutorial}.
| ^
checkRd: (-1) kpPlotCoverage.Rd:46: Lost braces
46 | There's more information at the \url{https://bernatgel.github.io/karyoploter_tutorial/}{karyoploteR tutorial}.
| ^
checkRd: (-1) kpPlotDensity.Rd:42: Lost braces
42 | There's more information at the \url{https://bernatgel.github.io/karyoploter_tutorial/}{karyoploteR tutorial}.
| ^
checkRd: (-1) kpPlotManhattan.Rd:80: Lost braces
80 | There's more information at the \url{https://bernatgel.github.io/karyoploter_tutorial/}{karyoploteR tutorial}.
| ^
checkRd: (-1) kpPlotMarkers.Rd:81: Lost braces
81 | There's more information at the \url{https://bernatgel.github.io/karyoploter_tutorial/}{karyoploteR tutorial}.
| ^
checkRd: (-1) kpPlotRainfall.Rd:47: Lost braces
47 | There's more information at the \url{https://bernatgel.github.io/karyoploter_tutorial/}{karyoploteR tutorial}.
| ^
checkRd: (-1) kpPoints.Rd:54: Lost braces
54 | There's more information at the \url{https://bernatgel.github.io/karyoploter_tutorial/}{karyoploteR tutorial}.
| ^
checkRd: (-1) kpRect.Rd:55: Lost braces
55 | There's more information at the \url{https://bernatgel.github.io/karyoploter_tutorial/}{karyoploteR tutorial}.
| ^
checkRd: (-1) plotKaryotype.Rd:61: Lost braces
61 | There's more information at the \url{https://bernatgel.github.io/karyoploter_tutorial/}{karyoploteR tutorial}.
| ^
* checking Rd metadata ... OK
* checking Rd cross-references ... NOTE
Found the following Rd file(s) with Rd \link{} targets missing package
anchors:
getCytobands.Rd: GenomicRanges, memoise, forget
kpPlotBAMCoverage.Rd: bamsignals
kpPlotBAMDensity.Rd: Rsamtools
kpPlotBigWig.Rd: BigWigFile
Please provide package anchors for all Rd \link{} targets not in the
package itself and the base packages.
* checking for missing documentation entries ... OK
* checking for code/documentation mismatches ... OK
* checking Rd \usage sections ... OK
* checking Rd contents ... OK
* checking for unstated dependencies in examples ... OK
* checking R/sysdata.rda ... OK
* checking files in ‘vignettes’ ... OK
* checking examples ... NOTE
Examples with CPU (user + system) or elapsed time > 5s
user system elapsed
mergeTranscripts 62.088 0.128 62.242
kpPlotGenes 47.306 0.138 47.734
kpPlotDensity 25.605 5.607 31.569
kpPlotHorizon 10.393 0.009 10.405
kpPlotRegions 9.333 0.092 9.426
kpPlotBAMCoverage 4.927 0.230 5.163
* checking for unstated dependencies in ‘tests’ ... OK
* checking tests ...
Running ‘testthat.R’
OK
* checking for unstated dependencies in vignettes ... OK
* checking package vignettes ... OK
* checking re-building of vignette outputs ... OK
* checking PDF version of manual ... OK
* DONE
Status: 6 NOTEs
See
‘/media/volume/teran2_disk/rapidbuild/bbs-3.23-bioc-rapid/meat/karyoploteR.Rcheck/00check.log’
for details.
karyoploteR.Rcheck/00install.out
############################################################################## ############################################################################## ### ### Running command: ### ### /home/rapidbuild/bbs-3.23-bioc-rapid/R/bin/R CMD INSTALL karyoploteR ### ############################################################################## ############################################################################## * installing to library ‘/media/volume/teran2_disk/rapidbuild/bbs-3.23-bioc-rapid/R/site-library’ * installing *source* package ‘karyoploteR’ ... ** this is package ‘karyoploteR’ version ‘1.37.0’ ** using staged installation ** R ** inst ** byte-compile and prepare package for lazy loading ** help *** installing help indices ** building package indices ** installing vignettes ** testing if installed package can be loaded from temporary location ** testing if installed package can be loaded from final location ** testing if installed package keeps a record of temporary installation path * DONE (karyoploteR)
karyoploteR.Rcheck/tests/testthat.Rout
R Under development (unstable) (2025-10-28 r88973) -- "Unsuffered Consequences"
Copyright (C) 2025 The R Foundation for Statistical Computing
Platform: x86_64-pc-linux-gnu
R is free software and comes with ABSOLUTELY NO WARRANTY.
You are welcome to redistribute it under certain conditions.
Type 'license()' or 'licence()' for distribution details.
R is a collaborative project with many contributors.
Type 'contributors()' for more information and
'citation()' on how to cite R or R packages in publications.
Type 'demo()' for some demos, 'help()' for on-line help, or
'help.start()' for an HTML browser interface to help.
Type 'q()' to quit R.
> library(testthat)
> library(karyoploteR)
Loading required package: regioneR
Loading required package: GenomicRanges
Loading required package: stats4
Loading required package: BiocGenerics
Loading required package: generics
Attaching package: 'generics'
The following objects are masked from 'package:base':
as.difftime, as.factor, as.ordered, intersect, is.element, setdiff,
setequal, union
Attaching package: 'BiocGenerics'
The following objects are masked from 'package:stats':
IQR, mad, sd, var, xtabs
The following objects are masked from 'package:base':
Filter, Find, Map, Position, Reduce, anyDuplicated, aperm, append,
as.data.frame, basename, cbind, colnames, dirname, do.call,
duplicated, eval, evalq, get, grep, grepl, is.unsorted, lapply,
mapply, match, mget, order, paste, pmax, pmax.int, pmin, pmin.int,
rank, rbind, rownames, sapply, saveRDS, table, tapply, unique,
unsplit, which.max, which.min
Loading required package: S4Vectors
Attaching package: 'S4Vectors'
The following object is masked from 'package:utils':
findMatches
The following objects are masked from 'package:base':
I, expand.grid, unname
Loading required package: IRanges
Loading required package: Seqinfo
>
> test_check("karyoploteR")
[ FAIL 0 | WARN 0 | SKIP 3 | PASS 177 ]
══ Skipped tests (3) ═══════════════════════════════════════════════════════════
• empty test (3): 'test_plotKaryotype.R:27:1', 'test_plotKaryotype.R:34:1',
'test_plotKaryotype.R:44:1'
[ FAIL 0 | WARN 0 | SKIP 3 | PASS 177 ]
>
> proc.time()
user system elapsed
14.345 1.000 15.330
karyoploteR.Rcheck/karyoploteR-Ex.timings
| name | user | system | elapsed | |
| addGeneNames | 4.318 | 0.128 | 4.456 | |
| autotrack | 0.001 | 0.000 | 0.001 | |
| colByCategory | 0.001 | 0.000 | 0.001 | |
| colByChr | 0.346 | 0.012 | 0.358 | |
| colByRegion | 0.694 | 0.157 | 0.861 | |
| colByValue | 0.128 | 0.000 | 0.131 | |
| darker | 0.001 | 0.000 | 0.001 | |
| filterParams | 0 | 0 | 0 | |
| findIntersections | 0.081 | 0.000 | 0.081 | |
| getChromosomeNamesBoundingBox | 0.035 | 0.001 | 0.035 | |
| getColorSchemas | 0.000 | 0.001 | 0.001 | |
| getCytobandColors | 0.001 | 0.000 | 0.001 | |
| getCytobands | 0.000 | 0.001 | 0.001 | |
| getDataPanelBoundingBox | 0.031 | 0.000 | 0.031 | |
| getDefaultPlotParams | 0.045 | 0.004 | 0.049 | |
| getMainTitleBoundingBox | 0.024 | 0.001 | 0.025 | |
| getTextSize | 0.053 | 0.000 | 0.053 | |
| getVariantsColors | 0.001 | 0.000 | 0.001 | |
| horizonColors | 0.002 | 0.000 | 0.002 | |
| is.color | 0 | 0 | 0 | |
| kpAbline | 0.674 | 0.028 | 0.872 | |
| kpAddBaseNumbers | 0.234 | 0.001 | 0.235 | |
| kpAddChromosomeNames | 0.025 | 0.000 | 0.024 | |
| kpAddChromosomeSeparators | 0.314 | 0.001 | 0.314 | |
| kpAddColorRect | 0.102 | 0.002 | 0.104 | |
| kpAddCytobandLabels | 0.281 | 0.001 | 0.283 | |
| kpAddCytobands | 0.024 | 0.000 | 0.025 | |
| kpAddCytobandsAsLine | 0.061 | 0.000 | 0.061 | |
| kpAddLabels | 0.301 | 0.000 | 0.301 | |
| kpAddMainTitle | 0.025 | 0.000 | 0.024 | |
| kpArea | 0.228 | 0.001 | 0.228 | |
| kpArrows | 0.398 | 0.001 | 0.399 | |
| kpAxis | 0.199 | 0.001 | 0.200 | |
| kpBars | 0.121 | 0.000 | 0.121 | |
| kpDataBackground | 0.146 | 0.001 | 0.147 | |
| kpHeatmap | 0.089 | 0.001 | 0.090 | |
| kpLines | 0.209 | 0.001 | 0.210 | |
| kpPlotBAMCoverage | 4.927 | 0.230 | 5.163 | |
| kpPlotBAMDensity | 1.192 | 0.016 | 1.208 | |
| kpPlotBigWig | 0.597 | 0.002 | 0.603 | |
| kpPlotCoverage | 0.274 | 0.001 | 0.275 | |
| kpPlotDensity | 25.605 | 5.607 | 31.569 | |
| kpPlotGenes | 47.306 | 0.138 | 47.734 | |
| kpPlotHorizon | 10.393 | 0.009 | 10.405 | |
| kpPlotLinks | 0.747 | 0.001 | 0.749 | |
| kpPlotLoess | 0.049 | 0.001 | 0.051 | |
| kpPlotManhattan | 3.461 | 0.040 | 3.501 | |
| kpPlotMarkers | 1.308 | 0.002 | 1.310 | |
| kpPlotNames | 0.087 | 0.001 | 0.088 | |
| kpPlotRainfall | 0.506 | 0.000 | 0.506 | |
| kpPlotRegions | 9.333 | 0.092 | 9.426 | |
| kpPlotRibbon | 0.056 | 0.002 | 0.058 | |
| kpPlotTranscripts | 4.240 | 0.002 | 4.243 | |
| kpPoints | 0.171 | 0.001 | 0.172 | |
| kpPolygon | 0.146 | 0.000 | 0.146 | |
| kpRect | 0.529 | 0.000 | 0.529 | |
| kpSegments | 0.353 | 0.000 | 0.353 | |
| kpText | 0.172 | 0.000 | 0.171 | |
| lighter | 0.001 | 0.000 | 0.000 | |
| makeGenesDataFromTxDb | 3.918 | 0.016 | 3.941 | |
| mergeTranscripts | 62.088 | 0.128 | 62.242 | |
| plotDefaultPlotParams | 0.144 | 0.001 | 0.145 | |
| plotKaryotype | 0.683 | 0.003 | 0.686 | |
| plotPalettes | 0.011 | 0.003 | 0.014 | |
| prepareParameters2 | 0.023 | 0.001 | 0.025 | |
| prepareParameters4 | 0.1 | 0.0 | 0.1 | |
| processClipping | 0.024 | 0.001 | 0.025 | |
| transparent | 0.000 | 0.000 | 0.001 | |