| Back to Long Tests report for BioC 3.22 |
This page was generated on 2025-10-18 23:55 -0400 (Sat, 18 Oct 2025).
| Hostname | OS | Arch (*) | R version | Installed pkgs |
|---|---|---|---|---|
| nebbiolo2 | Linux (Ubuntu 24.04.3 LTS) | x86_64 | 4.5.1 Patched (2025-08-23 r88802) -- "Great Square Root" | 4887 |
| lconway | macOS 12.7.6 Monterey | x86_64 | 4.5.1 Patched (2025-09-10 r88807) -- "Great Square Root" | 4677 |
| Click on any hostname to see more info about the system (e.g. compilers) (*) as reported by 'uname -p', except on Windows and Mac OS X | ||||
| Package 31/31 | Hostname | OS / Arch | CHECK | |||||||
| zellkonverter 1.19.2 (landing page) Luke Zappia
| nebbiolo2 | Linux (Ubuntu 24.04.3 LTS) / x86_64 | ERROR | |||||||
| lconway | macOS 12.7.6 Monterey / x86_64 | ERROR | ||||||||
|
To the developers/maintainers of the zellkonverter package: - Use the following Renviron settings to reproduce errors and warnings. - If 'R CMD check' started to fail recently on the Linux builder(s) over a missing dependency, add the missing dependency to 'Suggests:' in your DESCRIPTION file. See Renviron.bioc for more information. |
| Package: zellkonverter |
| Version: 1.19.2 |
| Command: /Library/Frameworks/R.framework/Resources/bin/R CMD check --test-dir=longtests --no-stop-on-test-error --no-codoc --no-examples --no-manual --ignore-vignettes --check-subdirs=no zellkonverter_1.19.2.tar.gz |
| StartedAt: 2025-10-18 16:12:51 -0400 (Sat, 18 Oct 2025) |
| EndedAt: 2025-10-18 16:22:35 -0400 (Sat, 18 Oct 2025) |
| EllapsedTime: 583.6 seconds |
| RetCode: 1 |
| Status: ERROR |
| CheckDir: zellkonverter.Rcheck |
| Warnings: NA |
zellkonverter.Rcheck/tests/testthat.Rout.fail
R version 4.5.1 Patched (2025-09-10 r88807) -- "Great Square Root"
Copyright (C) 2025 The R Foundation for Statistical Computing
Platform: x86_64-apple-darwin20
R is free software and comes with ABSOLUTELY NO WARRANTY.
You are welcome to redistribute it under certain conditions.
Type 'license()' or 'licence()' for distribution details.
R is a collaborative project with many contributors.
Type 'contributors()' for more information and
'citation()' on how to cite R or R packages in publications.
Type 'demo()' for some demos, 'help()' for on-line help, or
'help.start()' for an HTML browser interface to help.
Type 'q()' to quit R.
> library(testthat)
> library(zellkonverter)
Registered S3 method overwritten by 'zellkonverter':
method from
py_to_r.pandas.core.arrays.categorical.Categorical reticulate
>
> test_check("zellkonverter")
[ FAIL 6 | WARN 18 | SKIP 0 | PASS 70 ]
══ Failed tests ════════════════════════════════════════════════════════════════
── Error ('test-cellrank_pancreas.R:5:1'): (code run outside of `test_that()`) ──
Error in `bfcrpath(cache, "https://figshare.com/ndownloader/files/30683438")`: not all 'rnames' found or unique.
Backtrace:
▆
1. ├─BiocFileCache::bfcrpath(cache, "https://figshare.com/ndownloader/files/30683438") at test-cellrank_pancreas.R:5:1
2. └─BiocFileCache::bfcrpath(cache, "https://figshare.com/ndownloader/files/30683438")
── Error ('test-pegasus_marrow.R:5:1'): (code run outside of `test_that()`) ────
Error in `bfcrpath(cache, "https://figshare.com/ndownloader/files/30682400")`: not all 'rnames' found or unique.
Backtrace:
▆
1. ├─BiocFileCache::bfcrpath(cache, "https://figshare.com/ndownloader/files/30682400") at test-pegasus_marrow.R:5:1
2. └─BiocFileCache::bfcrpath(cache, "https://figshare.com/ndownloader/files/30682400")
── Error ('test-scanpy_trajectory.R:5:1'): (code run outside of `test_that()`) ──
Error in `bfcrpath(cache, "https://figshare.com/ndownloader/files/30594477")`: not all 'rnames' found or unique.
Backtrace:
▆
1. ├─BiocFileCache::bfcrpath(cache, "https://figshare.com/ndownloader/files/30594477") at test-scanpy_trajectory.R:5:1
2. └─BiocFileCache::bfcrpath(cache, "https://figshare.com/ndownloader/files/30594477")
── Error ('test-scvelo_pancreas.R:5:1'): (code run outside of `test_that()`) ───
Error in `bfcrpath(cache, "https://figshare.com/ndownloader/files/30595479")`: not all 'rnames' found or unique.
Backtrace:
▆
1. ├─BiocFileCache::bfcrpath(cache, "https://figshare.com/ndownloader/files/30595479") at test-scvelo_pancreas.R:5:1
2. └─BiocFileCache::bfcrpath(cache, "https://figshare.com/ndownloader/files/30595479")
── Error ('test-scvi_citeseq.R:5:1'): (code run outside of `test_that()`) ──────
Error in `bfcrpath(cache, "https://figshare.com/ndownloader/files/30612834")`: not all 'rnames' found or unique.
Backtrace:
▆
1. ├─BiocFileCache::bfcrpath(cache, "https://figshare.com/ndownloader/files/30612834") at test-scvi_citeseq.R:5:1
2. └─BiocFileCache::bfcrpath(cache, "https://figshare.com/ndownloader/files/30612834")
── Error ('test-squidpy_visium.R:5:1'): (code run outside of `test_that()`) ────
Error in `bfcrpath(cache, "https://figshare.com/ndownloader/files/30639279")`: not all 'rnames' found or unique.
Backtrace:
▆
1. ├─BiocFileCache::bfcrpath(cache, "https://figshare.com/ndownloader/files/30639279") at test-squidpy_visium.R:5:1
2. └─BiocFileCache::bfcrpath(cache, "https://figshare.com/ndownloader/files/30639279")
[ FAIL 6 | WARN 18 | SKIP 0 | PASS 70 ]
Error: Test failures
Execution halted
##############################################################################
##############################################################################
###
### Running command:
###
### /Library/Frameworks/R.framework/Resources/bin/R CMD check --test-dir=longtests --no-stop-on-test-error --no-codoc --no-examples --no-manual --ignore-vignettes --check-subdirs=no zellkonverter_1.19.2.tar.gz
###
##############################################################################
##############################################################################
* using log directory ‘/Users/biocbuild/bbs-3.22-bioc-longtests/meat/zellkonverter.Rcheck’
* using R version 4.5.1 Patched (2025-09-10 r88807)
* using platform: x86_64-apple-darwin20
* R was compiled by
Apple clang version 14.0.0 (clang-1400.0.29.202)
GNU Fortran (GCC) 14.2.0
* running under: macOS Monterey 12.7.6
* using session charset: UTF-8
* using options ‘--no-codoc --no-examples --no-manual --ignore-vignettes --no-stop-on-test-error’
* checking for file ‘zellkonverter/DESCRIPTION’ ... OK
* this is package ‘zellkonverter’ version ‘1.19.2’
* package encoding: UTF-8
* checking package namespace information ... OK
* checking package dependencies ... OK
* checking if this is a source package ... OK
* checking if there is a namespace ... OK
* checking for hidden files and directories ... OK
* checking for portable file names ... OK
* checking for sufficient/correct file permissions ... OK
* checking whether package ‘zellkonverter’ can be installed ... NOTE
Found the following notes/warnings:
Non-staged installation was used
See ‘/Users/biocbuild/bbs-3.22-bioc-longtests/meat/zellkonverter.Rcheck/00install.out’ for details.
* checking installed package size ... OK
* checking package directory ... OK
* checking DESCRIPTION meta-information ... OK
* checking top-level files ... OK
* checking for left-over files ... OK
* checking index information ... OK
* checking package subdirectories ... OK
* checking code files for non-ASCII characters ... OK
* checking R files for syntax errors ... OK
* checking whether the package can be loaded ... OK
* checking whether the package can be loaded with stated dependencies ... OK
* checking whether the package can be unloaded cleanly ... OK
* checking whether the namespace can be loaded with stated dependencies ... OK
* checking whether the namespace can be unloaded cleanly ... OK
* checking dependencies in R code ... OK
* checking S3 generic/method consistency ... OK
* checking replacement functions ... OK
* checking foreign function calls ... OK
* checking R code for possible problems ... OK
* checking Rd files ... OK
* checking Rd metadata ... OK
* checking Rd cross-references ... NOTE
Non-topic package-anchored link(s) in Rd file 'AnnData-Conversion.Rd':
‘[SingleCellExperiment:internals]{int_metadata()}’
Non-topic package-anchored link(s) in Rd file 'AnnData-Environment.Rd':
‘[basilisk:basiliskOptions]{basilisk::setBasiliskShared()}’
See section 'Cross-references' in the 'Writing R Extensions' manual.
* checking for missing documentation entries ... OK
* checking for code/documentation mismatches ... SKIPPED
* checking Rd \usage sections ... OK
* checking Rd contents ... OK
* checking for unstated dependencies in examples ... OK
* checking line endings in shell scripts ... OK
* checking files in ‘vignettes’ ... SKIPPED
* checking examples ... SKIPPED
* checking for unstated dependencies in ‘longtests’ ... OK
* checking tests in ‘longtests’ ...
Running ‘testthat.R’
ERROR
Running the tests in ‘longtests/testthat.R’ failed.
Last 13 lines of output:
Error in `bfcrpath(cache, "https://figshare.com/ndownloader/files/30612834")`: not all 'rnames' found or unique.
Backtrace:
▆
1. ├─BiocFileCache::bfcrpath(cache, "https://figshare.com/ndownloader/files/30612834") at test-scvi_citeseq.R:5:1
2. └─BiocFileCache::bfcrpath(cache, "https://figshare.com/ndownloader/files/30612834")
── Error ('test-squidpy_visium.R:5:1'): (code run outside of `test_that()`) ────
Error in `bfcrpath(cache, "https://figshare.com/ndownloader/files/30639279")`: not all 'rnames' found or unique.
Backtrace:
▆
1. ├─BiocFileCache::bfcrpath(cache, "https://figshare.com/ndownloader/files/30639279") at test-squidpy_visium.R:5:1
2. └─BiocFileCache::bfcrpath(cache, "https://figshare.com/ndownloader/files/30639279")
[ FAIL 6 | WARN 18 | SKIP 0 | PASS 70 ]
Error: Test failures
Execution halted
* DONE
Status: 1 ERROR, 2 NOTEs
See
‘/Users/biocbuild/bbs-3.22-bioc-longtests/meat/zellkonverter.Rcheck/00check.log’
for details.
zellkonverter.Rcheck/00install.out
* installing *source* package ‘zellkonverter’ ... ** this is package ‘zellkonverter’ version ‘1.19.2’ ** using non-staged installation via StagedInstall field ** R ** inst ** byte-compile and prepare package for lazy loading ** help *** installing help indices *** copying figures ** building package indices ** installing vignettes ** testing if installed package can be loaded * DONE (zellkonverter)