Back to Build/check report for BioC 3.23:   simplified   long
ABCDEFGHIJKLMNOPQRSTUV[W]XYZ

This page was generated on 2025-11-01 11:33 -0400 (Sat, 01 Nov 2025).

HostnameOSArch (*)R versionInstalled pkgs
nebbiolo1Linux (Ubuntu 24.04.3 LTS)x86_64R Under development (unstable) (2025-10-20 r88955) -- "Unsuffered Consequences" 4774
Click on any hostname to see more info about the system (e.g. compilers)      (*) as reported by 'uname -p', except on Windows and Mac OS X

Package 2293/2321HostnameOS / ArchINSTALLBUILDCHECKBUILD BIN
wavClusteR 2.45.0  (landing page)
Federico Comoglio
Snapshot Date: 2025-10-31 13:40 -0400 (Fri, 31 Oct 2025)
git_url: https://git.bioconductor.org/packages/wavClusteR
git_branch: devel
git_last_commit: f078fce
git_last_commit_date: 2025-10-29 10:19:50 -0400 (Wed, 29 Oct 2025)
nebbiolo1Linux (Ubuntu 24.04.3 LTS) / x86_64  ERROR    ERROR  skipped


INSTALL results for wavClusteR on nebbiolo1

To the developers/maintainers of the wavClusteR package:
- Allow up to 24 hours (and sometimes 48 hours) for your latest push to git@git.bioconductor.org:packages/wavClusteR.git to reflect on this report. See Troubleshooting Build Report for more information.
- Use the following Renviron settings to reproduce errors and warnings.
- If 'R CMD check' started to fail recently on the Linux builder(s) over a missing dependency, add the missing dependency to 'Suggests:' in your DESCRIPTION file. See Renviron.bioc for more information.

raw results


Summary

Package: wavClusteR
Version: 2.45.0
Command: /home/biocbuild/bbs-3.23-bioc/R/bin/R CMD INSTALL wavClusteR
StartedAt: 2025-10-31 15:52:58 -0400 (Fri, 31 Oct 2025)
EndedAt: 2025-10-31 15:53:09 -0400 (Fri, 31 Oct 2025)
EllapsedTime: 11.2 seconds
RetCode: 1
Status:   ERROR  

Command output

##############################################################################
##############################################################################
###
### Running command:
###
###   /home/biocbuild/bbs-3.23-bioc/R/bin/R CMD INSTALL wavClusteR
###
##############################################################################
##############################################################################


* installing to library ‘/home/biocbuild/bbs-3.23-bioc/R/site-library’
* installing *source* package ‘wavClusteR’ ...
** this is package ‘wavClusteR’ version ‘2.45.0’
** using staged installation
** R
** data
** inst
** byte-compile and prepare package for lazy loading
Error: object ‘supportedUCSCtables’ is not exported by 'namespace:GenomicFeatures'
Execution halted
ERROR: lazy loading failed for package ‘wavClusteR’
* removing ‘/home/biocbuild/bbs-3.23-bioc/R/site-library/wavClusteR’
* restoring previous ‘/home/biocbuild/bbs-3.23-bioc/R/site-library/wavClusteR’