Back to Multiple platform build/check report for BioC 3.23:   simplified   long
ABCDEFGHIJKLMNOPQRS[T]UVWXYZ

This page was generated on 2025-11-21 11:40 -0500 (Fri, 21 Nov 2025).

HostnameOSArch (*)R versionInstalled pkgs
nebbiolo1Linux (Ubuntu 24.04.3 LTS)x86_64R Under development (unstable) (2025-10-20 r88955) -- "Unsuffered Consequences" 4829
lconwaymacOS 12.7.6 Montereyx86_64R Under development (unstable) (2025-10-21 r88958) -- "Unsuffered Consequences" 4602
kjohnson3macOS 13.7.7 Venturaarm64R Under development (unstable) (2025-11-04 r88984) -- "Unsuffered Consequences" 4566
Click on any hostname to see more info about the system (e.g. compilers)      (*) as reported by 'uname -p', except on Windows and Mac OS X

Package 2213/2327HostnameOS / ArchINSTALLBUILDCHECKBUILD BIN
tradeSeq 1.25.0  (landing page)
Hector Roux de Bezieux
Snapshot Date: 2025-11-20 13:40 -0500 (Thu, 20 Nov 2025)
git_url: https://git.bioconductor.org/packages/tradeSeq
git_branch: devel
git_last_commit: 4e78622
git_last_commit_date: 2025-10-29 10:55:42 -0500 (Wed, 29 Oct 2025)
nebbiolo1Linux (Ubuntu 24.04.3 LTS) / x86_64  OK    OK    OK  UNNEEDED, same version is already published
lconwaymacOS 12.7.6 Monterey / x86_64  OK    OK    OK    OK  UNNEEDED, same version is already published
kjohnson3macOS 13.7.7 Ventura / arm64  OK    ERROR  skippedskipped


BUILD results for tradeSeq on kjohnson3

To the developers/maintainers of the tradeSeq package:
- Allow up to 24 hours (and sometimes 48 hours) for your latest push to git@git.bioconductor.org:packages/tradeSeq.git to reflect on this report. See Troubleshooting Build Report for more information.
- Use the following Renviron settings to reproduce errors and warnings.
- If 'R CMD check' started to fail recently on the Linux builder(s) over a missing dependency, add the missing dependency to 'Suggests:' in your DESCRIPTION file. See Renviron.bioc for more information.

raw results


Summary

Package: tradeSeq
Version: 1.25.0
Command: /Library/Frameworks/R.framework/Resources/bin/R CMD build --keep-empty-dirs --no-resave-data tradeSeq
StartedAt: 2025-11-20 17:59:48 -0500 (Thu, 20 Nov 2025)
EndedAt: 2025-11-20 18:02:19 -0500 (Thu, 20 Nov 2025)
EllapsedTime: 150.8 seconds
RetCode: 1
Status:   ERROR  
PackageFile: None
PackageFileSize: NA

Command output

##############################################################################
##############################################################################
###
### Running command:
###
###   /Library/Frameworks/R.framework/Resources/bin/R CMD build --keep-empty-dirs --no-resave-data tradeSeq
###
##############################################################################
##############################################################################


* checking for file ‘tradeSeq/DESCRIPTION’ ... OK
* preparing ‘tradeSeq’:
* checking DESCRIPTION meta-information ... OK
* installing the package (it is needed to build vignettes)
* creating vignettes ... ERROR
--- re-building ‘Monocle.Rmd’ using rmarkdown
--- finished re-building ‘Monocle.Rmd’

--- re-building ‘fitGAM.Rmd’ using rmarkdown
2025-11-20 18:00:08.976 R[20555:100876389] XType: Using static font registry.

Quitting from fitGAM.Rmd:152-159 [unnamed-chunk-8]
~~~~~~~~~~~~~~~~~~~~~~~~~~~~~~~~~~~~~~~~~~~~~~~~~~~~~~~~~~~~~~~~~~~~~~~~~~~~~~~~
<error/rlang_error>
Error in `reducer$value.cache[[as.character(idx)]] <- values`:
! wrong args for environment subassignment
---
Backtrace:
     ▆
  1. ├─tradeSeq::fitGAM(...)
  2. └─tradeSeq::fitGAM(...)
  3.   └─tradeSeq (local) .local(counts, ...)
  4.     └─tradeSeq:::.fitGAM(...)
  5.       ├─BiocParallel::bplapply(...)
  6.       └─BiocParallel::bplapply(...)
  7.         └─BiocParallel:::.bpinit(...)
  8.           ├─BiocParallel::bploop(...)
  9.           └─BiocParallel:::bploop.lapply(...)
 10.             └─BiocParallel:::.bploop_impl(...)
 11.               └─BiocParallel:::.collect_result(manager, reducer, progress, BPPARAM)
 12.                 ├─BiocParallel:::.reducer_add(reducer, njob, value)
 13.                 └─BiocParallel:::.reducer_add(reducer, njob, value)
~~~~~~~~~~~~~~~~~~~~~~~~~~~~~~~~~~~~~~~~~~~~~~~~~~~~~~~~~~~~~~~~~~~~~~~~~~~~~~~~

Error: processing vignette 'fitGAM.Rmd' failed with diagnostics:
wrong args for environment subassignment
--- failed re-building ‘fitGAM.Rmd’

--- re-building ‘multipleConditions.Rmd’ using rmarkdown
--- finished re-building ‘multipleConditions.Rmd’

--- re-building ‘tradeSeq.Rmd’ using rmarkdown
--- finished re-building ‘tradeSeq.Rmd’

SUMMARY: processing the following file failed:
  ‘fitGAM.Rmd’

Error: Vignette re-building failed.
Execution halted