| Back to Multiple platform build/check report for BioC 3.22: simplified long | 
 | 
This page was generated on 2025-08-15 12:07 -0400 (Fri, 15 Aug 2025).
| Hostname | OS | Arch (*) | R version | Installed pkgs | 
|---|---|---|---|---|
| nebbiolo2 | Linux (Ubuntu 24.04.3 LTS) | x86_64 | 4.5.1 (2025-06-13) -- "Great Square Root" | 4818 | 
| palomino8 | Windows Server 2022 Datacenter | x64 | 4.5.1 (2025-06-13 ucrt) -- "Great Square Root" | 4554 | 
| lconway | macOS 12.7.1 Monterey | x86_64 | 4.5.1 (2025-06-13) -- "Great Square Root" | 4595 | 
| kjohnson3 | macOS 13.7.7 Ventura | arm64 | 4.5.1 Patched (2025-06-14 r88325) -- "Great Square Root" | 4537 | 
| taishan | Linux (openEuler 24.03 LTS) | aarch64 | 4.5.0 (2025-04-11) -- "How About a Twenty-Six" | 4535 | 
| Click on any hostname to see more info about the system (e.g. compilers) (*) as reported by 'uname -p', except on Windows and Mac OS X | ||||
| Package 2182/2317 | Hostname | OS / Arch | INSTALL | BUILD | CHECK | BUILD BIN | ||||||||
| tkWidgets 1.87.0  (landing page) J. Zhang 
 | nebbiolo2 | Linux (Ubuntu 24.04.3 LTS) / x86_64 | OK | OK | OK |  | ||||||||
| palomino8 | Windows Server 2022 Datacenter / x64 | OK | OK | OK | OK |  | ||||||||
| lconway | macOS 12.7.1 Monterey / x86_64 | OK | OK | OK | OK |  | ||||||||
| kjohnson3 | macOS 13.7.7 Ventura / arm64 | OK | OK | OK | OK |  | ||||||||
| taishan | Linux (openEuler 24.03 LTS) / aarch64 | OK | OK | OK | ||||||||||
| To the developers/maintainers of the tkWidgets package: - Allow up to 24 hours (and sometimes 48 hours) for your latest push to git@git.bioconductor.org:packages/tkWidgets.git to reflect on this report. See Troubleshooting Build Report for more information. - Use the following Renviron settings to reproduce errors and warnings. - If 'R CMD check' started to fail recently on the Linux builder(s) over a missing dependency, add the missing dependency to 'Suggests:' in your DESCRIPTION file. See Renviron.bioc for more information. | 
| Package: tkWidgets | 
| Version: 1.87.0 | 
| Command: F:\biocbuild\bbs-3.22-bioc\R\bin\R.exe CMD check --no-multiarch --install=check:tkWidgets.install-out.txt --library=F:\biocbuild\bbs-3.22-bioc\R\library --no-vignettes --timings tkWidgets_1.87.0.tar.gz | 
| StartedAt: 2025-08-15 08:51:02 -0400 (Fri, 15 Aug 2025) | 
| EndedAt: 2025-08-15 08:52:02 -0400 (Fri, 15 Aug 2025) | 
| EllapsedTime: 60.0 seconds | 
| RetCode: 0 | 
| Status: OK | 
| CheckDir: tkWidgets.Rcheck | 
| Warnings: 0 | 
##############################################################################
##############################################################################
###
### Running command:
###
###   F:\biocbuild\bbs-3.22-bioc\R\bin\R.exe CMD check --no-multiarch --install=check:tkWidgets.install-out.txt --library=F:\biocbuild\bbs-3.22-bioc\R\library --no-vignettes --timings tkWidgets_1.87.0.tar.gz
###
##############################################################################
##############################################################################
* using log directory 'F:/biocbuild/bbs-3.22-bioc/meat/tkWidgets.Rcheck'
* using R version 4.5.1 (2025-06-13 ucrt)
* using platform: x86_64-w64-mingw32
* R was compiled by
    gcc.exe (GCC) 14.2.0
    GNU Fortran (GCC) 14.2.0
* running under: Windows Server 2022 x64 (build 20348)
* using session charset: UTF-8
* using option '--no-vignettes'
* checking for file 'tkWidgets/DESCRIPTION' ... OK
* this is package 'tkWidgets' version '1.87.0'
* checking package namespace information ... OK
* checking package dependencies ... OK
* checking if this is a source package ... OK
* checking if there is a namespace ... OK
* checking for hidden files and directories ... OK
* checking for portable file names ... OK
* checking whether package 'tkWidgets' can be installed ... OK
* checking installed package size ... OK
* checking package directory ... OK
* checking 'build' directory ... OK
* checking DESCRIPTION meta-information ... OK
* checking top-level files ... OK
* checking for left-over files ... OK
* checking index information ... OK
* checking package subdirectories ... OK
* checking code files for non-ASCII characters ... OK
* checking R files for syntax errors ... OK
* checking whether the package can be loaded ... OK
* checking whether the package can be loaded with stated dependencies ... OK
* checking whether the package can be unloaded cleanly ... OK
* checking whether the namespace can be loaded with stated dependencies ... OK
* checking whether the namespace can be unloaded cleanly ... OK
* checking whether startup messages can be suppressed ... OK
* checking dependencies in R code ... NOTE
'library' or 'require' calls to packages already attached by Depends:
  'DynDoc' 'methods' 'tools' 'widgetTools'
  Please remove these calls from your code.
'library' or 'require' call to 'Biobase' in package code.
  Please use :: or requireNamespace() instead.
  See section 'Suggested packages' in the 'Writing R Extensions' manual.
Packages in Depends field not imported from:
  'DynDoc' 'methods' 'tools' 'widgetTools'
  These packages need to be imported from (in the NAMESPACE file)
  for when this namespace is loaded but not attached.
* checking S3 generic/method consistency ... OK
* checking replacement functions ... OK
* checking foreign function calls ... OK
* checking R code for possible problems ... NOTE
File 'tkWidgets/R/zzz.R':
  .onLoad calls:
    require("methods", quietly = TRUE)
    require("widgetTools", quietly = TRUE)
    require("DynDoc", quietly = TRUE)
    require(Biobase)
Package startup functions should not change the search path.
See section 'Good practice' in '?.onAttach'.
.getPackNames: warning in .packages(all = TRUE): partial argument match
  of 'all' to 'all.available'
.popPackList: warning in .packages(all = TRUE): partial argument match
  of 'all' to 'all.available'
assignArgs: warning in assign("argsList", value, env = env): partial
  argument match of 'env' to 'envir'
assignLineData: warning in assign("lineData", lineData, env = env):
  partial argument match of 'env' to 'envir'
eExplorer : export: warning in assign(i, temp[[i]], env = .GlobalEnv):
  partial argument match of 'env' to 'envir'
fileWizard : view: warning in read.table(file = args$file, head =
  args$header, sep = args$sep, as.is = TRUE): partial argument match of
  'head' to 'header'
fileWizard : finish: warning in read.table(file = args$file, head =
  args$header, sep = args$sep, as.is = TRUE): partial argument match of
  'head' to 'header'
finish: warning in assign(dataName, dataFile, env = .GlobalEnv):
  partial argument match of 'env' to 'envir'
getRowNames: warning in read.table(file.name, sep = sep, nrow = 3,
  header = header, skip = skip): partial argument match of 'nrow' to
  'nrows'
objNameToList: warning in get(objNames[i], env = env): partial argument
  match of 'env' to 'envir'
objectBrowser : viewEnv: warning in ls(env = env, all = TRUE): partial
  argument match of 'env' to 'envir'
objectBrowser : viewEnv: warning in ls(env = env, all = TRUE): partial
  argument match of 'all' to 'all.names'
objectBrowser : doEnv: warning in ls(env = get(item)): partial argument
  match of 'env' to 'envir'
objectBrowser : up: warning in ls(env = get(selectedObj)): partial
  argument match of 'env' to 'envir'
viewVignette : export: warning in assign(i, temp[[i]], env =
  .GlobalEnv): partial argument match of 'env' to 'envir'
fileWizard : brows: no visible global function definition for 'tkcmd'
objNameToList: no visible global function definition for
  'package.contents'
vExplorer : write2VigList: no visible global function definition for
  'pkgVignettes'
Undefined global functions or variables:
  package.contents pkgVignettes tkcmd
* checking Rd files ... OK
* checking Rd metadata ... OK
* checking Rd cross-references ... NOTE
Non-topic package-anchored link(s) in Rd file 'importPhenoData.Rd':
  '[Biobase:class.AnnotatedDataFrame]{AnnotatedDataFrame-class}'
Non-topic package-anchored link(s) in Rd file 'tkMIAME.Rd':
  '[Biobase:class.AnnotatedDataFrame]{AnnotatedDataFrame}'
  '[Biobase:class.MIAME]{MIAME}'
Non-topic package-anchored link(s) in Rd file 'tkSampleNames.Rd':
  '[Biobase:class.AnnotatedDataFrame]{AnnotatedDataFrame-class}'
  '[Biobase:class.ExpressionSet]{ExpressionSet-class}'
Non-topic package-anchored link(s) in Rd file 'tkphenoData.Rd':
  '[Biobase:class.AnnotatedDataFrame]{AnnotatedDataFrame-class}'
See section 'Cross-references' in the 'Writing R Extensions' manual.
* checking for missing documentation entries ... OK
* checking for code/documentation mismatches ... OK
* checking Rd \usage sections ... OK
* checking Rd contents ... OK
* checking for unstated dependencies in examples ... OK
* checking sizes of PDF files under 'inst/doc' ... OK
* checking files in 'vignettes' ... OK
* checking examples ... OK
* checking for unstated dependencies in vignettes ... OK
* checking package vignettes ... OK
* checking running R code from vignettes ... SKIPPED
* checking re-building of vignette outputs ... SKIPPED
* checking PDF version of manual ... OK
* DONE
Status: 3 NOTEs
See
  'F:/biocbuild/bbs-3.22-bioc/meat/tkWidgets.Rcheck/00check.log'
for details.
tkWidgets.Rcheck/00install.out
############################################################################## ############################################################################## ### ### Running command: ### ### F:\biocbuild\bbs-3.22-bioc\R\bin\R.exe CMD INSTALL tkWidgets ### ############################################################################## ############################################################################## * installing to library 'F:/biocbuild/bbs-3.22-bioc/R/library' * installing *source* package 'tkWidgets' ... ** this is package 'tkWidgets' version '1.87.0' ** using staged installation ** R ** inst ** byte-compile and prepare package for lazy loading ** help *** installing help indices ** building package indices ** installing vignettes ** testing if installed package can be loaded from temporary location ** testing if installed package can be loaded from final location ** testing if installed package keeps a record of temporary installation path * DONE (tkWidgets)
tkWidgets.Rcheck/tkWidgets-Ex.timings
| name | user | system | elapsed | |
| DPExplorer | 0 | 0 | 0 | |
| WName | 0 | 0 | 0 | |
| appendSepDir | 0.01 | 0.00 | 0.02 | |
| args2XML | 0.00 | 0.02 | 0.04 | |
| argsWidget | 0 | 0 | 0 | |
| colInfo-class | 0 | 0 | 0 | |
| dataViewer | 0 | 0 | 0 | |
| dbArgsWidget | 0 | 0 | 0 | |
| eExplorer | 0 | 0 | 0 | |
| fileBrowser | 0 | 0 | 0 | |
| fileWizard | 0 | 0 | 0 | |
| getLightTW | 0 | 0 | 0 | |
| getWvalues | 0 | 0 | 0 | |
| guess.sep | 0.00 | 0.00 | 0.01 | |
| hasChar | 0 | 0 | 0 | |
| importPhenoData | 0 | 0 | 0 | |
| importWizard | 0 | 0 | 0 | |
| listSelect | 0 | 0 | 0 | |
| objNameToList | 0 | 0 | 0 | |
| objViewer | 0.00 | 0.01 | 0.01 | |
| objectBrowser | 0 | 0 | 0 | |
| pExplorer | 0.40 | 0.41 | 0.97 | |
| pickFiles | 0 | 0 | 0 | |
| pickItems | 0 | 0 | 0 | |
| pickObjs | 0 | 0 | 0 | |
| setArgsList | 0 | 0 | 0 | |
| stdType | 0 | 0 | 0 | |
| vExplorer | 0 | 0 | 0 | |
| values.Widget | 0 | 0 | 0 | |
| widgetRender | 0 | 0 | 0 | |