| Back to Multiple platform build/check report for BioC 3.23: simplified long |
|
This page was generated on 2025-11-27 11:38 -0500 (Thu, 27 Nov 2025).
| Hostname | OS | Arch (*) | R version | Installed pkgs |
|---|---|---|---|---|
| nebbiolo1 | Linux (Ubuntu 24.04.3 LTS) | x86_64 | R Under development (unstable) (2025-10-20 r88955) -- "Unsuffered Consequences" | 4865 |
| lconway | macOS 12.7.6 Monterey | x86_64 | R Under development (unstable) (2025-10-21 r88958) -- "Unsuffered Consequences" | 4614 |
| kjohnson3 | macOS 13.7.7 Ventura | arm64 | R Under development (unstable) (2025-11-04 r88984) -- "Unsuffered Consequences" | 4571 |
| Click on any hostname to see more info about the system (e.g. compilers) (*) as reported by 'uname -p', except on Windows and Mac OS X | ||||
| Package 2117/2328 | Hostname | OS / Arch | INSTALL | BUILD | CHECK | BUILD BIN | ||||||||
| structToolbox 1.23.0 (landing page) Gavin Rhys Lloyd
| nebbiolo1 | Linux (Ubuntu 24.04.3 LTS) / x86_64 | OK | OK | OK | |||||||||
| lconway | macOS 12.7.6 Monterey / x86_64 | OK | OK | OK | OK | |||||||||
| kjohnson3 | macOS 13.7.7 Ventura / arm64 | OK | OK | OK | OK | |||||||||
|
To the developers/maintainers of the structToolbox package: - Allow up to 24 hours (and sometimes 48 hours) for your latest push to git@git.bioconductor.org:packages/structToolbox.git to reflect on this report. See Troubleshooting Build Report for more information. - Use the following Renviron settings to reproduce errors and warnings. - If 'R CMD check' started to fail recently on the Linux builder(s) over a missing dependency, add the missing dependency to 'Suggests:' in your DESCRIPTION file. See Renviron.bioc for more information. |
| Package: structToolbox |
| Version: 1.23.0 |
| Command: /home/biocbuild/bbs-3.23-bioc/R/bin/R CMD check --install=check:structToolbox.install-out.txt --library=/home/biocbuild/bbs-3.23-bioc/R/site-library --timings structToolbox_1.23.0.tar.gz |
| StartedAt: 2025-11-27 04:34:02 -0500 (Thu, 27 Nov 2025) |
| EndedAt: 2025-11-27 04:52:46 -0500 (Thu, 27 Nov 2025) |
| EllapsedTime: 1124.4 seconds |
| RetCode: 0 |
| Status: OK |
| CheckDir: structToolbox.Rcheck |
| Warnings: 0 |
##############################################################################
##############################################################################
###
### Running command:
###
### /home/biocbuild/bbs-3.23-bioc/R/bin/R CMD check --install=check:structToolbox.install-out.txt --library=/home/biocbuild/bbs-3.23-bioc/R/site-library --timings structToolbox_1.23.0.tar.gz
###
##############################################################################
##############################################################################
* using log directory ‘/home/biocbuild/bbs-3.23-bioc/meat/structToolbox.Rcheck’
* using R Under development (unstable) (2025-10-20 r88955)
* using platform: x86_64-pc-linux-gnu
* R was compiled by
gcc (Ubuntu 13.3.0-6ubuntu2~24.04) 13.3.0
GNU Fortran (Ubuntu 13.3.0-6ubuntu2~24.04) 13.3.0
* running under: Ubuntu 24.04.3 LTS
* using session charset: UTF-8
* checking for file ‘structToolbox/DESCRIPTION’ ... OK
* checking extension type ... Package
* this is package ‘structToolbox’ version ‘1.23.0’
* package encoding: UTF-8
* checking package namespace information ... OK
* checking package dependencies ... OK
* checking if this is a source package ... OK
* checking if there is a namespace ... OK
* checking for hidden files and directories ... OK
* checking for portable file names ... OK
* checking for sufficient/correct file permissions ... OK
* checking whether package ‘structToolbox’ can be installed ... OK
* checking installed package size ... OK
* checking package directory ... OK
* checking ‘build’ directory ... OK
* checking DESCRIPTION meta-information ... OK
* checking top-level files ... OK
* checking for left-over files ... OK
* checking index information ... OK
* checking package subdirectories ... OK
* checking code files for non-ASCII characters ... OK
* checking R files for syntax errors ... OK
* checking whether the package can be loaded ... OK
* checking whether the package can be loaded with stated dependencies ... OK
* checking whether the package can be unloaded cleanly ... OK
* checking whether the namespace can be loaded with stated dependencies ... OK
* checking whether the namespace can be unloaded cleanly ... OK
* checking loading without being on the library search path ... OK
* checking dependencies in R code ... OK
* checking S3 generic/method consistency ... OK
* checking replacement functions ... OK
* checking foreign function calls ... OK
* checking R code for possible problems ... OK
* checking Rd files ... OK
* checking Rd metadata ... OK
* checking Rd cross-references ... OK
* checking for missing documentation entries ... OK
* checking for code/documentation mismatches ... OK
* checking Rd \usage sections ... OK
* checking Rd contents ... OK
* checking for unstated dependencies in examples ... OK
* checking R/sysdata.rda ... OK
* checking files in ‘vignettes’ ... OK
* checking examples ... OK
Examples with CPU (user + system) or elapsed time > 5s
user system elapsed
fold_change_int 16.419 0.028 16.450
fold_change 11.004 0.068 11.074
fisher_exact 9.984 0.055 10.040
fs_line 7.070 0.343 7.413
forward_selection_by_rank 6.119 0.054 6.174
compare_dist 5.834 0.083 5.918
* checking for unstated dependencies in ‘tests’ ... OK
* checking tests ...
Running ‘testthat.R’
OK
* checking for unstated dependencies in vignettes ... OK
* checking package vignettes ... OK
* checking re-building of vignette outputs ... OK
* checking PDF version of manual ... OK
* DONE
Status: OK
structToolbox.Rcheck/00install.out
############################################################################## ############################################################################## ### ### Running command: ### ### /home/biocbuild/bbs-3.23-bioc/R/bin/R CMD INSTALL structToolbox ### ############################################################################## ############################################################################## * installing to library ‘/home/biocbuild/bbs-3.23-bioc/R/site-library’ * installing *source* package ‘structToolbox’ ... ** this is package ‘structToolbox’ version ‘1.23.0’ ** using staged installation ** R ** inst ** byte-compile and prepare package for lazy loading ** help *** installing help indices ** building package indices ** installing vignettes ** testing if installed package can be loaded from temporary location ** testing if installed package can be loaded from final location ** testing if installed package keeps a record of temporary installation path * DONE (structToolbox)
structToolbox.Rcheck/tests/testthat.Rout
R Under development (unstable) (2025-10-20 r88955) -- "Unsuffered Consequences"
Copyright (C) 2025 The R Foundation for Statistical Computing
Platform: x86_64-pc-linux-gnu
R is free software and comes with ABSOLUTELY NO WARRANTY.
You are welcome to redistribute it under certain conditions.
Type 'license()' or 'licence()' for distribution details.
R is a collaborative project with many contributors.
Type 'contributors()' for more information and
'citation()' on how to cite R or R packages in publications.
Type 'demo()' for some demos, 'help()' for on-line help, or
'help.start()' for an HTML browser interface to help.
Type 'q()' to quit R.
> library(testthat)
> library(ggplot2)
> library(structToolbox)
Loading required package: struct
>
> test_check("structToolbox")
[ FAIL 0 | WARN 6 | SKIP 0 | PASS 166 ]
[ FAIL 0 | WARN 6 | SKIP 0 | PASS 166 ]
>
> proc.time()
user system elapsed
183.904 2.957 186.920
structToolbox.Rcheck/structToolbox-Ex.timings
| name | user | system | elapsed | |
| ANOVA | 0.211 | 0.002 | 0.214 | |
| AUC | 2.208 | 0.071 | 2.280 | |
| DFA | 0.190 | 0.002 | 0.192 | |
| DatasetExperiment_boxplot | 1.015 | 0.011 | 1.026 | |
| DatasetExperiment_dist | 2.576 | 0.028 | 2.604 | |
| DatasetExperiment_factor_boxplot | 0.342 | 0.000 | 0.342 | |
| DatasetExperiment_heatmap | 0.620 | 0.002 | 0.621 | |
| HCA | 0.071 | 0.000 | 0.071 | |
| HSD | 0.312 | 0.003 | 0.319 | |
| HSDEM | 0.290 | 0.001 | 0.290 | |
| MTBLS79_DatasetExperiment | 0.000 | 0.001 | 0.001 | |
| OPLSDA | 0.012 | 0.000 | 0.012 | |
| OPLSR | 0.008 | 0.000 | 0.008 | |
| PCA | 0.004 | 0.000 | 0.005 | |
| PLSDA | 0.011 | 0.001 | 0.012 | |
| PLSR | 0.009 | 0.000 | 0.010 | |
| SVM | 0.022 | 0.000 | 0.022 | |
| as_data_frame | 0.132 | 0.001 | 0.132 | |
| autoscale | 0.079 | 0.000 | 0.080 | |
| balanced_accuracy | 1.987 | 0.007 | 1.994 | |
| blank_filter | 0.396 | 0.006 | 0.402 | |
| blank_filter_hist | 0.001 | 0.000 | 0.001 | |
| bootstrap | 0.011 | 0.000 | 0.010 | |
| calculate | 0.023 | 0.000 | 0.023 | |
| chart_plot | 0.030 | 0.001 | 0.031 | |
| classical_lsq | 0.292 | 0.001 | 0.295 | |
| compare_dist | 5.834 | 0.083 | 5.918 | |
| confounders_clsq | 3.003 | 0.004 | 3.008 | |
| confounders_lsq_barchart | 3.401 | 0.008 | 3.411 | |
| confounders_lsq_boxplot | 3.247 | 0.084 | 3.331 | |
| constant_sum_norm | 0.009 | 0.000 | 0.009 | |
| corr_coef | 0.263 | 0.004 | 0.266 | |
| dfa_scores_plot | 1.004 | 0.009 | 1.013 | |
| dratio_filter | 0.264 | 0.000 | 0.263 | |
| equal_split | 0.126 | 0.003 | 0.129 | |
| feature_boxplot | 0.027 | 0.000 | 0.028 | |
| feature_profile | 0.536 | 0.003 | 0.540 | |
| feature_profile_array | 0.700 | 0.006 | 0.706 | |
| filter_by_name | 0.032 | 0.000 | 0.031 | |
| filter_na_count | 0.958 | 0.000 | 0.957 | |
| filter_smeta | 0.059 | 0.000 | 0.059 | |
| fisher_exact | 9.984 | 0.055 | 10.040 | |
| fold_change | 11.004 | 0.068 | 11.074 | |
| fold_change_int | 16.419 | 0.028 | 16.450 | |
| fold_change_plot | 0.007 | 0.000 | 0.007 | |
| forward_selection_by_rank | 6.119 | 0.054 | 6.174 | |
| fs_line | 7.070 | 0.343 | 7.413 | |
| glog_opt_plot | 0.592 | 0.000 | 0.593 | |
| glog_transform | 0.299 | 0.000 | 0.299 | |
| grid_search_1d | 3.409 | 0.026 | 3.434 | |
| gs_line | 0.000 | 0.000 | 0.001 | |
| hca_dendrogram | 0 | 0 | 0 | |
| kfold_xval | 3.448 | 0.013 | 3.465 | |
| kfoldxcv_grid | 3.897 | 0.007 | 3.905 | |
| kfoldxcv_metric | 0.001 | 0.000 | 0.001 | |
| knn_impute | 0.012 | 0.000 | 0.013 | |
| kw_p_hist | 0.000 | 0.001 | 0.001 | |
| kw_rank_sum | 0.075 | 0.000 | 0.075 | |
| linear_model | 0.031 | 0.000 | 0.031 | |
| log_transform | 0.006 | 0.001 | 0.007 | |
| mean_centre | 0.003 | 0.000 | 0.003 | |
| mean_of_medians | 0.113 | 0.000 | 0.113 | |
| mixed_effect | 0.207 | 0.001 | 0.208 | |
| model_apply | 0.024 | 0.001 | 0.025 | |
| model_predict | 0.052 | 0.001 | 0.054 | |
| model_reverse | 0.024 | 0.001 | 0.025 | |
| model_train | 0.049 | 0.002 | 0.051 | |
| mv_boxplot | 0.426 | 0.000 | 0.426 | |
| mv_feature_filter | 0.124 | 0.000 | 0.123 | |
| mv_feature_filter_hist | 0.000 | 0.001 | 0.001 | |
| mv_histogram | 0.353 | 0.000 | 0.353 | |
| mv_sample_filter | 0.009 | 0.000 | 0.009 | |
| mv_sample_filter_hist | 0.001 | 0.000 | 0.001 | |
| nroot_transform | 0.006 | 0.000 | 0.007 | |
| ontology_cache | 0.000 | 0.001 | 0.000 | |
| pairs_filter | 0.009 | 0.000 | 0.009 | |
| pareto_scale | 0.063 | 0.000 | 0.063 | |
| pca_biplot | 0.016 | 0.000 | 0.017 | |
| pca_correlation_plot | 0.007 | 0.000 | 0.007 | |
| pca_dstat_plot | 0.01 | 0.00 | 0.01 | |
| pca_loadings_plot | 0.01 | 0.00 | 0.01 | |
| pca_scores_plot | 0.726 | 0.002 | 0.729 | |
| pca_scree_plot | 0.007 | 0.000 | 0.007 | |
| permutation_test | 0.01 | 0.00 | 0.01 | |
| permutation_test_plot | 0.002 | 0.000 | 0.003 | |
| permute_sample_order | 0.006 | 0.001 | 0.007 | |
| pls_regcoeff_plot | 0.486 | 0.001 | 0.487 | |
| pls_scores_plot | 0.875 | 0.003 | 0.878 | |
| pls_vip_plot | 0.489 | 0.000 | 0.489 | |
| plsda_feature_importance_plot | 0.853 | 0.001 | 0.854 | |
| plsda_predicted_plot | 0.585 | 0.003 | 0.588 | |
| plsda_roc_plot | 1.187 | 0.004 | 1.191 | |
| plsr_cook_dist | 0.006 | 0.000 | 0.007 | |
| plsr_prediction_plot | 0.006 | 0.000 | 0.006 | |
| plsr_qq_plot | 0.006 | 0.000 | 0.006 | |
| plsr_residual_hist | 0.006 | 0.000 | 0.005 | |
| pqn_norm | 0.347 | 0.001 | 0.348 | |
| pqn_norm_hist | 0.001 | 0.000 | 0.001 | |
| prop_na | 0.010 | 0.000 | 0.009 | |
| r_squared | 0.000 | 0.000 | 0.001 | |
| resample | 0.015 | 0.000 | 0.015 | |
| resample_chart | 0.002 | 0.000 | 0.003 | |
| rsd_filter | 0.013 | 0.000 | 0.014 | |
| rsd_filter_hist | 0.001 | 0.001 | 0.001 | |
| run | 0.028 | 0.001 | 0.030 | |
| sb_corr | 0.025 | 0.001 | 0.026 | |
| scatter_chart | 0.554 | 0.000 | 0.555 | |
| split_data | 0.006 | 0.000 | 0.007 | |
| stratified_split | 0.111 | 0.000 | 0.111 | |
| svm_plot_2d | 0.827 | 0.003 | 0.830 | |
| tSNE | 0.024 | 0.001 | 0.026 | |
| tSNE_scatter | 0.008 | 0.000 | 0.008 | |
| tic_chart | 0.366 | 0.001 | 0.367 | |
| ttest | 0.022 | 0.000 | 0.022 | |
| vec_norm | 0.000 | 0.001 | 0.001 | |
| wilcox_p_hist | 0.001 | 0.000 | 0.001 | |
| wilcox_test | 0.018 | 0.000 | 0.018 | |