Back to Multiple platform build/check report for BioC 3.22:   simplified   long
ABCDEFGHIJKLMNOPQR[S]TUVWXYZ

This page was generated on 2025-10-11 12:07 -0400 (Sat, 11 Oct 2025).

HostnameOSArch (*)R versionInstalled pkgs
nebbiolo2Linux (Ubuntu 24.04.3 LTS)x86_644.5.1 Patched (2025-08-23 r88802) -- "Great Square Root" 4864
lconwaymacOS 12.7.1 Montereyx86_644.5.1 Patched (2025-09-10 r88807) -- "Great Square Root" 4652
kjohnson3macOS 13.7.7 Venturaarm644.5.1 Patched (2025-09-10 r88807) -- "Great Square Root" 4597
taishanLinux (openEuler 24.03 LTS)aarch644.5.0 (2025-04-11) -- "How About a Twenty-Six" 4586
Click on any hostname to see more info about the system (e.g. compilers)      (*) as reported by 'uname -p', except on Windows and Mac OS X

Package 2057/2346HostnameOS / ArchINSTALLBUILDCHECKBUILD BIN
sparrow 1.15.0  (landing page)
Steve Lianoglou
Snapshot Date: 2025-10-10 13:45 -0400 (Fri, 10 Oct 2025)
git_url: https://git.bioconductor.org/packages/sparrow
git_branch: devel
git_last_commit: fd4225d
git_last_commit_date: 2025-04-15 12:39:51 -0400 (Tue, 15 Apr 2025)
nebbiolo2Linux (Ubuntu 24.04.3 LTS) / x86_64  OK    OK    OK  UNNEEDED, same version is already published
lconwaymacOS 12.7.1 Monterey / x86_64  OK    OK    OK    OK  UNNEEDED, same version is already published
kjohnson3macOS 13.7.7 Ventura / arm64  OK    OK    OK    OK  UNNEEDED, same version is already published
taishanLinux (openEuler 24.03 LTS) / aarch64  OK    OK    OK  


CHECK results for sparrow on taishan

To the developers/maintainers of the sparrow package:
- Allow up to 24 hours (and sometimes 48 hours) for your latest push to git@git.bioconductor.org:packages/sparrow.git to reflect on this report. See Troubleshooting Build Report for more information.
- Use the following Renviron settings to reproduce errors and warnings.
- If 'R CMD check' started to fail recently on the Linux builder(s) over a missing dependency, add the missing dependency to 'Suggests:' in your DESCRIPTION file. See Renviron.bioc for more information.
- See Martin Grigorov's blog post for how to debug Linux ARM64 related issues on a x86_64 host.

raw results


Summary

Package: sparrow
Version: 1.15.0
Command: /home/biocbuild/R/R/bin/R CMD check --install=check:sparrow.install-out.txt --library=/home/biocbuild/R/R/site-library --no-vignettes --timings sparrow_1.15.0.tar.gz
StartedAt: 2025-10-10 13:54:45 -0000 (Fri, 10 Oct 2025)
EndedAt: 2025-10-10 14:09:39 -0000 (Fri, 10 Oct 2025)
EllapsedTime: 893.8 seconds
RetCode: 0
Status:   OK  
CheckDir: sparrow.Rcheck
Warnings: 0

Command output

##############################################################################
##############################################################################
###
### Running command:
###
###   /home/biocbuild/R/R/bin/R CMD check --install=check:sparrow.install-out.txt --library=/home/biocbuild/R/R/site-library --no-vignettes --timings sparrow_1.15.0.tar.gz
###
##############################################################################
##############################################################################


* using log directory ‘/home/biocbuild/bbs-3.22-bioc/meat/sparrow.Rcheck’
* using R version 4.5.0 (2025-04-11)
* using platform: aarch64-unknown-linux-gnu
* R was compiled by
    aarch64-unknown-linux-gnu-gcc (GCC) 14.2.0
    GNU Fortran (GCC) 14.2.0
* running under: openEuler 24.03 (LTS)
* using session charset: UTF-8
* using option ‘--no-vignettes’
* checking for file ‘sparrow/DESCRIPTION’ ... OK
* checking extension type ... Package
* this is package ‘sparrow’ version ‘1.15.0’
* package encoding: UTF-8
* checking package namespace information ... OK
* checking package dependencies ... OK
* checking if this is a source package ... OK
* checking if there is a namespace ... OK
* checking for hidden files and directories ... OK
* checking for portable file names ... OK
* checking for sufficient/correct file permissions ... OK
* checking whether package ‘sparrow’ can be installed ... OK
* checking installed package size ... OK
* checking package directory ... OK
* checking ‘build’ directory ... OK
* checking DESCRIPTION meta-information ... NOTE
License stub is invalid DCF.
* checking top-level files ... OK
* checking for left-over files ... OK
* checking index information ... OK
* checking package subdirectories ... OK
* checking code files for non-ASCII characters ... OK
* checking R files for syntax errors ... OK
* checking whether the package can be loaded ... OK
* checking whether the package can be loaded with stated dependencies ... OK
* checking whether the package can be unloaded cleanly ... OK
* checking whether the namespace can be loaded with stated dependencies ... OK
* checking whether the namespace can be unloaded cleanly ... OK
* checking loading without being on the library search path ... OK
* checking whether startup messages can be suppressed ... OK
* checking dependencies in R code ... OK
* checking S3 generic/method consistency ... OK
* checking replacement functions ... OK
* checking foreign function calls ... OK
* checking R code for possible problems ... NOTE
.map_ids_orthogene: no visible binding for global variable ‘gspecies’
.map_ids_orthogene: no visible binding for global variable ‘species’
.map_ids_orthogene: no visible binding for global variable ‘input_ensg’
.map_ids_orthogene: no visible binding for global variable
  ‘ortholog_ensg’
.map_ids_orthogene: no visible binding for global variable
  ‘ortholog_gene’
.map_ids_orthogene: no visible binding for global variable ‘symbol’
.map_ids_orthogene: no visible binding for global variable ‘input_id’
.map_ids_orthogene: no visible global function definition for
  ‘starts_with’
.map_ids_orthogene: no visible global function definition for
  ‘last_col’
.map_ids_orthogene: no visible binding for global variable ‘rm_na’
geneSetsStats: no visible binding for global variable ‘direction’
getMSigGeneSetDb: no visible binding for global variable ‘ncbi_gene’
getMSigGeneSetDb: no visible binding for global variable ‘db_species’
getMSigGeneSetDb: no visible binding for global variable
  ‘msigdb_collection’
getMSigGeneSetDb: no visible binding for global variable ‘gene_symbol’
getMSigGeneSetDb: no visible binding for global variable
  ‘gs_collection_name’
getMSigGeneSetDb: no visible binding for global variable ‘gs_url’
convertIdentifiers,GeneSetDb: no visible binding for global variable
  ‘.convert_ids_with_babelgene’
convertIdentifiers,GeneSetDb: no visible global function definition for
  ‘.map_ids_babelgene’
Undefined global functions or variables:
  .convert_ids_with_babelgene .map_ids_babelgene db_species direction
  gene_symbol gs_collection_name gs_url gspecies input_ensg input_id
  last_col msigdb_collection ncbi_gene ortholog_ensg ortholog_gene
  rm_na species starts_with symbol
* checking Rd files ... OK
* checking Rd metadata ... OK
* checking Rd cross-references ... NOTE
Non-topic package-anchored link(s) in Rd file 'GeneSetDb-class.Rd':
  ‘[GSEABase:GeneIdentifierType-constructors]{GSEABase::EntrezIdentifier()}’

Non-topic package-anchored link(s) in Rd file 'calculateIndividualLogFC.Rd':
  ‘[limma:ebayes]{limma::eBayes()}’

Non-topic package-anchored link(s) in Rd file 'collectionMetadata.Rd':
  ‘[GSEABase:GeneIdentifierType-constructors]{GSEABase::EntrezIdentifier()}’

Non-topic package-anchored link(s) in Rd file 'seas.Rd':
  ‘[limma:toptable]{limma::topTable()}’
  ‘[limma:dupcor]{limma::duplicateCorrelation()}’

See section 'Cross-references' in the 'Writing R Extensions' manual.

Found the following Rd file(s) with Rd \link{} targets missing package
anchors:
  seas.Rd: BiocParallel
Please provide package anchors for all Rd \link{} targets not in the
package itself and the base packages.
* checking for missing documentation entries ... OK
* checking for code/documentation mismatches ... OK
* checking Rd \usage sections ... OK
* checking Rd contents ... OK
* checking for unstated dependencies in examples ... OK
* checking line endings in Makefiles ... OK
* checking for GNU extensions in Makefiles ... OK
* checking include directives in Makefiles ... OK
* checking files in ‘vignettes’ ... OK
* checking examples ... OK
Examples with CPU (user + system) or elapsed time > 5s
                            user system elapsed
scoreSingleSamples        13.113  0.145  21.001
goseq                      9.511  0.360  12.500
seas                       6.838  0.195   8.762
eigenWeightedMean          6.284  0.185  11.585
geneSetsStats              6.125  0.200   8.855
annotateGeneSetMembership  5.144  0.264   7.972
SparrowResult-utilities    4.838  0.329   7.844
logFC                      3.874  0.150   5.701
* checking for unstated dependencies in ‘tests’ ... OK
* checking tests ...
  Running ‘testthat.R’
 OK
* checking for unstated dependencies in vignettes ... OK
* checking package vignettes ... OK
* checking running R code from vignettes ... SKIPPED
* checking re-building of vignette outputs ... SKIPPED
* checking PDF version of manual ... OK
* DONE

Status: 3 NOTEs
See
  ‘/home/biocbuild/bbs-3.22-bioc/meat/sparrow.Rcheck/00check.log’
for details.


Installation output

sparrow.Rcheck/00install.out

##############################################################################
##############################################################################
###
### Running command:
###
###   /home/biocbuild/R/R/bin/R CMD INSTALL sparrow
###
##############################################################################
##############################################################################


* installing to library ‘/home/biocbuild/R/R-4.5.0/site-library’
* installing *source* package ‘sparrow’ ...
** this is package ‘sparrow’ version ‘1.15.0’
** using staged installation
** R
** inst
** byte-compile and prepare package for lazy loading
** help
*** installing help indices
*** copying figures
** building package indices
** installing vignettes
** testing if installed package can be loaded from temporary location
** testing if installed package can be loaded from final location
** testing if installed package keeps a record of temporary installation path
* DONE (sparrow)

Tests output

sparrow.Rcheck/tests/testthat.Rout


R version 4.5.0 (2025-04-11) -- "How About a Twenty-Six"
Copyright (C) 2025 The R Foundation for Statistical Computing
Platform: aarch64-unknown-linux-gnu

R is free software and comes with ABSOLUTELY NO WARRANTY.
You are welcome to redistribute it under certain conditions.
Type 'license()' or 'licence()' for distribution details.

R is a collaborative project with many contributors.
Type 'contributors()' for more information and
'citation()' on how to cite R or R packages in publications.

Type 'demo()' for some demos, 'help()' for on-line help, or
'help.start()' for an HTML browser interface to help.
Type 'q()' to quit R.

> library("sparrow")
> library("testthat")
> library("data.table")
> library("dplyr")

Attaching package: 'dplyr'

The following objects are masked from 'package:data.table':

    between, first, last

The following object is masked from 'package:testthat':

    matches

The following object is masked from 'package:sparrow':

    combine

The following objects are masked from 'package:stats':

    filter, lag

The following objects are masked from 'package:base':

    intersect, setdiff, setequal, union

> 
> test_check("sparrow")

Attaching package: 'magrittr'

The following objects are masked from 'package:testthat':

    equals, is_less_than, not

[ FAIL 0 | WARN 0 | SKIP 6 | PASS 1495 ]

══ Skipped tests (6) ═══════════════════════════════════════════════════════════
• empty test (1): 'test-MultiGSEAResult.R:3:1'
• {misgdbdf} is not installed (5): 'test-get-msigdb.R:6:3',
  'test-get-msigdb.R:14:3', 'test-get-msigdb.R:27:3', 'test-get-msigdb.R:65:3',
  'test-get-msigdb.R:99:3'

[ FAIL 0 | WARN 0 | SKIP 6 | PASS 1495 ]
> 
> ## Remove temporary files that were generated
> test.dir <- system.file('tests', package = "sparrow")
> pdfs <- dir(test.dir, "\\.pdf$", full.names=TRUE)
> if (length(pdfs)) {
+   unlink(pdfs)
+ }
> 
> 
> proc.time()
   user  system elapsed 
333.545   6.512 447.878 

Example timings

sparrow.Rcheck/sparrow-Ex.timings

nameusersystemelapsed
GeneSetDb-class0.0990.0080.133
SparrowResult-utilities4.8380.3297.844
addGeneSetMetadata0.0920.0000.092
annotateGeneSetMembership5.1440.2647.972
calculateIndividualLogFC2.4340.0523.262
collectionMetadata0.0900.0000.087
combine-GeneSetDb-GeneSetDb-method0.1240.0040.128
combine-SparrowResult-SparrowResult-method0.1140.0130.225
conform0.5300.0160.711
conversion0.7700.0261.095
convertIdentifiers0.2750.0100.528
corplot0.1230.0000.248
eigenWeightedMean 6.284 0.18511.585
examples0.3770.0040.381
failWith0.0010.0000.000
featureIdMap0.5260.0080.534
featureIds0.5620.0070.571
geneSet0.1050.0000.105
geneSetCollectionURLfunction0.0900.0000.091
geneSetSummaryByGenes4.1930.1114.295
geneSets0.0810.0040.085
geneSetsStats6.1250.2008.855
getKeggCollection0.0010.0000.000
getMSigCollection000
getPantherCollection0.0010.0000.000
getReactomeCollection000
goseq 9.511 0.36012.500
gsdScore1.2260.0121.312
gskey0.0030.0010.004
hasGeneSet0.0820.0020.083
hasGeneSetCollection0.0800.0040.083
incidenceMatrix2.2470.0402.432
iplot2.1870.0592.260
is.active0.4040.0460.902
logFC3.8740.1505.701
mgheatmap000
mgheatmap20.0000.0000.001
msg000
ora0.3220.0010.649
p.matrix0.1010.0040.210
randomGeneSetDb0.2180.0080.459
renameCollections0.1090.0010.220
renameRows0.4570.0040.930
results0.1210.0000.237
scale_rows0.0040.0000.014
scoreSingleSamples13.113 0.14521.001
seas6.8380.1958.762
sparrow_methods0.0040.0000.003
species_info0.0080.0000.013
subset.GeneSetDb0.0980.0090.188
subsetByFeatures0.1090.0120.121
validateInputs0.1940.0000.194
volcanoPlot2.9880.0644.515
volcanoStatsTable0.0700.0000.071
zScore1.0620.0651.793