| Back to Build/check report for BioC 3.23: simplified long |
|
This page was generated on 2025-10-31 08:34 -0400 (Fri, 31 Oct 2025).
| Hostname | OS | Arch (*) | R version | Installed pkgs |
|---|---|---|---|---|
| nebbiolo1 | Linux (Ubuntu 24.04.3 LTS) | x86_64 | R Under development (unstable) (2025-10-20 r88955) -- "Unsuffered Consequences" | 4428 |
| Click on any hostname to see more info about the system (e.g. compilers) (*) as reported by 'uname -p', except on Windows and Mac OS X | ||||
| Package 2032/2321 | Hostname | OS / Arch | INSTALL | BUILD | CHECK | BUILD BIN | ||||||||
| spacexr 1.3.0 (landing page) Gabriel Grajeda
| nebbiolo1 | Linux (Ubuntu 24.04.3 LTS) / x86_64 | OK | OK | OK | |||||||||
|
To the developers/maintainers of the spacexr package: - Allow up to 24 hours (and sometimes 48 hours) for your latest push to git@git.bioconductor.org:packages/spacexr.git to reflect on this report. See Troubleshooting Build Report for more information. - Use the following Renviron settings to reproduce errors and warnings. - If 'R CMD check' started to fail recently on the Linux builder(s) over a missing dependency, add the missing dependency to 'Suggests:' in your DESCRIPTION file. See Renviron.bioc for more information. |
| Package: spacexr |
| Version: 1.3.0 |
| Command: /home/biocbuild/bbs-3.23-bioc/R/bin/R CMD check --install=check:spacexr.install-out.txt --library=/home/biocbuild/bbs-3.23-bioc/R/site-library --timings spacexr_1.3.0.tar.gz |
| StartedAt: 2025-10-31 00:27:34 -0400 (Fri, 31 Oct 2025) |
| EndedAt: 2025-10-31 00:37:25 -0400 (Fri, 31 Oct 2025) |
| EllapsedTime: 590.7 seconds |
| RetCode: 0 |
| Status: OK |
| CheckDir: spacexr.Rcheck |
| Warnings: 0 |
##############################################################################
##############################################################################
###
### Running command:
###
### /home/biocbuild/bbs-3.23-bioc/R/bin/R CMD check --install=check:spacexr.install-out.txt --library=/home/biocbuild/bbs-3.23-bioc/R/site-library --timings spacexr_1.3.0.tar.gz
###
##############################################################################
##############################################################################
* using log directory ‘/home/biocbuild/bbs-3.23-bioc/meat/spacexr.Rcheck’
* using R Under development (unstable) (2025-10-20 r88955)
* using platform: x86_64-pc-linux-gnu
* R was compiled by
gcc (Ubuntu 13.3.0-6ubuntu2~24.04) 13.3.0
GNU Fortran (Ubuntu 13.3.0-6ubuntu2~24.04) 13.3.0
* running under: Ubuntu 24.04.3 LTS
* using session charset: UTF-8
* checking for file ‘spacexr/DESCRIPTION’ ... OK
* checking extension type ... Package
* this is package ‘spacexr’ version ‘1.3.0’
* package encoding: UTF-8
* checking package namespace information ... OK
* checking package dependencies ... OK
* checking if this is a source package ... OK
* checking if there is a namespace ... OK
* checking for hidden files and directories ... OK
* checking for portable file names ... OK
* checking for sufficient/correct file permissions ... OK
* checking whether package ‘spacexr’ can be installed ... OK
* checking installed package size ... OK
* checking package directory ... OK
* checking ‘build’ directory ... OK
* checking DESCRIPTION meta-information ... OK
* checking top-level files ... OK
* checking for left-over files ... OK
* checking index information ... OK
* checking package subdirectories ... OK
* checking code files for non-ASCII characters ... OK
* checking R files for syntax errors ... OK
* checking whether the package can be loaded ... OK
* checking whether the package can be loaded with stated dependencies ... OK
* checking whether the package can be unloaded cleanly ... OK
* checking whether the namespace can be loaded with stated dependencies ... OK
* checking whether the namespace can be unloaded cleanly ... OK
* checking loading without being on the library search path ... OK
* checking dependencies in R code ... OK
* checking S3 generic/method consistency ... OK
* checking replacement functions ... OK
* checking foreign function calls ... OK
* checking R code for possible problems ... OK
* checking Rd files ... OK
* checking Rd metadata ... OK
* checking Rd cross-references ... OK
* checking for missing documentation entries ... OK
* checking for code/documentation mismatches ... OK
* checking Rd \usage sections ... OK
* checking Rd contents ... OK
* checking for unstated dependencies in examples ... OK
* checking contents of ‘data’ directory ... OK
* checking data for non-ASCII characters ... OK
* checking data for ASCII and uncompressed saves ... OK
* checking files in ‘vignettes’ ... OK
* checking examples ... OK
Examples with CPU (user + system) or elapsed time > 5s
user system elapsed
chooseSigmaC 53.312 1.264 54.590
createRctdConfig 41.977 0.171 42.153
fitBulk 41.748 0.286 42.036
runRCTD 41.241 0.052 41.294
createRCTD 40.565 0.280 40.848
fitPixels 40.567 0.062 40.630
* checking for unstated dependencies in ‘tests’ ... OK
* checking tests ...
Running ‘testthat.R’
OK
* checking for unstated dependencies in vignettes ... OK
* checking package vignettes ... OK
* checking re-building of vignette outputs ... OK
* checking PDF version of manual ... OK
* DONE
Status: OK
spacexr.Rcheck/00install.out
############################################################################## ############################################################################## ### ### Running command: ### ### /home/biocbuild/bbs-3.23-bioc/R/bin/R CMD INSTALL spacexr ### ############################################################################## ############################################################################## * installing to library ‘/home/biocbuild/bbs-3.23-bioc/R/site-library’ * installing *source* package ‘spacexr’ ... ** this is package ‘spacexr’ version ‘1.3.0’ ** using staged installation ** R ** data ** inst ** byte-compile and prepare package for lazy loading ** help *** installing help indices ** building package indices ** installing vignettes ** testing if installed package can be loaded from temporary location ** testing if installed package can be loaded from final location ** testing if installed package keeps a record of temporary installation path * DONE (spacexr)
spacexr.Rcheck/tests/testthat.Rout
R Under development (unstable) (2025-10-20 r88955) -- "Unsuffered Consequences"
Copyright (C) 2025 The R Foundation for Statistical Computing
Platform: x86_64-pc-linux-gnu
R is free software and comes with ABSOLUTELY NO WARRANTY.
You are welcome to redistribute it under certain conditions.
Type 'license()' or 'licence()' for distribution details.
R is a collaborative project with many contributors.
Type 'contributors()' for more information and
'citation()' on how to cite R or R packages in publications.
Type 'demo()' for some demos, 'help()' for on-line help, or
'help.start()' for an HTML browser interface to help.
Type 'q()' to quit R.
> # This file is part of the standard setup for testthat.
> # It is recommended that you do not modify it.
> #
> # Where should you do additional test configuration?
> # Learn more about the roles of various files in:
> # * https://r-pkgs.org/testing-design.html#sec-tests-files-overview
> # * https://testthat.r-lib.org/articles/special-files.html
>
> library(testthat)
> library(spacexr)
>
> test_check("spacexr")
Number of cells in reference: 75
Number of genes in reference: 750
ct1 ct2 ct3
25 25 25
Getting regression differentially expressed genes:
ct1 found DE genes: 41
ct2 found DE genes: 59
ct3 found DE genes: 40
Total DE genes: 140
Getting bulk differentially expressed genes:
ct1 found DE genes: 87
ct2 found DE genes: 74
ct3 found DE genes: 83
Total DE genes: 241
fitBulk: decomposing bulk
chooseSigma: using initial Q_mat with sigma = 1
Likelihood value: 3961.33853547069
Sigma value: 0.84
Likelihood value: 3791.98494190263
Sigma value: 0.69
Likelihood value: 3623.91234201635
Sigma value: 0.61
Likelihood value: 3531.60891769768
Sigma value: 0.53
Likelihood value: 3438.65505895824
Sigma value: 0.45
Likelihood value: 3346.69454643973
Sigma value: 0.37
Likelihood value: 3258.2616761035
Sigma value: 0.29
Likelihood value: 3177.07883682933
Sigma value: 0.21
[ FAIL 0 | WARN 0 | SKIP 1 | PASS 0 ]
══ Skipped tests (1) ═══════════════════════════════════════════════════════════
• On CRAN (1): 'test-rctd-simulation.R:40:5'
[ FAIL 0 | WARN 0 | SKIP 1 | PASS 0 ]
>
> proc.time()
user system elapsed
64.931 2.107 67.032
spacexr.Rcheck/spacexr-Ex.timings
| name | user | system | elapsed | |
| Reference-class | 0.131 | 0.003 | 0.135 | |
| SpatialRNA-class | 0.032 | 0.002 | 0.035 | |
| chooseSigmaC | 53.312 | 1.264 | 54.590 | |
| createRCTD | 40.565 | 0.280 | 40.848 | |
| createRctdConfig | 41.977 | 0.171 | 42.153 | |
| createReference | 0.036 | 0.000 | 0.035 | |
| createSpatialRNA | 0.028 | 0.001 | 0.029 | |
| fitBulk | 41.748 | 0.286 | 42.036 | |
| fitPixels | 40.567 | 0.062 | 40.630 | |
| plotAllWeights | 0.471 | 0.005 | 0.475 | |
| plotCellTypeWeight | 0.333 | 0.001 | 0.333 | |
| rctdSim | 0.217 | 0.004 | 0.221 | |
| runRCTD | 41.241 | 0.052 | 41.294 | |