| Back to Multiple platform build/check report for BioC 3.22: simplified long |
|
This page was generated on 2025-10-23 12:05 -0400 (Thu, 23 Oct 2025).
| Hostname | OS | Arch (*) | R version | Installed pkgs |
|---|---|---|---|---|
| nebbiolo2 | Linux (Ubuntu 24.04.3 LTS) | x86_64 | 4.5.1 Patched (2025-08-23 r88802) -- "Great Square Root" | 4894 |
| lconway | macOS 12.7.6 Monterey | x86_64 | 4.5.1 Patched (2025-09-10 r88807) -- "Great Square Root" | 4684 |
| kjohnson3 | macOS 13.7.7 Ventura | arm64 | 4.5.1 Patched (2025-09-10 r88807) -- "Great Square Root" | 4629 |
| taishan | Linux (openEuler 24.03 LTS) | aarch64 | 4.5.0 (2025-04-11) -- "How About a Twenty-Six" | 4642 |
| Click on any hostname to see more info about the system (e.g. compilers) (*) as reported by 'uname -p', except on Windows and Mac OS X | ||||
| Package 2042/2355 | Hostname | OS / Arch | INSTALL | BUILD | CHECK | BUILD BIN | ||||||||
| smartid 1.5.0 (landing page) Jinjin Chen
| nebbiolo2 | Linux (Ubuntu 24.04.3 LTS) / x86_64 | OK | OK | OK | |||||||||
| lconway | macOS 12.7.6 Monterey / x86_64 | OK | OK | OK | OK | |||||||||
| kjohnson3 | macOS 13.7.7 Ventura / arm64 | OK | OK | OK | OK | |||||||||
| taishan | Linux (openEuler 24.03 LTS) / aarch64 | OK | OK | NA | ||||||||||
|
To the developers/maintainers of the smartid package: - Allow up to 24 hours (and sometimes 48 hours) for your latest push to git@git.bioconductor.org:packages/smartid.git to reflect on this report. See Troubleshooting Build Report for more information. - Use the following Renviron settings to reproduce errors and warnings. - If 'R CMD check' started to fail recently on the Linux builder(s) over a missing dependency, add the missing dependency to 'Suggests:' in your DESCRIPTION file. See Renviron.bioc for more information. |
| Package: smartid |
| Version: 1.5.0 |
| Command: /Library/Frameworks/R.framework/Resources/bin/R CMD check --install=check:smartid.install-out.txt --library=/Library/Frameworks/R.framework/Resources/library --no-vignettes --timings smartid_1.5.0.tar.gz |
| StartedAt: 2025-10-23 00:15:40 -0400 (Thu, 23 Oct 2025) |
| EndedAt: 2025-10-23 00:19:24 -0400 (Thu, 23 Oct 2025) |
| EllapsedTime: 224.5 seconds |
| RetCode: 0 |
| Status: OK |
| CheckDir: smartid.Rcheck |
| Warnings: 0 |
##############################################################################
##############################################################################
###
### Running command:
###
### /Library/Frameworks/R.framework/Resources/bin/R CMD check --install=check:smartid.install-out.txt --library=/Library/Frameworks/R.framework/Resources/library --no-vignettes --timings smartid_1.5.0.tar.gz
###
##############################################################################
##############################################################################
* using log directory ‘/Users/biocbuild/bbs-3.22-bioc/meat/smartid.Rcheck’
* using R version 4.5.1 Patched (2025-09-10 r88807)
* using platform: x86_64-apple-darwin20
* R was compiled by
Apple clang version 14.0.0 (clang-1400.0.29.202)
GNU Fortran (GCC) 14.2.0
* running under: macOS Monterey 12.7.6
* using session charset: UTF-8
* using option ‘--no-vignettes’
* checking for file ‘smartid/DESCRIPTION’ ... OK
* this is package ‘smartid’ version ‘1.5.0’
* package encoding: UTF-8
* checking package namespace information ... OK
* checking package dependencies ... OK
* checking if this is a source package ... OK
* checking if there is a namespace ... OK
* checking for hidden files and directories ... OK
* checking for portable file names ... OK
* checking for sufficient/correct file permissions ... OK
* checking whether package ‘smartid’ can be installed ... OK
* checking installed package size ... OK
* checking package directory ... OK
* checking ‘build’ directory ... OK
* checking DESCRIPTION meta-information ... OK
* checking top-level files ... OK
* checking for left-over files ... OK
* checking index information ... OK
* checking package subdirectories ... OK
* checking code files for non-ASCII characters ... OK
* checking R files for syntax errors ... OK
* checking whether the package can be loaded ... OK
* checking whether the package can be loaded with stated dependencies ... OK
* checking whether the package can be unloaded cleanly ... OK
* checking whether the namespace can be loaded with stated dependencies ... OK
* checking whether the namespace can be unloaded cleanly ... OK
* checking dependencies in R code ... OK
* checking S3 generic/method consistency ... OK
* checking replacement functions ... OK
* checking foreign function calls ... OK
* checking R code for possible problems ... OK
* checking Rd files ... OK
* checking Rd metadata ... OK
* checking Rd cross-references ... OK
* checking for missing documentation entries ... OK
* checking for code/documentation mismatches ... OK
* checking Rd \usage sections ... OK
* checking Rd contents ... OK
* checking for unstated dependencies in examples ... OK
* checking contents of ‘data’ directory ... OK
* checking data for non-ASCII characters ... OK
* checking data for ASCII and uncompressed saves ... OK
* checking files in ‘vignettes’ ... OK
* checking examples ... OK
* checking for unstated dependencies in ‘tests’ ... OK
* checking tests ...
Running ‘testthat.R’
OK
* checking for unstated dependencies in vignettes ... OK
* checking package vignettes ... OK
* checking running R code from vignettes ... SKIPPED
* checking re-building of vignette outputs ... SKIPPED
* checking PDF version of manual ... OK
* DONE
Status: OK
smartid.Rcheck/00install.out
############################################################################## ############################################################################## ### ### Running command: ### ### /Library/Frameworks/R.framework/Resources/bin/R CMD INSTALL smartid ### ############################################################################## ############################################################################## * installing to library ‘/Library/Frameworks/R.framework/Versions/4.5-x86_64/Resources/library’ * installing *source* package ‘smartid’ ... ** this is package ‘smartid’ version ‘1.5.0’ ** using staged installation ** R ** data ** inst ** byte-compile and prepare package for lazy loading ** help *** installing help indices ** building package indices ** installing vignettes ** testing if installed package can be loaded from temporary location ** testing if installed package can be loaded from final location ** testing if installed package keeps a record of temporary installation path * DONE (smartid)
smartid.Rcheck/tests/testthat.Rout
R version 4.5.1 Patched (2025-09-10 r88807) -- "Great Square Root"
Copyright (C) 2025 The R Foundation for Statistical Computing
Platform: x86_64-apple-darwin20
R is free software and comes with ABSOLUTELY NO WARRANTY.
You are welcome to redistribute it under certain conditions.
Type 'license()' or 'licence()' for distribution details.
R is a collaborative project with many contributors.
Type 'contributors()' for more information and
'citation()' on how to cite R or R packages in publications.
Type 'demo()' for some demos, 'help()' for on-line help, or
'help.start()' for an HTML browser interface to help.
Type 'q()' to quit R.
> # This file is part of the standard setup for testthat.
> # It is recommended that you do not modify it.
> #
> # Where should you do additional test configuration?
> # Learn more about the roles of various files in:
> # * https://r-pkgs.org/testing-design.html#sec-tests-files-overview
> # * https://testthat.r-lib.org/articles/special-files.html
>
> library(testthat)
> library(smartid)
>
> test_check("smartid")
One of the variances is going to zero; trying new starting values.
One of the variances is going to zero; trying new starting values.
One of the variances is going to zero; trying new starting values.
One of the variances is going to zero; trying new starting values.
One of the variances is going to zero; trying new starting values.
One of the variances is going to zero; trying new starting values.
One of the variances is going to zero; trying new starting values.
One of the variances is going to zero; trying new starting values.
One of the variances is going to zero; trying new starting values.
One of the variances is going to zero; trying new starting values.
number of iterations= 15
number of iterations= 69
One of the variances is going to zero; trying new starting values.
One of the variances is going to zero; trying new starting values.
One of the variances is going to zero; trying new starting values.
number of iterations= 39
number of iterations= 20751
number of iterations= 38
number of iterations= 84
number of iterations= 575
number of iterations= 212
number of iterations= 245
[ FAIL 0 | WARN 7 | SKIP 0 | PASS 44 ]
[ FAIL 0 | WARN 7 | SKIP 0 | PASS 44 ]
>
> proc.time()
user system elapsed
27.295 1.021 28.618
smartid.Rcheck/smartid-Ex.timings
| name | user | system | elapsed | |
| cal_score | 0.160 | 0.023 | 0.184 | |
| cal_score_init | 0.001 | 0.002 | 0.004 | |
| gs_score | 0.001 | 0.001 | 0.002 | |
| gs_score_init | 0.000 | 0.001 | 0.001 | |
| iae | 0.000 | 0.000 | 0.001 | |
| iae_hdb | 0.017 | 0.004 | 0.022 | |
| iae_igm | 0.000 | 0.000 | 0.001 | |
| iae_m | 0.001 | 0.001 | 0.001 | |
| iae_prob | 0.001 | 0.001 | 0.001 | |
| iae_rf | 0.001 | 0.000 | 0.002 | |
| iae_sd | 0.025 | 0.001 | 0.027 | |
| idf | 0.000 | 0.001 | 0.001 | |
| idf_hdb | 0.004 | 0.001 | 0.004 | |
| idf_iae_methods | 0.000 | 0.000 | 0.001 | |
| idf_igm | 0.001 | 0.000 | 0.002 | |
| idf_m | 0.000 | 0.001 | 0.001 | |
| idf_prob | 0.000 | 0.001 | 0.002 | |
| idf_rf | 0.001 | 0.001 | 0.001 | |
| idf_sd | 0.001 | 0.001 | 0.001 | |
| markers_hdbscan | 0.110 | 0.007 | 0.117 | |
| markers_mclust | 0.069 | 0.003 | 0.071 | |
| markers_mixmdl | 0.671 | 0.050 | 0.724 | |
| ova_score_boxplot | 0.855 | 0.039 | 0.897 | |
| scale_mgm | 0.001 | 0.001 | 0.002 | |
| score_barplot | 1.385 | 0.016 | 1.408 | |
| sin_score_boxplot | 0.848 | 0.072 | 0.926 | |
| tf | 0.000 | 0.000 | 0.001 | |
| top_markers | 0.061 | 0.008 | 0.069 | |
| top_markers_abs | 0.041 | 0.004 | 0.045 | |
| top_markers_glm | 0.061 | 0.003 | 0.065 | |
| top_markers_init | 0.044 | 0.001 | 0.044 | |