Back to Build/check report for BioC 3.23:   simplified   long
ABCDEFGHIJKLMNOPQR[S]TUVWXYZ

This page was generated on 2025-10-31 08:34 -0400 (Fri, 31 Oct 2025).

HostnameOSArch (*)R versionInstalled pkgs
nebbiolo1Linux (Ubuntu 24.04.3 LTS)x86_64R Under development (unstable) (2025-10-20 r88955) -- "Unsuffered Consequences" 4428
Click on any hostname to see more info about the system (e.g. compilers)      (*) as reported by 'uname -p', except on Windows and Mac OS X

Package 1980/2321HostnameOS / ArchINSTALLBUILDCHECKBUILD BIN
signifinder 1.13.0  (landing page)
Stefania Pirrotta
Snapshot Date: 2025-10-30 13:40 -0400 (Thu, 30 Oct 2025)
git_url: https://git.bioconductor.org/packages/signifinder
git_branch: devel
git_last_commit: 2e1efc9
git_last_commit_date: 2025-10-29 11:19:34 -0400 (Wed, 29 Oct 2025)
nebbiolo1Linux (Ubuntu 24.04.3 LTS) / x86_64  ERROR    ERROR  skipped


BUILD results for signifinder on nebbiolo1

To the developers/maintainers of the signifinder package:
- Allow up to 24 hours (and sometimes 48 hours) for your latest push to git@git.bioconductor.org:packages/signifinder.git to reflect on this report. See Troubleshooting Build Report for more information.
- Use the following Renviron settings to reproduce errors and warnings.
- If 'R CMD check' started to fail recently on the Linux builder(s) over a missing dependency, add the missing dependency to 'Suggests:' in your DESCRIPTION file. See Renviron.bioc for more information.

raw results


Summary

Package: signifinder
Version: 1.13.0
Command: /home/biocbuild/bbs-3.23-bioc/R/bin/R CMD build --keep-empty-dirs --no-resave-data signifinder
StartedAt: 2025-10-30 19:03:30 -0400 (Thu, 30 Oct 2025)
EndedAt: 2025-10-30 19:03:31 -0400 (Thu, 30 Oct 2025)
EllapsedTime: 1.0 seconds
RetCode: 1
Status:   ERROR  
PackageFile: None
PackageFileSize: NA

Command output

##############################################################################
##############################################################################
###
### Running command:
###
###   /home/biocbuild/bbs-3.23-bioc/R/bin/R CMD build --keep-empty-dirs --no-resave-data signifinder
###
##############################################################################
##############################################################################


* checking for file ‘signifinder/DESCRIPTION’ ... OK
* preparing ‘signifinder’:
* checking DESCRIPTION meta-information ... OK
* installing the package (it is needed to build vignettes)
      -----------------------------------
ERROR: dependency ‘TxDb.Hsapiens.UCSC.hg38.knownGene’ is not available for package ‘signifinder’
Perhaps try a variation of:
install.packages('TxDb.Hsapiens.UCSC.hg38.knownGene')
* removing ‘/tmp/Rtmpg8gtXM/Rinst20992f11c66fe5/signifinder’
      -----------------------------------
ERROR: package installation failed