Back to Build/check report for BioC 3.23:   simplified   long
ABCDEFGHIJKLMNOPQR[S]TUVWXYZ

This page was generated on 2025-10-31 08:34 -0400 (Fri, 31 Oct 2025).

HostnameOSArch (*)R versionInstalled pkgs
nebbiolo1Linux (Ubuntu 24.04.3 LTS)x86_64R Under development (unstable) (2025-10-20 r88955) -- "Unsuffered Consequences" 4428
Click on any hostname to see more info about the system (e.g. compilers)      (*) as reported by 'uname -p', except on Windows and Mac OS X

Package 1979/2321HostnameOS / ArchINSTALLBUILDCHECKBUILD BIN
signeR 2.13.0  (landing page)
Renan Valieris
Snapshot Date: 2025-10-30 13:40 -0400 (Thu, 30 Oct 2025)
git_url: https://git.bioconductor.org/packages/signeR
git_branch: devel
git_last_commit: 54b8b4d
git_last_commit_date: 2025-10-29 10:34:16 -0400 (Wed, 29 Oct 2025)
nebbiolo1Linux (Ubuntu 24.04.3 LTS) / x86_64  OK    OK    ERROR  


BUILD results for signeR on nebbiolo1

To the developers/maintainers of the signeR package:
- Allow up to 24 hours (and sometimes 48 hours) for your latest push to git@git.bioconductor.org:packages/signeR.git to reflect on this report. See Troubleshooting Build Report for more information.
- Use the following Renviron settings to reproduce errors and warnings.
- If 'R CMD check' started to fail recently on the Linux builder(s) over a missing dependency, add the missing dependency to 'Suggests:' in your DESCRIPTION file. See Renviron.bioc for more information.

raw results


Summary

Package: signeR
Version: 2.13.0
Command: /home/biocbuild/bbs-3.23-bioc/R/bin/R CMD build --keep-empty-dirs --no-resave-data signeR
StartedAt: 2025-10-30 19:03:29 -0400 (Thu, 30 Oct 2025)
EndedAt: 2025-10-30 19:08:02 -0400 (Thu, 30 Oct 2025)
EllapsedTime: 272.3 seconds
RetCode: 0
Status:   OK  
PackageFile: signeR_2.13.0.tar.gz
PackageFileSize: 4.183 MiB

Command output

##############################################################################
##############################################################################
###
### Running command:
###
###   /home/biocbuild/bbs-3.23-bioc/R/bin/R CMD build --keep-empty-dirs --no-resave-data signeR
###
##############################################################################
##############################################################################


* checking for file ‘signeR/DESCRIPTION’ ... OK
* preparing ‘signeR’:
* checking DESCRIPTION meta-information ... OK
* cleaning src
* installing the package (it is needed to process help pages)
* saving partial Rd database
* creating vignettes ... OK
* cleaning src
* checking for LF line-endings in source and make files and shell scripts
* checking for empty or unneeded directories
* building ‘signeR_2.13.0.tar.gz’