| Back to Multiple platform build/check report for BioC 3.23: simplified long |
|
This page was generated on 2025-11-21 11:39 -0500 (Fri, 21 Nov 2025).
| Hostname | OS | Arch (*) | R version | Installed pkgs |
|---|---|---|---|---|
| nebbiolo1 | Linux (Ubuntu 24.04.3 LTS) | x86_64 | R Under development (unstable) (2025-10-20 r88955) -- "Unsuffered Consequences" | 4829 |
| lconway | macOS 12.7.6 Monterey | x86_64 | R Under development (unstable) (2025-10-21 r88958) -- "Unsuffered Consequences" | 4602 |
| kjohnson3 | macOS 13.7.7 Ventura | arm64 | R Under development (unstable) (2025-11-04 r88984) -- "Unsuffered Consequences" | 4566 |
| Click on any hostname to see more info about the system (e.g. compilers) (*) as reported by 'uname -p', except on Windows and Mac OS X | ||||
| Package 1943/2327 | Hostname | OS / Arch | INSTALL | BUILD | CHECK | BUILD BIN | ||||||||
| segmentSeq 2.45.0 (landing page) Samuel Granjeaud
| nebbiolo1 | Linux (Ubuntu 24.04.3 LTS) / x86_64 | OK | OK | OK | |||||||||
| lconway | macOS 12.7.6 Monterey / x86_64 | OK | OK | OK | OK | |||||||||
| kjohnson3 | macOS 13.7.7 Ventura / arm64 | OK | OK | OK | OK | |||||||||
|
To the developers/maintainers of the segmentSeq package: - Allow up to 24 hours (and sometimes 48 hours) for your latest push to git@git.bioconductor.org:packages/segmentSeq.git to reflect on this report. See Troubleshooting Build Report for more information. - Use the following Renviron settings to reproduce errors and warnings. - If 'R CMD check' started to fail recently on the Linux builder(s) over a missing dependency, add the missing dependency to 'Suggests:' in your DESCRIPTION file. See Renviron.bioc for more information. |
| Package: segmentSeq |
| Version: 2.45.0 |
| Command: /Library/Frameworks/R.framework/Resources/bin/R CMD check --install=check:segmentSeq.install-out.txt --library=/Library/Frameworks/R.framework/Resources/library --no-vignettes --timings segmentSeq_2.45.0.tar.gz |
| StartedAt: 2025-11-21 00:05:21 -0500 (Fri, 21 Nov 2025) |
| EndedAt: 2025-11-21 00:11:53 -0500 (Fri, 21 Nov 2025) |
| EllapsedTime: 391.3 seconds |
| RetCode: 0 |
| Status: OK |
| CheckDir: segmentSeq.Rcheck |
| Warnings: 0 |
##############################################################################
##############################################################################
###
### Running command:
###
### /Library/Frameworks/R.framework/Resources/bin/R CMD check --install=check:segmentSeq.install-out.txt --library=/Library/Frameworks/R.framework/Resources/library --no-vignettes --timings segmentSeq_2.45.0.tar.gz
###
##############################################################################
##############################################################################
* using log directory ‘/Users/biocbuild/bbs-3.23-bioc/meat/segmentSeq.Rcheck’
* using R Under development (unstable) (2025-10-21 r88958)
* using platform: x86_64-apple-darwin20
* R was compiled by
Apple clang version 14.0.0 (clang-1400.0.29.202)
GNU Fortran (GCC) 14.2.0
* running under: macOS Ventura 13.7.8
* using session charset: UTF-8
* using option ‘--no-vignettes’
* checking for file ‘segmentSeq/DESCRIPTION’ ... OK
* checking extension type ... Package
* this is package ‘segmentSeq’ version ‘2.45.0’
* checking package namespace information ... OK
* checking package dependencies ... OK
* checking if this is a source package ... OK
* checking if there is a namespace ... OK
* checking for hidden files and directories ... OK
* checking for portable file names ... OK
* checking for sufficient/correct file permissions ... OK
* checking whether package ‘segmentSeq’ can be installed ... OK
* checking installed package size ... OK
* checking package directory ... OK
* checking ‘build’ directory ... OK
* checking DESCRIPTION meta-information ... OK
* checking top-level files ... OK
* checking for left-over files ... OK
* checking index information ... OK
* checking package subdirectories ... OK
* checking code files for non-ASCII characters ... OK
* checking R files for syntax errors ... OK
* checking whether the package can be loaded ... OK
* checking whether the package can be loaded with stated dependencies ... OK
* checking whether the package can be unloaded cleanly ... OK
* checking whether the namespace can be loaded with stated dependencies ... OK
* checking whether the namespace can be unloaded cleanly ... OK
* checking dependencies in R code ... OK
* checking S3 generic/method consistency ... OK
* checking replacement functions ... OK
* checking foreign function calls ... OK
* checking R code for possible problems ... OK
* checking Rd files ... OK
* checking Rd metadata ... OK
* checking Rd cross-references ... NOTE
Found the following Rd file(s) with Rd \link{} targets missing package
anchors:
averageMethylationRegions.Rd: GRanges-class
findChunks.Rd: GRanges-class, GRanges
lociData-class.Rd: countData, countData-class
methData-class.Rd: countData, countData-class
Please provide package anchors for all Rd \link{} targets not in the
package itself and the base packages.
* checking for missing documentation entries ... OK
* checking for code/documentation mismatches ... OK
* checking Rd \usage sections ... OK
* checking Rd contents ... OK
* checking for unstated dependencies in examples ... OK
* checking contents of ‘data’ directory ... OK
* checking data for non-ASCII characters ... OK
* checking data for ASCII and uncompressed saves ... OK
* checking files in ‘vignettes’ ... OK
* checking examples ... OK
Examples with CPU (user + system) or elapsed time > 5s
user system elapsed
classifySeg 36.227 0.325 36.756
lociLikelihoods 16.491 0.157 16.871
heuristicSeg 15.985 0.105 16.211
plotGenome 8.236 0.089 8.399
getCounts 6.304 0.034 6.377
* checking for unstated dependencies in vignettes ... OK
* checking package vignettes ... OK
* checking running R code from vignettes ... SKIPPED
* checking re-building of vignette outputs ... SKIPPED
* checking PDF version of manual ... OK
* DONE
Status: 1 NOTE
See
‘/Users/biocbuild/bbs-3.23-bioc/meat/segmentSeq.Rcheck/00check.log’
for details.
segmentSeq.Rcheck/00install.out
############################################################################## ############################################################################## ### ### Running command: ### ### /Library/Frameworks/R.framework/Resources/bin/R CMD INSTALL segmentSeq ### ############################################################################## ############################################################################## * installing to library ‘/Library/Frameworks/R.framework/Versions/4.6-x86_64/Resources/library’ * installing *source* package ‘segmentSeq’ ... ** this is package ‘segmentSeq’ version ‘2.45.0’ ** using staged installation ** R ** data ** inst ** byte-compile and prepare package for lazy loading ** help *** installing help indices ** building package indices ** installing vignettes ** testing if installed package can be loaded from temporary location ** testing if installed package can be loaded from final location ** testing if installed package keeps a record of temporary installation path * DONE (segmentSeq)
segmentSeq.Rcheck/segmentSeq-Ex.timings
| name | user | system | elapsed | |
| alignmentData-class | 4.567 | 0.036 | 4.632 | |
| classifySeg | 36.227 | 0.325 | 36.756 | |
| findChunks | 3.991 | 0.032 | 4.059 | |
| getCounts | 6.304 | 0.034 | 6.377 | |
| getOverlaps | 4.248 | 0.029 | 4.305 | |
| heuristicSeg | 15.985 | 0.105 | 16.211 | |
| lociLikelihoods | 16.491 | 0.157 | 16.871 | |
| normaliseNC | 3.898 | 0.249 | 4.178 | |
| plotGenome | 8.236 | 0.089 | 8.399 | |
| processAD | 4.774 | 0.035 | 4.843 | |
| readMethods | 3.831 | 0.094 | 4.063 | |
| readMeths | 3.013 | 0.244 | 3.322 | |
| segData-class | 4.763 | 0.060 | 4.867 | |
| segmentSeq-package | 4.764 | 0.063 | 4.888 | |
| thresholdFinder | 3.594 | 0.215 | 3.837 | |