| Back to Build/check report for BioC 3.23: simplified long |
|
This page was generated on 2025-10-31 08:34 -0400 (Fri, 31 Oct 2025).
| Hostname | OS | Arch (*) | R version | Installed pkgs |
|---|---|---|---|---|
| nebbiolo1 | Linux (Ubuntu 24.04.3 LTS) | x86_64 | R Under development (unstable) (2025-10-20 r88955) -- "Unsuffered Consequences" | 4428 |
| Click on any hostname to see more info about the system (e.g. compilers) (*) as reported by 'uname -p', except on Windows and Mac OS X | ||||
| Package 1899/2321 | Hostname | OS / Arch | INSTALL | BUILD | CHECK | BUILD BIN | ||||||||
| scifer 1.13.0 (landing page) Rodrigo Arcoverde Cerveira
| nebbiolo1 | Linux (Ubuntu 24.04.3 LTS) / x86_64 | OK | OK | OK | |||||||||
|
To the developers/maintainers of the scifer package: - Allow up to 24 hours (and sometimes 48 hours) for your latest push to git@git.bioconductor.org:packages/scifer.git to reflect on this report. See Troubleshooting Build Report for more information. - Use the following Renviron settings to reproduce errors and warnings. - If 'R CMD check' started to fail recently on the Linux builder(s) over a missing dependency, add the missing dependency to 'Suggests:' in your DESCRIPTION file. See Renviron.bioc for more information. |
| Package: scifer |
| Version: 1.13.0 |
| Command: /home/biocbuild/bbs-3.23-bioc/R/bin/R CMD check --install=check:scifer.install-out.txt --library=/home/biocbuild/bbs-3.23-bioc/R/site-library --timings scifer_1.13.0.tar.gz |
| StartedAt: 2025-10-31 00:05:51 -0400 (Fri, 31 Oct 2025) |
| EndedAt: 2025-10-31 00:15:46 -0400 (Fri, 31 Oct 2025) |
| EllapsedTime: 595.7 seconds |
| RetCode: 0 |
| Status: OK |
| CheckDir: scifer.Rcheck |
| Warnings: 0 |
##############################################################################
##############################################################################
###
### Running command:
###
### /home/biocbuild/bbs-3.23-bioc/R/bin/R CMD check --install=check:scifer.install-out.txt --library=/home/biocbuild/bbs-3.23-bioc/R/site-library --timings scifer_1.13.0.tar.gz
###
##############################################################################
##############################################################################
* using log directory ‘/home/biocbuild/bbs-3.23-bioc/meat/scifer.Rcheck’
* using R Under development (unstable) (2025-10-20 r88955)
* using platform: x86_64-pc-linux-gnu
* R was compiled by
gcc (Ubuntu 13.3.0-6ubuntu2~24.04) 13.3.0
GNU Fortran (Ubuntu 13.3.0-6ubuntu2~24.04) 13.3.0
* running under: Ubuntu 24.04.3 LTS
* using session charset: UTF-8
* checking for file ‘scifer/DESCRIPTION’ ... OK
* checking extension type ... Package
* this is package ‘scifer’ version ‘1.13.0’
* package encoding: UTF-8
* checking package namespace information ... OK
* checking package dependencies ... INFO
Imports includes 21 non-default packages.
Importing from so many packages makes the package vulnerable to any of
them becoming unavailable. Move as many as possible to Suggests and
use conditionally.
* checking if this is a source package ... OK
* checking if there is a namespace ... OK
* checking for hidden files and directories ... OK
* checking for portable file names ... OK
* checking for sufficient/correct file permissions ... OK
* checking whether package ‘scifer’ can be installed ... NOTE
Found the following notes/warnings:
Non-staged installation was used
See ‘/home/biocbuild/bbs-3.23-bioc/meat/scifer.Rcheck/00install.out’ for details.
* checking installed package size ... OK
* checking package directory ... OK
* checking ‘build’ directory ... OK
* checking DESCRIPTION meta-information ... OK
* checking top-level files ... OK
* checking for left-over files ... OK
* checking index information ... OK
* checking package subdirectories ... OK
* checking code files for non-ASCII characters ... OK
* checking R files for syntax errors ... OK
* checking whether the package can be loaded ... OK
* checking whether the package can be loaded with stated dependencies ... OK
* checking whether the package can be unloaded cleanly ... OK
* checking whether the namespace can be loaded with stated dependencies ... OK
* checking whether the namespace can be unloaded cleanly ... OK
* checking loading without being on the library search path ... OK
* checking dependencies in R code ... NOTE
There are ::: calls to the package's namespace in its code. A package
almost never needs to use ::: for its own objects:
‘secondary_peaks’
* checking S3 generic/method consistency ... OK
* checking replacement functions ... OK
* checking foreign function calls ... OK
* checking R code for possible problems ... OK
* checking Rd files ... OK
* checking Rd metadata ... OK
* checking Rd cross-references ... OK
* checking for missing documentation entries ... OK
* checking for code/documentation mismatches ... OK
* checking Rd \usage sections ... OK
* checking Rd contents ... OK
* checking for unstated dependencies in examples ... OK
* checking line endings in shell scripts ... OK
* checking files in ‘vignettes’ ... OK
* checking examples ... OK
Examples with CPU (user + system) or elapsed time > 5s
user system elapsed
quality_report 56.357 0.662 56.971
summarise_quality 48.952 0.218 49.100
summarise_abi_file 14.709 0.077 14.786
secondary_peaks 14.744 0.024 14.770
* checking for unstated dependencies in ‘tests’ ... OK
* checking tests ...
Running ‘testthat.R’
OK
* checking for unstated dependencies in vignettes ... OK
* checking package vignettes ... OK
* checking re-building of vignette outputs ... OK
* checking PDF version of manual ... OK
* DONE
Status: 2 NOTEs
See
‘/home/biocbuild/bbs-3.23-bioc/meat/scifer.Rcheck/00check.log’
for details.
scifer.Rcheck/00install.out
############################################################################## ############################################################################## ### ### Running command: ### ### /home/biocbuild/bbs-3.23-bioc/R/bin/R CMD INSTALL scifer ### ############################################################################## ############################################################################## * installing to library ‘/home/biocbuild/bbs-3.23-bioc/R/site-library’ * installing *source* package ‘scifer’ ... ** this is package ‘scifer’ version ‘1.13.0’ ** using non-staged installation via StagedInstall field ** R ** inst ** byte-compile and prepare package for lazy loading ** help *** installing help indices *** copying figures ** building package indices ** installing vignettes ** testing if installed package can be loaded * DONE (scifer)
scifer.Rcheck/tests/testthat.Rout
R Under development (unstable) (2025-10-20 r88955) -- "Unsuffered Consequences"
Copyright (C) 2025 The R Foundation for Statistical Computing
Platform: x86_64-pc-linux-gnu
R is free software and comes with ABSOLUTELY NO WARRANTY.
You are welcome to redistribute it under certain conditions.
Type 'license()' or 'licence()' for distribution details.
R is a collaborative project with many contributors.
Type 'contributors()' for more information and
'citation()' on how to cite R or R packages in publications.
Type 'demo()' for some demos, 'help()' for on-line help, or
'help.start()' for an HTML browser interface to help.
Type 'q()' to quit R.
> library(testthat)
> library(scifer)
>
> test_check("scifer")
Running command: /home/biocbuild/.cache/R/biocconda/24.11.3-0/bin/conda run --prefix /home/biocbuild/.cache/R/scifer/igblast_wrap_basilisk/1.0.0 python /home/biocbuild/bbs-3.23-bioc/R/site-library/scifer/script/igblastwrap.py --threads 1 --database /home/biocbuild/bbs-3.23-bioc/R/site-library/scifer/extdata/test_fasta/KIMDB_rm --fasta /home/biocbuild/bbs-3.23-bioc/R/site-library/scifer/extdata/test_fasta/test_igblast.txt
processing file: HC_report.Rmd
output file: HC_report.knit.md
/usr/bin/pandoc +RTS -K512m -RTS HC_report.knit.md --to html4 --from markdown+autolink_bare_uris+tex_math_single_backslash --output /tmp/RtmpUgq6aV/QC_report.html --lua-filter /home/biocbuild/bbs-3.23-bioc/R/site-library/rmarkdown/rmarkdown/lua/pagebreak.lua --lua-filter /home/biocbuild/bbs-3.23-bioc/R/site-library/rmarkdown/rmarkdown/lua/latex-div.lua --self-contained --variable bs3=TRUE --section-divs --template /home/biocbuild/bbs-3.23-bioc/R/site-library/rmarkdown/rmd/h/default.html --no-highlight --variable highlightjs=1 --variable theme=bootstrap --mathjax --variable 'mathjax-url=https://mathjax.rstudio.com/latest/MathJax.js?config=TeX-AMS-MML_HTMLorMML' --include-in-header /tmp/RtmpUgq6aV/rmarkdown-str2b9f9e75cc2e2b.html
Output created: /tmp/RtmpUgq6aV/QC_report.html
[ FAIL 0 | WARN 0 | SKIP 0 | PASS 50 ]
>
> proc.time()
user system elapsed
194.693 2.074 197.122
scifer.Rcheck/scifer-Ex.timings
| name | user | system | elapsed | |
| df_to_fasta | 0.037 | 0.002 | 0.040 | |
| fcs_plot | 0.981 | 0.058 | 1.041 | |
| fcs_processing | 0.149 | 0.000 | 0.150 | |
| igblast | 0.000 | 0.001 | 0.000 | |
| quality_report | 56.357 | 0.662 | 56.971 | |
| secondary_peaks | 14.744 | 0.024 | 14.770 | |
| summarise_abi_file | 14.709 | 0.077 | 14.786 | |
| summarise_quality | 48.952 | 0.218 | 49.100 | |