Back to Multiple platform build/check report for BioC 3.22:   simplified   long
ABCDEFGHIJKLMNOPQR[S]TUVWXYZ

This page was generated on 2025-10-10 12:08 -0400 (Fri, 10 Oct 2025).

HostnameOSArch (*)R versionInstalled pkgs
nebbiolo2Linux (Ubuntu 24.04.3 LTS)x86_644.5.1 Patched (2025-08-23 r88802) -- "Great Square Root" 4854
lconwaymacOS 12.7.1 Montereyx86_644.5.1 Patched (2025-09-10 r88807) -- "Great Square Root" 4642
kjohnson3macOS 13.7.7 Venturaarm644.5.1 Patched (2025-09-10 r88807) -- "Great Square Root" 4587
taishanLinux (openEuler 24.03 LTS)aarch644.5.0 (2025-04-11) -- "How About a Twenty-Six" 4586
Click on any hostname to see more info about the system (e.g. compilers)      (*) as reported by 'uname -p', except on Windows and Mac OS X

Package 1937/2341HostnameOS / ArchINSTALLBUILDCHECKBUILD BIN
scRepertoire 2.5.6  (landing page)
Nick Borcherding
Snapshot Date: 2025-10-09 13:45 -0400 (Thu, 09 Oct 2025)
git_url: https://git.bioconductor.org/packages/scRepertoire
git_branch: devel
git_last_commit: bbd600d
git_last_commit_date: 2025-10-01 09:12:49 -0400 (Wed, 01 Oct 2025)
nebbiolo2Linux (Ubuntu 24.04.3 LTS) / x86_64  OK    OK    OK  UNNEEDED, same version is already published
lconwaymacOS 12.7.1 Monterey / x86_64  OK    OK    OK    OK  UNNEEDED, same version is already published
kjohnson3macOS 13.7.7 Ventura / arm64  OK    OK    OK    OK  UNNEEDED, same version is already published
taishanLinux (openEuler 24.03 LTS) / aarch64  OK    OK    OK  


CHECK results for scRepertoire on taishan

To the developers/maintainers of the scRepertoire package:
- Allow up to 24 hours (and sometimes 48 hours) for your latest push to git@git.bioconductor.org:packages/scRepertoire.git to reflect on this report. See Troubleshooting Build Report for more information.
- Use the following Renviron settings to reproduce errors and warnings.
- If 'R CMD check' started to fail recently on the Linux builder(s) over a missing dependency, add the missing dependency to 'Suggests:' in your DESCRIPTION file. See Renviron.bioc for more information.
- See Martin Grigorov's blog post for how to debug Linux ARM64 related issues on a x86_64 host.

raw results


Summary

Package: scRepertoire
Version: 2.5.6
Command: /home/biocbuild/R/R/bin/R CMD check --install=check:scRepertoire.install-out.txt --library=/home/biocbuild/R/R/site-library --no-vignettes --timings scRepertoire_2.5.6.tar.gz
StartedAt: 2025-10-10 13:22:12 -0000 (Fri, 10 Oct 2025)
EndedAt: 2025-10-10 13:38:43 -0000 (Fri, 10 Oct 2025)
EllapsedTime: 991.1 seconds
RetCode: 0
Status:   OK  
CheckDir: scRepertoire.Rcheck
Warnings: 0

Command output

##############################################################################
##############################################################################
###
### Running command:
###
###   /home/biocbuild/R/R/bin/R CMD check --install=check:scRepertoire.install-out.txt --library=/home/biocbuild/R/R/site-library --no-vignettes --timings scRepertoire_2.5.6.tar.gz
###
##############################################################################
##############################################################################


* using log directory ‘/home/biocbuild/bbs-3.22-bioc/meat/scRepertoire.Rcheck’
* using R version 4.5.0 (2025-04-11)
* using platform: aarch64-unknown-linux-gnu
* R was compiled by
    aarch64-unknown-linux-gnu-gcc (GCC) 14.2.0
    GNU Fortran (GCC) 14.2.0
* running under: openEuler 24.03 (LTS)
* using session charset: UTF-8
* using option ‘--no-vignettes’
* checking for file ‘scRepertoire/DESCRIPTION’ ... OK
* this is package ‘scRepertoire’ version ‘2.5.6’
* package encoding: UTF-8
* checking package namespace information ... OK
* checking package dependencies ... OK
* checking if this is a source package ... OK
* checking if there is a namespace ... OK
* checking for hidden files and directories ... OK
* checking for portable file names ... OK
* checking for sufficient/correct file permissions ... OK
* checking whether package ‘scRepertoire’ can be installed ... OK
* used C++ compiler: ‘aarch64-unknown-linux-gnu-g++ (GCC) 14.2.0’
* checking installed package size ... INFO
  installed size is  5.3Mb
  sub-directories of 1Mb or more:
    data   2.5Mb
    libs   2.0Mb
* checking package directory ... OK
* checking ‘build’ directory ... OK
* checking DESCRIPTION meta-information ... OK
* checking top-level files ... OK
* checking for left-over files ... OK
* checking index information ... OK
* checking package subdirectories ... OK
* checking code files for non-ASCII characters ... OK
* checking R files for syntax errors ... OK
* checking whether the package can be loaded ... OK
* checking whether the package can be loaded with stated dependencies ... OK
* checking whether the package can be unloaded cleanly ... OK
* checking whether the namespace can be loaded with stated dependencies ... OK
* checking whether the namespace can be unloaded cleanly ... OK
* checking loading without being on the library search path ... OK
* checking whether startup messages can be suppressed ... OK
* checking dependencies in R code ... OK
* checking S3 generic/method consistency ... OK
* checking replacement functions ... OK
* checking foreign function calls ... OK
* checking R code for possible problems ... NOTE
clonalSizeDistribution: no visible binding for global variable ‘y’
combineExpression: no visible binding for global variable
  ‘clonalFrequency’
Undefined global functions or variables:
  clonalFrequency y
* checking Rd files ... OK
* checking Rd metadata ... OK
* checking Rd cross-references ... NOTE
Non-topic package-anchored link(s) in Rd file 'StartracDiversity.Rd':
  ‘[grDevices:palettes]{hcl.pals}’

Non-topic package-anchored link(s) in Rd file 'alluvialClones.Rd':
  ‘[grDevices:palettes]{hcl.pals}’

Non-topic package-anchored link(s) in Rd file 'clonalAbundance.Rd':
  ‘[grDevices:palettes]{hcl.pals}’

Non-topic package-anchored link(s) in Rd file 'clonalBias.Rd':
  ‘[grDevices:palettes]{hcl.pals}’

Non-topic package-anchored link(s) in Rd file 'clonalDiversity.Rd':
  ‘[grDevices:palettes]{hcl.pals}’

Non-topic package-anchored link(s) in Rd file 'clonalHomeostasis.Rd':
  ‘[grDevices:palettes]{hcl.pals}’

Non-topic package-anchored link(s) in Rd file 'clonalLength.Rd':
  ‘[grDevices:palettes]{hcl.pals}’

Non-topic package-anchored link(s) in Rd file 'clonalNetwork.Rd':
  ‘[grDevices:palettes]{hcl.pals}’

Non-topic package-anchored link(s) in Rd file 'clonalOccupy.Rd':
  ‘[grDevices:palettes]{hcl.pals}’

Non-topic package-anchored link(s) in Rd file 'clonalOverlap.Rd':
  ‘[grDevices:palettes]{hcl.pals}’

Non-topic package-anchored link(s) in Rd file 'clonalProportion.Rd':
  ‘[grDevices:palettes]{hcl.pals}’

Non-topic package-anchored link(s) in Rd file 'clonalQuant.Rd':
  ‘[grDevices:palettes]{hcl.pals}’

Non-topic package-anchored link(s) in Rd file 'clonalRarefaction.Rd':
  ‘[grDevices:palettes]{hcl.pals}’

Non-topic package-anchored link(s) in Rd file 'clonalScatter.Rd':
  ‘[grDevices:palettes]{hcl.pals}’

Non-topic package-anchored link(s) in Rd file 'clonalSizeDistribution.Rd':
  ‘[grDevices:palettes]{hcl.pals}’

Non-topic package-anchored link(s) in Rd file 'percentAA.Rd':
  ‘[grDevices:palettes]{hcl.pals}’

Non-topic package-anchored link(s) in Rd file 'percentGeneUsage.Rd':
  ‘[grDevices:palettes]{hcl.pals}’

Non-topic package-anchored link(s) in Rd file 'percentKmer.Rd':
  ‘[grDevices:palettes]{hcl.pals}’

Non-topic package-anchored link(s) in Rd file 'positionalEntropy.Rd':
  ‘[grDevices:palettes]{hcl.pals}’

Non-topic package-anchored link(s) in Rd file 'positionalProperty.Rd':
  ‘[grDevices:palettes]{hcl.pals}’

See section 'Cross-references' in the 'Writing R Extensions' manual.
* checking for missing documentation entries ... OK
* checking for code/documentation mismatches ... OK
* checking Rd \usage sections ... OK
* checking Rd contents ... OK
* checking for unstated dependencies in examples ... OK
* checking contents of ‘data’ directory ... OK
* checking data for non-ASCII characters ... OK
* checking LazyData ... OK
* checking data for ASCII and uncompressed saves ... OK
* checking line endings in C/C++/Fortran sources/headers ... OK
* checking compiled code ... NOTE
Note: information on .o files is not available
* checking files in ‘vignettes’ ... OK
* checking examples ... OK
Examples with CPU (user + system) or elapsed time > 5s
                         user system elapsed
StartracDiversity      13.291  0.303  16.636
clonalSizeDistribution 12.778  0.096  17.525
clonalCluster          11.284  0.236  14.191
percentGeneUsage        9.322  0.019  13.026
clonalRarefaction       6.308  0.043   6.758
alluvialClones          4.128  0.064   8.313
positionalProperty      3.927  0.034   5.657
clonalBias              3.609  0.028   6.295
loadContigs             0.427  0.010   6.746
* checking for unstated dependencies in ‘tests’ ... OK
* checking tests ...
  Running ‘spelling.R’
  Running ‘testthat.R’
 OK
* checking for unstated dependencies in vignettes ... OK
* checking package vignettes ... OK
* checking running R code from vignettes ... SKIPPED
* checking re-building of vignette outputs ... SKIPPED
* checking PDF version of manual ... OK
* DONE

Status: 3 NOTEs
See
  ‘/home/biocbuild/bbs-3.22-bioc/meat/scRepertoire.Rcheck/00check.log’
for details.


Installation output

scRepertoire.Rcheck/00install.out

##############################################################################
##############################################################################
###
### Running command:
###
###   /home/biocbuild/R/R/bin/R CMD INSTALL scRepertoire
###
##############################################################################
##############################################################################


* installing to library ‘/home/biocbuild/R/R-4.5.0/site-library’
* installing *source* package ‘scRepertoire’ ...
** this is package ‘scRepertoire’ version ‘2.5.6’
** using staged installation
** libs
using C++ compiler: ‘aarch64-unknown-linux-gnu-g++ (GCC) 14.2.0’
/opt/ohpc/pub/compiler/gcc/14.2.0/bin/aarch64-unknown-linux-gnu-g++ -std=gnu++17 -I"/home/biocbuild/R/R-4.5.0/include" -DNDEBUG  -I'/home/biocbuild/R/R-4.5.0/site-library/Rcpp/include' -I/usr/local/include    -fPIC  -g -O2  -Wall -Werror=format-security  -c RcppExports.cpp -o RcppExports.o
/opt/ohpc/pub/compiler/gcc/14.2.0/bin/aarch64-unknown-linux-gnu-g++ -std=gnu++17 -I"/home/biocbuild/R/R-4.5.0/include" -DNDEBUG  -I'/home/biocbuild/R/R-4.5.0/site-library/Rcpp/include' -I/usr/local/include    -fPIC  -g -O2  -Wall -Werror=format-security  -c constructConDfAndParseBCR.cpp -o constructConDfAndParseBCR.o
/opt/ohpc/pub/compiler/gcc/14.2.0/bin/aarch64-unknown-linux-gnu-g++ -std=gnu++17 -I"/home/biocbuild/R/R-4.5.0/include" -DNDEBUG  -I'/home/biocbuild/R/R-4.5.0/site-library/Rcpp/include' -I/usr/local/include    -fPIC  -g -O2  -Wall -Werror=format-security  -c constructConDfAndparseTCR.cpp -o constructConDfAndparseTCR.o
/opt/ohpc/pub/compiler/gcc/14.2.0/bin/aarch64-unknown-linux-gnu-g++ -std=gnu++17 -shared -L/home/biocbuild/R/R-4.5.0/lib -L/usr/local/lib -o scRepertoire.so RcppExports.o constructConDfAndParseBCR.o constructConDfAndparseTCR.o -L/home/biocbuild/R/R-4.5.0/lib -lR
installing to /home/biocbuild/R/R-4.5.0/site-library/00LOCK-scRepertoire/00new/scRepertoire/libs
** R
** data
*** moving datasets to lazyload DB
** inst
** byte-compile and prepare package for lazy loading
Note: wrong number of arguments to 'floor' 
Note: wrong number of arguments to 'floor' 
** help
*** installing help indices
*** copying figures
** building package indices
** installing vignettes
** testing if installed package can be loaded from temporary location
** checking absolute paths in shared objects and dynamic libraries
** testing if installed package can be loaded from final location
** testing if installed package keeps a record of temporary installation path
* DONE (scRepertoire)

Tests output

scRepertoire.Rcheck/tests/spelling.Rout


R version 4.5.0 (2025-04-11) -- "How About a Twenty-Six"
Copyright (C) 2025 The R Foundation for Statistical Computing
Platform: aarch64-unknown-linux-gnu

R is free software and comes with ABSOLUTELY NO WARRANTY.
You are welcome to redistribute it under certain conditions.
Type 'license()' or 'licence()' for distribution details.

R is a collaborative project with many contributors.
Type 'contributors()' for more information and
'citation()' on how to cite R or R packages in publications.

Type 'demo()' for some demos, 'help()' for on-line help, or
'help.start()' for an HTML browser interface to help.
Type 'q()' to quit R.

> if(requireNamespace('spelling', quietly = TRUE))
+   spelling::spell_check_test(vignettes = TRUE, error = FALSE,
+                              skip_on_cran = TRUE)
All Done!
> 
> proc.time()
   user  system elapsed 
  0.197   0.033   0.427 

scRepertoire.Rcheck/tests/testthat.Rout


R version 4.5.0 (2025-04-11) -- "How About a Twenty-Six"
Copyright (C) 2025 The R Foundation for Statistical Computing
Platform: aarch64-unknown-linux-gnu

R is free software and comes with ABSOLUTELY NO WARRANTY.
You are welcome to redistribute it under certain conditions.
Type 'license()' or 'licence()' for distribution details.

R is a collaborative project with many contributors.
Type 'contributors()' for more information and
'citation()' on how to cite R or R packages in publications.

Type 'demo()' for some demos, 'help()' for on-line help, or
'help.start()' for an HTML browser interface to help.
Type 'q()' to quit R.

> # This file is part of the standard setup for testthat.
> # It is recommended that you do not modify it.
> #
> # Where should you do additional test configuration?
> # Learn more about the roles of various files in:
> # * https://r-pkgs.org/tests.html
> # * https://testthat.r-lib.org/reference/test_package.html#special-files
> 
> library(testthat)
> library(scRepertoire)
Loading required package: ggplot2
> 
> test_check("scRepertoire")

Attaching package: 'igraph'

The following object is masked from 'package:testthat':

    compare

The following objects are masked from 'package:stats':

    decompose, spectrum

The following object is masked from 'package:base':

    union

[ FAIL 0 | WARN 1 | SKIP 0 | PASS 781 ]

[ FAIL 0 | WARN 1 | SKIP 0 | PASS 781 ]
> 
> proc.time()
   user  system elapsed 
266.172   5.598 392.659 

Example timings

scRepertoire.Rcheck/scRepertoire-Ex.timings

nameusersystemelapsed
StartracDiversity13.291 0.30316.636
addVariable1.8880.0762.433
alluvialClones4.1280.0648.313
annotateInvariant2.2860.0583.805
clonalAbundance2.4500.0054.279
clonalBias3.6090.0286.295
clonalCluster11.284 0.23614.191
clonalCompare2.4640.0043.129
clonalDiversity2.5560.0003.924
clonalHomeostasis1.7570.0003.522
clonalLength3.6630.0384.741
clonalNetwork000
clonalOccupy2.1780.0002.279
clonalOverlap1.5080.0081.718
clonalOverlay2.1900.0202.411
clonalProportion1.5340.0001.612
clonalQuant1.5580.0001.935
clonalRarefaction6.3080.0436.758
clonalScatter1.5700.0421.853
clonalSizeDistribution12.778 0.09617.525
combineBCR2.4140.0044.594
combineExpression2.5370.0042.633
combineTCR0.9070.0000.911
createHTOContigList000
exportClones000
getCirclize1.8000.0042.058
highlightClones1.6730.0042.449
loadContigs0.4270.0106.746
percentAA2.8930.0123.466
percentGeneUsage 9.322 0.01913.026
percentKmer2.1940.0003.187
positionalEntropy2.0050.0002.490
positionalProperty3.9270.0345.657
quietVDJgenes0.1310.0000.136
subsetClones1.0050.0041.045