| Back to Multiple platform build/check report for BioC 3.22: simplified long |
|
This page was generated on 2025-08-15 12:07 -0400 (Fri, 15 Aug 2025).
| Hostname | OS | Arch (*) | R version | Installed pkgs |
|---|---|---|---|---|
| nebbiolo2 | Linux (Ubuntu 24.04.3 LTS) | x86_64 | 4.5.1 (2025-06-13) -- "Great Square Root" | 4818 |
| palomino8 | Windows Server 2022 Datacenter | x64 | 4.5.1 (2025-06-13 ucrt) -- "Great Square Root" | 4554 |
| lconway | macOS 12.7.1 Monterey | x86_64 | 4.5.1 (2025-06-13) -- "Great Square Root" | 4595 |
| kjohnson3 | macOS 13.7.7 Ventura | arm64 | 4.5.1 Patched (2025-06-14 r88325) -- "Great Square Root" | 4537 |
| taishan | Linux (openEuler 24.03 LTS) | aarch64 | 4.5.0 (2025-04-11) -- "How About a Twenty-Six" | 4535 |
| Click on any hostname to see more info about the system (e.g. compilers) (*) as reported by 'uname -p', except on Windows and Mac OS X | ||||
| Package 1811/2317 | Hostname | OS / Arch | INSTALL | BUILD | CHECK | BUILD BIN | ||||||||
| rqt 1.35.0 (landing page) Ilya Zhbannikov
| nebbiolo2 | Linux (Ubuntu 24.04.3 LTS) / x86_64 | OK | OK | OK | |||||||||
| palomino8 | Windows Server 2022 Datacenter / x64 | OK | OK | OK | OK | |||||||||
| lconway | macOS 12.7.1 Monterey / x86_64 | OK | OK | OK | OK | |||||||||
| kjohnson3 | macOS 13.7.7 Ventura / arm64 | OK | OK | OK | OK | |||||||||
| taishan | Linux (openEuler 24.03 LTS) / aarch64 | OK | OK | OK | ||||||||||
|
To the developers/maintainers of the rqt package: - Allow up to 24 hours (and sometimes 48 hours) for your latest push to git@git.bioconductor.org:packages/rqt.git to reflect on this report. See Troubleshooting Build Report for more information. - Use the following Renviron settings to reproduce errors and warnings. - If 'R CMD check' started to fail recently on the Linux builder(s) over a missing dependency, add the missing dependency to 'Suggests:' in your DESCRIPTION file. See Renviron.bioc for more information. |
| Package: rqt |
| Version: 1.35.0 |
| Command: F:\biocbuild\bbs-3.22-bioc\R\bin\R.exe CMD check --no-multiarch --install=check:rqt.install-out.txt --library=F:\biocbuild\bbs-3.22-bioc\R\library --no-vignettes --timings rqt_1.35.0.tar.gz |
| StartedAt: 2025-08-15 07:17:32 -0400 (Fri, 15 Aug 2025) |
| EndedAt: 2025-08-15 07:20:59 -0400 (Fri, 15 Aug 2025) |
| EllapsedTime: 207.1 seconds |
| RetCode: 0 |
| Status: OK |
| CheckDir: rqt.Rcheck |
| Warnings: 0 |
##############################################################################
##############################################################################
###
### Running command:
###
### F:\biocbuild\bbs-3.22-bioc\R\bin\R.exe CMD check --no-multiarch --install=check:rqt.install-out.txt --library=F:\biocbuild\bbs-3.22-bioc\R\library --no-vignettes --timings rqt_1.35.0.tar.gz
###
##############################################################################
##############################################################################
* using log directory 'F:/biocbuild/bbs-3.22-bioc/meat/rqt.Rcheck'
* using R version 4.5.1 (2025-06-13 ucrt)
* using platform: x86_64-w64-mingw32
* R was compiled by
gcc.exe (GCC) 14.2.0
GNU Fortran (GCC) 14.2.0
* running under: Windows Server 2022 x64 (build 20348)
* using session charset: UTF-8
* using option '--no-vignettes'
* checking for file 'rqt/DESCRIPTION' ... OK
* checking extension type ... Package
* this is package 'rqt' version '1.35.0'
* package encoding: UTF-8
* checking package namespace information ... OK
* checking package dependencies ... OK
* checking if this is a source package ... OK
* checking if there is a namespace ... OK
* checking for hidden files and directories ... OK
* checking for portable file names ... OK
* checking whether package 'rqt' can be installed ... OK
* checking installed package size ... OK
* checking package directory ... OK
* checking 'build' directory ... OK
* checking DESCRIPTION meta-information ... OK
* checking top-level files ... OK
* checking for left-over files ... OK
* checking index information ... OK
* checking package subdirectories ... OK
* checking code files for non-ASCII characters ... OK
* checking R files for syntax errors ... OK
* checking whether the package can be loaded ... OK
* checking whether the package can be loaded with stated dependencies ... OK
* checking whether the package can be unloaded cleanly ... OK
* checking whether the namespace can be loaded with stated dependencies ... OK
* checking whether the namespace can be unloaded cleanly ... OK
* checking dependencies in R code ... OK
* checking S3 generic/method consistency ... OK
* checking replacement functions ... OK
* checking foreign function calls ... OK
* checking R code for possible problems ... OK
* checking Rd files ... OK
* checking Rd metadata ... OK
* checking Rd cross-references ... OK
* checking for missing documentation entries ... OK
* checking for code/documentation mismatches ... OK
* checking Rd \usage sections ... OK
* checking Rd contents ... OK
* checking for unstated dependencies in examples ... OK
* checking R/sysdata.rda ... OK
* checking files in 'vignettes' ... OK
* checking examples ... OK
* checking for unstated dependencies in 'tests' ... OK
* checking tests ...
Running 'runTests.R'
OK
* checking for unstated dependencies in vignettes ... OK
* checking package vignettes ... OK
* checking running R code from vignettes ... SKIPPED
* checking re-building of vignette outputs ... SKIPPED
* checking PDF version of manual ... OK
* DONE
Status: OK
rqt.Rcheck/00install.out
############################################################################## ############################################################################## ### ### Running command: ### ### F:\biocbuild\bbs-3.22-bioc\R\bin\R.exe CMD INSTALL rqt ### ############################################################################## ############################################################################## * installing to library 'F:/biocbuild/bbs-3.22-bioc/R/library' * installing *source* package 'rqt' ... ** this is package 'rqt' version '1.35.0' ** using staged installation ** R ** inst ** byte-compile and prepare package for lazy loading ** help *** installing help indices ** building package indices ** installing vignettes ** testing if installed package can be loaded from temporary location ** testing if installed package can be loaded from final location ** testing if installed package keeps a record of temporary installation path * DONE (rqt)
rqt.Rcheck/tests/runTests.Rout
R version 4.5.1 (2025-06-13 ucrt) -- "Great Square Root"
Copyright (C) 2025 The R Foundation for Statistical Computing
Platform: x86_64-w64-mingw32/x64
R is free software and comes with ABSOLUTELY NO WARRANTY.
You are welcome to redistribute it under certain conditions.
Type 'license()' or 'licence()' for distribution details.
R is a collaborative project with many contributors.
Type 'contributors()' for more information and
'citation()' on how to cite R or R packages in publications.
Type 'demo()' for some demos, 'help()' for on-line help, or
'help.start()' for an HTML browser interface to help.
Type 'q()' to quit R.
> # Adapted from: http://rwiki.sciviews.org/doku.php?id=developers:runit
>
> if( identical( .Platform$OS.type, "windows" ) &&
+ identical( .Platform$r_arch, "x64" ) ){
+ print( "unit tests not run on windows 64 (workaround alert)" )
+ } else {
+ if(require("RUnit", quietly = TRUE)) {
+ pkg <- "rqt"
+ if(Sys.getenv("RCMDCHECK") == "FALSE") {
+ path <- file.path(getwd(), "..", "inst", "unitTests")
+ } else {
+ path <- system.file(package=pkg, "unitTests")
+ }
+
+ cat("\nRunning unit tests:\n")
+ print(list(pkg=pkg, getwd=getwd(), pathToUnitTests=path))
+
+ library(package=pkg, character.only=TRUE)
+
+ # Define tests
+ testSuite <- defineTestSuite(name=paste(pkg, "unit testing"),
+ dirs=path,
+ testFuncRegexp = "^test_+",
+ testFileRegexp = "^test_+")
+
+ # Run
+ tests <- runTestSuite(testSuite)
+
+ # Default report name
+ pathReport <- file.path(path, "report")
+
+ # Report to stdout
+ printTextProtocol(tests, showDetails=FALSE)
+
+ # Return stop() to cause R CMD check stop in case of
+ # - failures i.e. FALSE to unit tests or
+ # - errors i.e. R errors
+ tmp <- getErrors(tests)
+ if(tmp$nFail > 0 | tmp$nErr > 0) {
+ stop(paste("\n\nUnit testing failed (#test failures: ", tmp$nFail, ",
+ #R errors: ", tmp$nErr, ")\n\n", sep=""))
+ }
+
+ } else {
+ print( "package RUnit not available, cannot run unit tests" )
+ }
+ }
[1] "unit tests not run on windows 64 (workaround alert)"
>
> proc.time()
user system elapsed
0.17 0.06 0.21
rqt.Rcheck/rqt-Ex.timings
| name | user | system | elapsed | |
| rqt-covariates | 0.1 | 0.0 | 0.1 | |
| rqt-geneTest | 0.09 | 0.02 | 0.11 | |
| rqt-geneTestMeta | 0.37 | 0.04 | 0.43 | |
| rqt-genotype | 0.05 | 0.00 | 0.04 | |
| rqt-methods | 0.05 | 0.00 | 0.05 | |
| rqt-phenotype | 0.03 | 0.00 | 0.03 | |
| rqt-results | 0.77 | 0.00 | 0.76 | |