| Back to Build/check report for BioC 3.23: simplified long |
|
This page was generated on 2025-11-06 11:32 -0500 (Thu, 06 Nov 2025).
| Hostname | OS | Arch (*) | R version | Installed pkgs |
|---|---|---|---|---|
| nebbiolo1 | Linux (Ubuntu 24.04.3 LTS) | x86_64 | R Under development (unstable) (2025-10-20 r88955) -- "Unsuffered Consequences" | 4818 |
| Click on any hostname to see more info about the system (e.g. compilers) (*) as reported by 'uname -p', except on Windows and Mac OS X | ||||
| Package 1735/2323 | Hostname | OS / Arch | INSTALL | BUILD | CHECK | BUILD BIN | ||||||||
| regioneR 1.43.0 (landing page) Bernat Gel
| nebbiolo1 | Linux (Ubuntu 24.04.3 LTS) / x86_64 | OK | OK | OK | |||||||||
|
To the developers/maintainers of the regioneR package: - Allow up to 24 hours (and sometimes 48 hours) for your latest push to git@git.bioconductor.org:packages/regioneR.git to reflect on this report. See Troubleshooting Build Report for more information. - Use the following Renviron settings to reproduce errors and warnings. - If 'R CMD check' started to fail recently on the Linux builder(s) over a missing dependency, add the missing dependency to 'Suggests:' in your DESCRIPTION file. See Renviron.bioc for more information. |
| Package: regioneR |
| Version: 1.43.0 |
| Command: /home/biocbuild/bbs-3.23-bioc/R/bin/R CMD check --install=check:regioneR.install-out.txt --library=/home/biocbuild/bbs-3.23-bioc/R/site-library --timings regioneR_1.43.0.tar.gz |
| StartedAt: 2025-11-06 03:03:14 -0500 (Thu, 06 Nov 2025) |
| EndedAt: 2025-11-06 03:11:39 -0500 (Thu, 06 Nov 2025) |
| EllapsedTime: 504.8 seconds |
| RetCode: 0 |
| Status: OK |
| CheckDir: regioneR.Rcheck |
| Warnings: 0 |
##############################################################################
##############################################################################
###
### Running command:
###
### /home/biocbuild/bbs-3.23-bioc/R/bin/R CMD check --install=check:regioneR.install-out.txt --library=/home/biocbuild/bbs-3.23-bioc/R/site-library --timings regioneR_1.43.0.tar.gz
###
##############################################################################
##############################################################################
* using log directory ‘/home/biocbuild/bbs-3.23-bioc/meat/regioneR.Rcheck’
* using R Under development (unstable) (2025-10-20 r88955)
* using platform: x86_64-pc-linux-gnu
* R was compiled by
gcc (Ubuntu 13.3.0-6ubuntu2~24.04) 13.3.0
GNU Fortran (Ubuntu 13.3.0-6ubuntu2~24.04) 13.3.0
* running under: Ubuntu 24.04.3 LTS
* using session charset: UTF-8
* checking for file ‘regioneR/DESCRIPTION’ ... OK
* checking extension type ... Package
* this is package ‘regioneR’ version ‘1.43.0’
* package encoding: UTF-8
* checking package namespace information ... OK
* checking package dependencies ... OK
* checking if this is a source package ... OK
* checking if there is a namespace ... OK
* checking for hidden files and directories ... OK
* checking for portable file names ... OK
* checking for sufficient/correct file permissions ... OK
* checking whether package ‘regioneR’ can be installed ... OK
* checking installed package size ... OK
* checking package directory ... OK
* checking ‘build’ directory ... OK
* checking DESCRIPTION meta-information ... NOTE
Package listed in more than one of Depends, Imports, Suggests, Enhances:
‘GenomicRanges’
A package should be listed in only one of these fields.
* checking top-level files ... OK
* checking for left-over files ... OK
* checking index information ... OK
* checking package subdirectories ... OK
* checking code files for non-ASCII characters ... OK
* checking R files for syntax errors ... OK
* checking whether the package can be loaded ... OK
* checking whether the package can be loaded with stated dependencies ... OK
* checking whether the package can be unloaded cleanly ... OK
* checking whether the namespace can be loaded with stated dependencies ... OK
* checking whether the namespace can be unloaded cleanly ... OK
* checking loading without being on the library search path ... OK
* checking dependencies in R code ... OK
* checking S3 generic/method consistency ... OK
* checking replacement functions ... OK
* checking foreign function calls ... OK
* checking R code for possible problems ... OK
* checking Rd files ... OK
* checking Rd metadata ... OK
* checking Rd cross-references ... NOTE
Found the following Rd file(s) with Rd \link{} targets missing package
anchors:
characterToBSGenome.Rd: BSgenome
circularRandomizeRegions.Rd: GenomicRanges, BSgenome
commonRegions.Rd: GenomicRanges
createRandomRegions.Rd: GenomicRanges, BSgenome
extendRegions.Rd: GenomicRanges
filterChromosomes.Rd: GenomicRanges, BSgenome, GRanges
getGenome.Rd: BSgenome, GRanges, memoise, forget
getGenomeAndMask.Rd: BSgenome, memoise, forget
getMask.Rd: BSgenome, GRanges, memoise, forget
joinRegions.Rd: GenomicRanges, reduce
localZScore.Rd: GenomicRanges
maskFromBSGenome.Rd: BSgenome, GRanges, memoise, forget
meanDistance.Rd: GenomicRanges
meanInRegions.Rd: GenomicRanges
mergeRegions.Rd: GenomicRanges, reduce
numOverlaps.Rd: GenomicRanges
overlapGraphicalSummary.Rd: GenomicRanges
overlapPermTest.Rd: GenomicRanges
overlapRegions.Rd: GenomicRanges, countOverlaps
permTest.Rd: GenomicRanges
randomizeRegions.Rd: GenomicRanges, BSgenome
resampleGenome.Rd: GenomicRanges
resampleRegions.Rd: GenomicRanges
splitRegions.Rd: GenomicRanges
subtractRegions.Rd: GenomicRanges
toDataframe.Rd: GRanges
toGRanges.Rd: GRanges, BSgenome
uniqueRegions.Rd: GenomicRanges
Please provide package anchors for all Rd \link{} targets not in the
package itself and the base packages.
* checking for missing documentation entries ... OK
* checking for code/documentation mismatches ... OK
* checking Rd \usage sections ... OK
* checking Rd contents ... OK
* checking for unstated dependencies in examples ... OK
* checking files in ‘vignettes’ ... OK
* checking examples ... OK
Examples with CPU (user + system) or elapsed time > 5s
user system elapsed
circularRandomizeRegions 31.110 5.670 36.869
maskFromBSGenome 29.755 6.779 34.749
filterChromosomes 29.796 5.488 35.293
getMask 27.467 5.278 32.776
resampleGenome 8.547 0.571 9.119
* checking for unstated dependencies in ‘tests’ ... OK
* checking tests ...
Running ‘testthat.R’
OK
* checking for unstated dependencies in vignettes ... OK
* checking package vignettes ... OK
* checking re-building of vignette outputs ... OK
* checking PDF version of manual ... OK
* DONE
Status: 2 NOTEs
See
‘/home/biocbuild/bbs-3.23-bioc/meat/regioneR.Rcheck/00check.log’
for details.
regioneR.Rcheck/00install.out
############################################################################## ############################################################################## ### ### Running command: ### ### /home/biocbuild/bbs-3.23-bioc/R/bin/R CMD INSTALL regioneR ### ############################################################################## ############################################################################## * installing to library ‘/home/biocbuild/bbs-3.23-bioc/R/site-library’ * installing *source* package ‘regioneR’ ... ** this is package ‘regioneR’ version ‘1.43.0’ ** using staged installation ** R ** inst ** byte-compile and prepare package for lazy loading ** help *** installing help indices ** building package indices ** installing vignettes ** testing if installed package can be loaded from temporary location ** testing if installed package can be loaded from final location ** testing if installed package keeps a record of temporary installation path * DONE (regioneR)
regioneR.Rcheck/tests/testthat.Rout
R Under development (unstable) (2025-10-20 r88955) -- "Unsuffered Consequences"
Copyright (C) 2025 The R Foundation for Statistical Computing
Platform: x86_64-pc-linux-gnu
R is free software and comes with ABSOLUTELY NO WARRANTY.
You are welcome to redistribute it under certain conditions.
Type 'license()' or 'licence()' for distribution details.
R is a collaborative project with many contributors.
Type 'contributors()' for more information and
'citation()' on how to cite R or R packages in publications.
Type 'demo()' for some demos, 'help()' for on-line help, or
'help.start()' for an HTML browser interface to help.
Type 'q()' to quit R.
> library(testthat)
> library(regioneR)
Loading required package: GenomicRanges
Loading required package: stats4
Loading required package: BiocGenerics
Loading required package: generics
Attaching package: 'generics'
The following objects are masked from 'package:base':
as.difftime, as.factor, as.ordered, intersect, is.element, setdiff,
setequal, union
Attaching package: 'BiocGenerics'
The following objects are masked from 'package:stats':
IQR, mad, sd, var, xtabs
The following objects are masked from 'package:base':
Filter, Find, Map, Position, Reduce, anyDuplicated, aperm, append,
as.data.frame, basename, cbind, colnames, dirname, do.call,
duplicated, eval, evalq, get, grep, grepl, is.unsorted, lapply,
mapply, match, mget, order, paste, pmax, pmax.int, pmin, pmin.int,
rank, rbind, rownames, sapply, saveRDS, table, tapply, unique,
unsplit, which.max, which.min
Loading required package: S4Vectors
Attaching package: 'S4Vectors'
The following object is masked from 'package:utils':
findMatches
The following objects are masked from 'package:base':
I, expand.grid, unname
Loading required package: IRanges
Loading required package: Seqinfo
>
> test_check("regioneR")
[ FAIL 0 | WARN 0 | SKIP 0 | PASS 89 ]
>
> proc.time()
user system elapsed
44.195 6.416 50.603
regioneR.Rcheck/regioneR-Ex.timings
| name | user | system | elapsed | |
| characterToBSGenome | 0.938 | 0.033 | 0.972 | |
| circularRandomizeRegions | 31.110 | 5.670 | 36.869 | |
| commonRegions | 0.240 | 0.001 | 0.240 | |
| createFunctionsList | 0.447 | 0.008 | 0.455 | |
| createRandomRegions | 0.19 | 0.00 | 0.19 | |
| emptyCacheRegioneR | 0.001 | 0.000 | 0.000 | |
| extendRegions | 0.118 | 0.001 | 0.118 | |
| filterChromosomes | 29.796 | 5.488 | 35.293 | |
| getChromosomesByOrganism | 0.001 | 0.000 | 0.001 | |
| getGenome | 0.185 | 0.001 | 0.186 | |
| getGenomeAndMask | 0.045 | 0.001 | 0.046 | |
| getMask | 27.467 | 5.278 | 32.776 | |
| joinRegions | 0.103 | 0.001 | 0.103 | |
| listChrTypes | 0.007 | 0.000 | 0.007 | |
| localZScore | 3.022 | 0.359 | 4.280 | |
| maskFromBSGenome | 29.755 | 6.779 | 34.749 | |
| meanDistance | 0.074 | 0.001 | 0.075 | |
| meanInRegions | 0.096 | 0.002 | 0.098 | |
| mergeRegions | 0.092 | 0.001 | 0.093 | |
| numOverlaps | 0.166 | 0.000 | 0.166 | |
| overlapGraphicalSummary | 0.086 | 0.001 | 0.088 | |
| overlapPermTest | 1.676 | 0.013 | 1.690 | |
| overlapRegions | 0.042 | 0.000 | 0.042 | |
| permTest | 1.148 | 0.009 | 1.156 | |
| plot.localZScoreResults | 1.209 | 0.001 | 1.211 | |
| plot.localZScoreResultsList | 2.463 | 0.015 | 2.479 | |
| plot.permTestResults | 1.747 | 0.018 | 1.765 | |
| plot.permTestResultsList | 1.958 | 0.047 | 2.005 | |
| plotRegions | 0.038 | 0.000 | 0.038 | |
| print.permTestResults | 1.109 | 0.045 | 1.154 | |
| randomizeRegions | 0.207 | 0.000 | 0.208 | |
| recomputePermTest | 0.800 | 0.005 | 0.805 | |
| resampleGenome | 8.547 | 0.571 | 9.119 | |
| resampleRegions | 0.04 | 0.00 | 0.04 | |
| splitRegions | 0.069 | 0.001 | 0.069 | |
| subtractRegions | 0.169 | 0.001 | 0.170 | |
| toDataframe | 0.019 | 0.000 | 0.018 | |
| toGRanges | 0.591 | 0.014 | 0.605 | |
| uniqueRegions | 0.313 | 0.001 | 0.314 | |